{"text_format":"1","workbook":"xlsx","n_sheets":24,"sheets":["Dataset","HSL","LVM","LSS","SOL","BU","THR","MFR_LMED","MFR_IVF","MFR_FOK","CAN","CAN_BC","DORS","Register","Variabellista","LMED","MFR","PAR_SV","PAR_OV","PAR_IDB","kod","Verifikation","EKB_AR","EKB_MAN"],"not_rendered":{"charts":0,"images":1,"macros":1,"external_links":0,"defined_names":27,"comments":17,"pivot_tables":0},"unopened":[],"bounds":{"document_bytes":16777216,"sheet_cells":100000,"rows_first":2000,"rows_last":500,"rows_between":2000,"halvings":0,"cell_chars":16384,"cell_head_chars":4096},"cells_cut":0,"cells_raw":0,"read":"whole","date_system":"1900"}

{"sheet":"Dataset","index":0,"n_rows":133,"n_cols":20,"rows_kept":133,"cut":false,"hidden":true,"merged":[]}
["RegisterFliknamn","Registernamn","Från","Till","Dataset","RegisterMin","RegisterMax","SASkatalog","DelRegister","ICD10","ICD9","ICD8 ","ICD7"]
["CAN","Cancerregistret",1958,2020,"r_can",{"$f":"MIN(IF($B$2:$B$133=B2,$C$2:$C$133,FALSE))","v":1958},{"$f":"MAX(IF($B$2:$B$133=B2,$D$2:$D$133,FALSE))","v":2020},"R_CAN"]
["CAN_BC","Basalcellscancerregistret",2004,2020,"r_can_bc",{"$f":"MIN(IF($B$2:$B$133=B3,$C$2:$C$133,FALSE))","v":2004},{"$f":"MAX(IF($B$2:$B$133=B3,$D$2:$D$133,FALSE))","v":2020},"R_CAN","BC"]
["DORS","Dödsorsaksregistret (inkl. avi)",2021,2022,"r_dors_avi",{"$f":"MIN(IF($B$2:$B$133=B4,$C$2:$C$133,FALSE))","v":1952},{"$f":"MAX(IF($B$2:$B$133=B4,$D$2:$D$133,FALSE))","v":2022},"R_DORS"]
["DORS","Dödsorsaksregistret (inkl. avi)",1997,2021,"r_dors",{"$f":"MIN(IF($B$2:$B$133=B5,$C$2:$C$133,FALSE))","v":1952},{"$f":"MAX(IF($B$2:$B$133=B5,$D$2:$D$133,FALSE))","v":2022},"R_DORS"]
["DORS","Dödsorsaksregistret (inkl. avi)",1987,1996,"r_dors_19871996",{"$f":"MIN(IF($B$2:$B$133=B6,$C$2:$C$133,FALSE))","v":1952},{"$f":"MAX(IF($B$2:$B$133=B6,$D$2:$D$133,FALSE))","v":2022},"R_DORS"]
["DORS","Dödsorsaksregistret (inkl. avi)",1969,1986,"r_dors_19691986",{"$f":"MIN(IF($B$2:$B$133=B7,$C$2:$C$133,FALSE))","v":1952},{"$f":"MAX(IF($B$2:$B$133=B7,$D$2:$D$133,FALSE))","v":2022},"R_DORS",null,null,null,null,null,null,null,null,null,null,null,true]
["DORS","Dödsorsaksregistret (inkl. avi)",1961,1968,"r_dors_19611968",{"$f":"MIN(IF($B$2:$B$133=B8,$C$2:$C$133,FALSE))","v":1952},{"$f":"MAX(IF($B$2:$B$133=B8,$D$2:$D$133,FALSE))","v":2022},"R_DORS"]
["DORS","Dödsorsaksregistret (inkl. avi)",1958,1960,"r_dors_19581960",{"$f":"MIN(IF($B$2:$B$133=B9,$C$2:$C$133,FALSE))","v":1952},{"$f":"MAX(IF($B$2:$B$133=B9,$D$2:$D$133,FALSE))","v":2022},"R_DORS"]
["DORS","Dödsorsaksregistret (inkl. avi)",1952,1957,"r_dors_19521957",{"$f":"MIN(IF($B$2:$B$133=B10,$C$2:$C$133,FALSE))","v":1952},{"$f":"MAX(IF($B$2:$B$133=B10,$D$2:$D$133,FALSE))","v":2022},"R_DORS"]
["LMED","Läkemedelsregistret",2005,2005,"r_lmed2005",{"$f":"MIN(IF($B$2:$B$133=B11,$C$2:$C$133,FALSE))","v":2005},{"$f":"MAX(IF($B$2:$B$133=B11,$D$2:$D$133,FALSE))","v":2022},"R_LMED"]
["LMED","Läkemedelsregistret",2006,2006,"r_lmed2006",{"$f":"MIN(IF($B$2:$B$133=B12,$C$2:$C$133,FALSE))","v":2005},{"$f":"MAX(IF($B$2:$B$133=B12,$D$2:$D$133,FALSE))","v":2022},"R_LMED"]
["LMED","Läkemedelsregistret",2007,2007,"r_lmed2007",{"$f":"MIN(IF($B$2:$B$133=B13,$C$2:$C$133,FALSE))","v":2005},{"$f":"MAX(IF($B$2:$B$133=B13,$D$2:$D$133,FALSE))","v":2022},"R_LMED"]
["LMED","Läkemedelsregistret",2008,2008,"r_lmed2008",{"$f":"MIN(IF($B$2:$B$133=B14,$C$2:$C$133,FALSE))","v":2005},{"$f":"MAX(IF($B$2:$B$133=B14,$D$2:$D$133,FALSE))","v":2022},"R_LMED"]
["LMED","Läkemedelsregistret",2009,2009,"r_lmed2009",{"$f":"MIN(IF($B$2:$B$133=B15,$C$2:$C$133,FALSE))","v":2005},{"$f":"MAX(IF($B$2:$B$133=B15,$D$2:$D$133,FALSE))","v":2022},"R_LMED"]
["LMED","Läkemedelsregistret",2010,2010,"r_lmed2010",{"$f":"MIN(IF($B$2:$B$133=B16,$C$2:$C$133,FALSE))","v":2005},{"$f":"MAX(IF($B$2:$B$133=B16,$D$2:$D$133,FALSE))","v":2022},"R_LMED"]
["LMED","Läkemedelsregistret",2011,2011,"r_lmed2011",{"$f":"MIN(IF($B$2:$B$133=B17,$C$2:$C$133,FALSE))","v":2005},{"$f":"MAX(IF($B$2:$B$133=B17,$D$2:$D$133,FALSE))","v":2022},"R_LMED"]
["LMED","Läkemedelsregistret",2012,2012,"r_lmed2012",{"$f":"MIN(IF($B$2:$B$133=B18,$C$2:$C$133,FALSE))","v":2005},{"$f":"MAX(IF($B$2:$B$133=B18,$D$2:$D$133,FALSE))","v":2022},"R_LMED"]
["LMED","Läkemedelsregistret",2013,2013,"r_lmed2013",{"$f":"MIN(IF($B$2:$B$133=B19,$C$2:$C$133,FALSE))","v":2005},{"$f":"MAX(IF($B$2:$B$133=B19,$D$2:$D$133,FALSE))","v":2022},"R_LMED"]
["LMED","Läkemedelsregistret",2014,2014,"r_lmed2014",{"$f":"MIN(IF($B$2:$B$133=B20,$C$2:$C$133,FALSE))","v":2005},{"$f":"MAX(IF($B$2:$B$133=B20,$D$2:$D$133,FALSE))","v":2022},"R_LMED"]
["LMED","Läkemedelsregistret",2015,2015,"r_lmed2015",{"$f":"MIN(IF($B$2:$B$133=B21,$C$2:$C$133,FALSE))","v":2005},{"$f":"MAX(IF($B$2:$B$133=B21,$D$2:$D$133,FALSE))","v":2022},"R_LMED"]
["LMED","Läkemedelsregistret",2016,2016,"r_lmed2016",{"$f":"MIN(IF($B$2:$B$133=B22,$C$2:$C$133,FALSE))","v":2005},{"$f":"MAX(IF($B$2:$B$133=B22,$D$2:$D$133,FALSE))","v":2022},"R_LMED"]
["LMED","Läkemedelsregistret",2017,2017,"r_lmed2017",{"$f":"MIN(IF($B$2:$B$133=B23,$C$2:$C$133,FALSE))","v":2005},{"$f":"MAX(IF($B$2:$B$133=B23,$D$2:$D$133,FALSE))","v":2022},"R_LMED"]
["LMED","Läkemedelsregistret",2018,2018,"r_lmed2018",{"$f":"MIN(IF($B$2:$B$133=B24,$C$2:$C$133,FALSE))","v":2005},{"$f":"MAX(IF($B$2:$B$133=B24,$D$2:$D$133,FALSE))","v":2022},"R_LMED"]
["LMED","Läkemedelsregistret",2019,2019,"r_lmed2019",{"$f":"MIN(IF($B$2:$B$133=B25,$C$2:$C$133,FALSE))","v":2005},{"$f":"MAX(IF($B$2:$B$133=B25,$D$2:$D$133,FALSE))","v":2022},"R_LMED"]
["LMED","Läkemedelsregistret",2020,2020,"r_lmed2020",{"$f":"MIN(IF($B$2:$B$133=B26,$C$2:$C$133,FALSE))","v":2005},{"$f":"MAX(IF($B$2:$B$133=B26,$D$2:$D$133,FALSE))","v":2022},"R_LMED"]
["LMED","Läkemedelsregistret",2021,2021,"r_lmed2021",{"$f":"MIN(IF($B$2:$B$133=B27,$C$2:$C$133,FALSE))","v":2005},{"$f":"MAX(IF($B$2:$B$133=B27,$D$2:$D$133,FALSE))","v":2022},"R_LMED"]
["LMED","Läkemedelsregistret",2022,2022,"r_lmed2022",{"$f":"MIN(IF($B$2:$B$133=B28,$C$2:$C$133,FALSE))","v":2005},{"$f":"MAX(IF($B$2:$B$133=B28,$D$2:$D$133,FALSE))","v":2022},"R_LMED"]
["MFR","Medicinska Födelseregistret",1973,2020,"r_mfr",{"$f":"MIN(IF($B$2:$B$133=B29,$C$2:$C$133,FALSE))","v":1973},{"$f":"MAX(IF($B$2:$B$133=B29,$D$2:$D$133,FALSE))","v":2020},"R_MFR","MFR"]
["MFR_LMED","Medicinska Födelseregistret Läkemedel",2013,2019,"r_mfr_lmed",{"$f":"MIN(IF($B$2:$B$133=B30,$C$2:$C$133,FALSE))","v":1995},{"$f":"MAX(IF($B$2:$B$133=B30,$D$2:$D$133,FALSE))","v":2019},"R_MFR","LMED"]
["MFR_LMED","Medicinska Födelseregistret Läkemedel",1995,2012,"r_mfr_lmed_mhv1",{"$f":"MIN(IF($B$2:$B$133=B31,$C$2:$C$133,FALSE))","v":1995},{"$f":"MAX(IF($B$2:$B$133=B31,$D$2:$D$133,FALSE))","v":2019},"R_MFR","LMED"]
["MFR_LMED","Medicinska Födelseregistret Läkemedel",1995,2004,"r_mfr_lmed_mhv2 ",{"$f":"MIN(IF($B$2:$B$133=B32,$C$2:$C$133,FALSE))","v":1995},{"$f":"MAX(IF($B$2:$B$133=B32,$D$2:$D$133,FALSE))","v":2019},"R_MFR","LMED"]
["MFR_IVF","Medicinska Födelseregistret IVF",2002,2006,"r_mfr_ivf_20022006",{"$f":"MIN(IF($B$2:$B$133=B33,$C$2:$C$133,FALSE))","v":1982},{"$f":"MAX(IF($B$2:$B$133=B33,$D$2:$D$133,FALSE))","v":2006},"R_MFR","IVF"]
["MFR_IVF","Medicinska Födelseregistret IVF",1982,2001,"r_mfr_ivf_19822001",{"$f":"MIN(IF($B$2:$B$133=B34,$C$2:$C$133,FALSE))","v":1982},{"$f":"MAX(IF($B$2:$B$133=B34,$D$2:$D$133,FALSE))","v":2006},"R_MFR","IVF"]
["MFR_FOK","Registret över fosterskador och kromosomavvikelser",1999,2016,"r_mfr_fok",{"$f":"MIN(IF($B$2:$B$133=B35,$C$2:$C$133,FALSE))","v":1965},{"$f":"MAX(IF($B$2:$B$133=B35,$D$2:$D$133,FALSE))","v":2016},"R_MFR","FOK"]
["MFR_FOK","Registret över fosterskador och kromosomavvikelser",1965,1998,"r_mfr_fok_19651998",{"$f":"MIN(IF($B$2:$B$133=B36,$C$2:$C$133,FALSE))","v":1965},{"$f":"MAX(IF($B$2:$B$133=B36,$D$2:$D$133,FALSE))","v":2016},"R_MFR","FOK"]
["PAR_SV","Patientregistret Slutenvård",2021,2022,"r_par_sv",{"$f":"MIN(IF($B$2:$B$133=B37,$C$2:$C$133,FALSE))","v":1964},{"$f":"MAX(IF($B$2:$B$133=B37,$D$2:$D$133,FALSE))","v":2022},"R_PAR","SV","YES","NO","NO","NO"]
["PAR_SV","Patientregistret Slutenvård",2021,2021,"r_par_sv_2021_ver1",{"$f":"MIN(IF($B$2:$B$133=B38,$C$2:$C$133,FALSE))","v":1964},{"$f":"MAX(IF($B$2:$B$133=B38,$D$2:$D$133,FALSE))","v":2022},"R_PAR","SV","YES","NO","NO","NO"]
["PAR_SV","Patientregistret Slutenvård",2020,2020,"r_par_sv_2020_ver2",{"$f":"MIN(IF($B$2:$B$133=B39,$C$2:$C$133,FALSE))","v":1964},{"$f":"MAX(IF($B$2:$B$133=B39,$D$2:$D$133,FALSE))","v":2022},"R_PAR","SV","YES","NO","NO","NO"]
["PAR_SV","Patientregistret Slutenvård",2019,2019,"r_par_sv_2019_ver4",{"$f":"MIN(IF($B$2:$B$133=B40,$C$2:$C$133,FALSE))","v":1964},{"$f":"MAX(IF($B$2:$B$133=B40,$D$2:$D$133,FALSE))","v":2022},"R_PAR","SV","YES","NO","NO","NO"]
["PAR_SV","Patientregistret Slutenvård",2018,2018,"r_par_sv_2018_ver6",{"$f":"MIN(IF($B$2:$B$133=B41,$C$2:$C$133,FALSE))","v":1964},{"$f":"MAX(IF($B$2:$B$133=B41,$D$2:$D$133,FALSE))","v":2022},"R_PAR","SV","YES","NO","NO","NO"]
["PAR_SV","Patientregistret Slutenvård",2017,2017,"r_par_sv_2017_ver7",{"$f":"MIN(IF($B$2:$B$133=B42,$C$2:$C$133,FALSE))","v":1964},{"$f":"MAX(IF($B$2:$B$133=B42,$D$2:$D$133,FALSE))","v":2022},"R_PAR","SV","YES","NO","NO","NO"]
["PAR_SV","Patientregistret Slutenvård",2016,2016,"r_par_sv_2016_ver5",{"$f":"MIN(IF($B$2:$B$133=B43,$C$2:$C$133,FALSE))","v":1964},{"$f":"MAX(IF($B$2:$B$133=B43,$D$2:$D$133,FALSE))","v":2022},"R_PAR","SV","YES","NO","NO","NO"]
["PAR_SV","Patientregistret Slutenvård",2015,2015,"r_par_sv_2015_ver6",{"$f":"MIN(IF($B$2:$B$133=B44,$C$2:$C$133,FALSE))","v":1964},{"$f":"MAX(IF($B$2:$B$133=B44,$D$2:$D$133,FALSE))","v":2022},"R_PAR","SV","YES","NO","NO","NO"]
["PAR_SV","Patientregistret Slutenvård",2014,2014,"r_par_sv_2014",{"$f":"MIN(IF($B$2:$B$133=B45,$C$2:$C$133,FALSE))","v":1964},{"$f":"MAX(IF($B$2:$B$133=B45,$D$2:$D$133,FALSE))","v":2022},"R_PAR","SV","YES","NO","NO","NO"]
["PAR_SV","Patientregistret Slutenvård",2013,2013,"r_par_sv_2013",{"$f":"MIN(IF($B$2:$B$133=B46,$C$2:$C$133,FALSE))","v":1964},{"$f":"MAX(IF($B$2:$B$133=B46,$D$2:$D$133,FALSE))","v":2022},"R_PAR","SV","YES","NO","NO","NO"]
["PAR_SV","Patientregistret Slutenvård",2012,2012,"r_par_sv_2012",{"$f":"MIN(IF($B$2:$B$133=B47,$C$2:$C$133,FALSE))","v":1964},{"$f":"MAX(IF($B$2:$B$133=B47,$D$2:$D$133,FALSE))","v":2022},"R_PAR","SV","YES","NO","NO","NO"]
["PAR_SV","Patientregistret Slutenvård",2011,2011,"r_par_sv_2011",{"$f":"MIN(IF($B$2:$B$133=B48,$C$2:$C$133,FALSE))","v":1964},{"$f":"MAX(IF($B$2:$B$133=B48,$D$2:$D$133,FALSE))","v":2022},"R_PAR","SV","YES","NO","NO","NO"]
["PAR_SV","Patientregistret Slutenvård",1998,2010,"r_par_sv_19982010",{"$f":"MIN(IF($B$2:$B$133=B49,$C$2:$C$133,FALSE))","v":1964},{"$f":"MAX(IF($B$2:$B$133=B49,$D$2:$D$133,FALSE))","v":2022},"R_PAR","SV","YES","NO","NO","NO"]
["PAR_SV","Patientregistret Slutenvård",1997,1997,"r_par_sv_1997",{"$f":"MIN(IF($B$2:$B$133=B50,$C$2:$C$133,FALSE))","v":1964},{"$f":"MAX(IF($B$2:$B$133=B50,$D$2:$D$133,FALSE))","v":2022},"R_PAR","SV","YES","YES","NO","NO"]
["PAR_SV","Patientregistret Slutenvård",1968,1968,"r_par_sv_1968_ofullst",{"$f":"MIN(IF($B$2:$B$133=B51,$C$2:$C$133,FALSE))","v":1964},{"$f":"MAX(IF($B$2:$B$133=B51,$D$2:$D$133,FALSE))","v":2022},"R_PAR","SV","NO","NO","YES","YES"]
["PAR_SV","Patientregistret Slutenvård",1964,1996,"r_par_sv_19641996",{"$f":"MIN(IF($B$2:$B$133=B52,$C$2:$C$133,FALSE))","v":1964},{"$f":"MAX(IF($B$2:$B$133=B52,$D$2:$D$133,FALSE))","v":2022},"R_PAR","SV","NO","YES","YES","YES"]
["PAR_OV","Patientregistret Öppenvård",2021,2022,"r_par_ov",{"$f":"MIN(IF($B$2:$B$133=B53,$C$2:$C$133,FALSE))","v":1997},{"$f":"MAX(IF($B$2:$B$133=B53,$D$2:$D$133,FALSE))","v":2022},"R_PAR","OV","YES","NO","NO","NO"]
["PAR_OV","Patientregistret Öppenvård",2021,2021,"r_par_ov_2021_ver1",{"$f":"MIN(IF($B$2:$B$133=B54,$C$2:$C$133,FALSE))","v":1997},{"$f":"MAX(IF($B$2:$B$133=B54,$D$2:$D$133,FALSE))","v":2022},"R_PAR","OV","YES","NO","NO","NO"]
["PAR_OV","Patientregistret Öppenvård",2020,2020,"r_par_ov_2020_ver2",{"$f":"MIN(IF($B$2:$B$133=B55,$C$2:$C$133,FALSE))","v":1997},{"$f":"MAX(IF($B$2:$B$133=B55,$D$2:$D$133,FALSE))","v":2022},"R_PAR","OV","YES","NO","NO","NO"]
["PAR_OV","Patientregistret Öppenvård",2019,2019,"r_par_ov_2019_ver4",{"$f":"MIN(IF($B$2:$B$133=B56,$C$2:$C$133,FALSE))","v":1997},{"$f":"MAX(IF($B$2:$B$133=B56,$D$2:$D$133,FALSE))","v":2022},"R_PAR","OV","YES","NO","NO","NO"]
["PAR_OV","Patientregistret Öppenvård",2018,2018,"r_par_ov_2018_ver6",{"$f":"MIN(IF($B$2:$B$133=B57,$C$2:$C$133,FALSE))","v":1997},{"$f":"MAX(IF($B$2:$B$133=B57,$D$2:$D$133,FALSE))","v":2022},"R_PAR","OV","YES","NO","NO","NO"]
["PAR_OV","Patientregistret Öppenvård",2017,2017,"r_par_ov_2017_ver6",{"$f":"MIN(IF($B$2:$B$133=B58,$C$2:$C$133,FALSE))","v":1997},{"$f":"MAX(IF($B$2:$B$133=B58,$D$2:$D$133,FALSE))","v":2022},"R_PAR","OV","YES","NO","NO","NO"]
["PAR_OV","Patientregistret Öppenvård",2016,2016,"r_par_ov_2016_ver5",{"$f":"MIN(IF($B$2:$B$133=B59,$C$2:$C$133,FALSE))","v":1997},{"$f":"MAX(IF($B$2:$B$133=B59,$D$2:$D$133,FALSE))","v":2022},"R_PAR","OV","YES","NO","NO","NO"]
["PAR_OV","Patientregistret Öppenvård",2015,2015,"r_par_ov_2015_ver6",{"$f":"MIN(IF($B$2:$B$133=B60,$C$2:$C$133,FALSE))","v":1997},{"$f":"MAX(IF($B$2:$B$133=B60,$D$2:$D$133,FALSE))","v":2022},"R_PAR","OV","YES","NO","NO","NO"]
["PAR_OV","Patientregistret Öppenvård",2014,2014,"r_par_ov_2014",{"$f":"MIN(IF($B$2:$B$133=B61,$C$2:$C$133,FALSE))","v":1997},{"$f":"MAX(IF($B$2:$B$133=B61,$D$2:$D$133,FALSE))","v":2022},"R_PAR","OV","YES","NO","NO","NO"]
["PAR_OV","Patientregistret Öppenvård",2013,2013,"r_par_ov_2013",{"$f":"MIN(IF($B$2:$B$133=B62,$C$2:$C$133,FALSE))","v":1997},{"$f":"MAX(IF($B$2:$B$133=B62,$D$2:$D$133,FALSE))","v":2022},"R_PAR","OV","YES","NO","NO","NO"]
["PAR_OV","Patientregistret Öppenvård",2012,2012,"r_par_ov_2012",{"$f":"MIN(IF($B$2:$B$133=B63,$C$2:$C$133,FALSE))","v":1997},{"$f":"MAX(IF($B$2:$B$133=B63,$D$2:$D$133,FALSE))","v":2022},"R_PAR","OV","YES","NO","NO","NO"]
["PAR_OV","Patientregistret Öppenvård",2011,2011,"r_par_ov_2011",{"$f":"MIN(IF($B$2:$B$133=B64,$C$2:$C$133,FALSE))","v":1997},{"$f":"MAX(IF($B$2:$B$133=B64,$D$2:$D$133,FALSE))","v":2022},"R_PAR","OV","YES","NO","NO","NO"]
["PAR_OV","Patientregistret Öppenvård",2006,2010,"r_par_ov_20062010",{"$f":"MIN(IF($B$2:$B$133=B65,$C$2:$C$133,FALSE))","v":1997},{"$f":"MAX(IF($B$2:$B$133=B65,$D$2:$D$133,FALSE))","v":2022},"R_PAR","OV","YES","NO","NO","NO"]
["PAR_OV","Patientregistret Öppenvård",2001,2005,"r_par_ov_20012005",{"$f":"MIN(IF($B$2:$B$133=B66,$C$2:$C$133,FALSE))","v":1997},{"$f":"MAX(IF($B$2:$B$133=B66,$D$2:$D$133,FALSE))","v":2022},"R_PAR","OV","YES","NO","NO","NO"]
["PAR_OV","Patientregistret Öppenvård",1997,2000,"r_par_dagk_19972000",{"$f":"MIN(IF($B$2:$B$133=B67,$C$2:$C$133,FALSE))","v":1997},{"$f":"MAX(IF($B$2:$B$133=B67,$D$2:$D$133,FALSE))","v":2022},"R_PAR","OV","YES","NO","NO","NO"]
["EKB_AR","Ekonomiskt bistånd EKB, År",2017,2021,"r_ekb_bistmott_ar",{"$f":"MIN(IF($B$2:$B$133=B68,$C$2:$C$133,FALSE))","v":1990},{"$f":"MAX(IF($B$2:$B$133=B68,$D$2:$D$133,FALSE))","v":2021},"R_EKB","AR_BISTMOTT"]
["EKB_AR","Ekonomiskt bistånd EKB, År",2017,2021,"r_ekb_hushall_ar",{"$f":"MIN(IF($B$2:$B$133=B69,$C$2:$C$133,FALSE))","v":1990},{"$f":"MAX(IF($B$2:$B$133=B69,$D$2:$D$133,FALSE))","v":2021},"R_EKB","AR_HUSHALL"]
["EKB_AR","Ekonomiskt bistånd EKB, År",2013,2016,"r_ekb_bistmott_20132016",{"$f":"MIN(IF($B$2:$B$133=B70,$C$2:$C$133,FALSE))","v":1990},{"$f":"MAX(IF($B$2:$B$133=B70,$D$2:$D$133,FALSE))","v":2021},"R_EKB","AR_BISTMOTT"]
["EKB_AR","Ekonomiskt bistånd EKB, År",2013,2016,"r_ekb_hushall_20132016",{"$f":"MIN(IF($B$2:$B$133=B71,$C$2:$C$133,FALSE))","v":1990},{"$f":"MAX(IF($B$2:$B$133=B71,$D$2:$D$133,FALSE))","v":2021},"R_EKB","AR_HUSHALL"]
["EKB_AR","Ekonomiskt bistånd EKB, År",2012,2012,"r_ekb_bistmott_2012",{"$f":"MIN(IF($B$2:$B$133=B72,$C$2:$C$133,FALSE))","v":1990},{"$f":"MAX(IF($B$2:$B$133=B72,$D$2:$D$133,FALSE))","v":2021},"R_EKB","AR_BISTMOTT"]
["EKB_AR","Ekonomiskt bistånd EKB, År",2012,2012,"r_ekb_hushall_2012",{"$f":"MIN(IF($B$2:$B$133=B73,$C$2:$C$133,FALSE))","v":1990},{"$f":"MAX(IF($B$2:$B$133=B73,$D$2:$D$133,FALSE))","v":2021},"R_EKB","AR_HUSHALL"]
["EKB_AR","Ekonomiskt bistånd EKB, År",2010,2011,"r_ekb_bistmott_20102011",{"$f":"MIN(IF($B$2:$B$133=B74,$C$2:$C$133,FALSE))","v":1990},{"$f":"MAX(IF($B$2:$B$133=B74,$D$2:$D$133,FALSE))","v":2021},"R_EKB","AR_BISTMOTT"]
["EKB_AR","Ekonomiskt bistånd EKB, År",2010,2011,"r_ekb_hushall_20102011",{"$f":"MIN(IF($B$2:$B$133=B75,$C$2:$C$133,FALSE))","v":1990},{"$f":"MAX(IF($B$2:$B$133=B75,$D$2:$D$133,FALSE))","v":2021},"R_EKB","AR_HUSHALL"]
["EKB_AR","Ekonomiskt bistånd EKB, År",2003,2009,"r_ekb_bistmott_20032009",{"$f":"MIN(IF($B$2:$B$133=B76,$C$2:$C$133,FALSE))","v":1990},{"$f":"MAX(IF($B$2:$B$133=B76,$D$2:$D$133,FALSE))","v":2021},"R_EKB","AR_BISTMOTT"]
["EKB_AR","Ekonomiskt bistånd EKB, År",2003,2009,"r_ekb_hushall_20032009",{"$f":"MIN(IF($B$2:$B$133=B77,$C$2:$C$133,FALSE))","v":1990},{"$f":"MAX(IF($B$2:$B$133=B77,$D$2:$D$133,FALSE))","v":2021},"R_EKB","AR_HUSHALL"]
["EKB_AR","Ekonomiskt bistånd EKB, År",2001,2002,"r_ekb_bistmott_20012002",{"$f":"MIN(IF($B$2:$B$133=B78,$C$2:$C$133,FALSE))","v":1990},{"$f":"MAX(IF($B$2:$B$133=B78,$D$2:$D$133,FALSE))","v":2021},"R_EKB","AR_BISTMOTT"]
["EKB_AR","Ekonomiskt bistånd EKB, År",2001,2002,"r_ekb_hushall_20012002",{"$f":"MIN(IF($B$2:$B$133=B79,$C$2:$C$133,FALSE))","v":1990},{"$f":"MAX(IF($B$2:$B$133=B79,$D$2:$D$133,FALSE))","v":2021},"R_EKB","AR_HUSHALL"]
["EKB_AR","Ekonomiskt bistånd EKB, År",1999,2000,"r_ekb_bistmott_19992000",{"$f":"MIN(IF($B$2:$B$133=B80,$C$2:$C$133,FALSE))","v":1990},{"$f":"MAX(IF($B$2:$B$133=B80,$D$2:$D$133,FALSE))","v":2021},"R_EKB","AR_BISTMOTT"]
["EKB_AR","Ekonomiskt bistånd EKB, År",1999,2000,"r_ekb_hushall_19992000",{"$f":"MIN(IF($B$2:$B$133=B81,$C$2:$C$133,FALSE))","v":1990},{"$f":"MAX(IF($B$2:$B$133=B81,$D$2:$D$133,FALSE))","v":2021},"R_EKB","AR_HUSHALL"]
["EKB_AR","Ekonomiskt bistånd EKB, År",1998,1998,"r_ekb_bistmott_1998",{"$f":"MIN(IF($B$2:$B$133=B82,$C$2:$C$133,FALSE))","v":1990},{"$f":"MAX(IF($B$2:$B$133=B82,$D$2:$D$133,FALSE))","v":2021},"R_EKB","AR_BISTMOTT"]
["EKB_AR","Ekonomiskt bistånd EKB, År",1998,1998,"r_ekb_hushall_1998",{"$f":"MIN(IF($B$2:$B$133=B83,$C$2:$C$133,FALSE))","v":1990},{"$f":"MAX(IF($B$2:$B$133=B83,$D$2:$D$133,FALSE))","v":2021},"R_EKB","AR_HUSHALL"]
["EKB_AR","Ekonomiskt bistånd EKB, År",1990,1997,"r_ekb_bistmott_19901997",{"$f":"MIN(IF($B$2:$B$133=B84,$C$2:$C$133,FALSE))","v":1990},{"$f":"MAX(IF($B$2:$B$133=B84,$D$2:$D$133,FALSE))","v":2021},"R_EKB","AR_BISTMOTT"]
["EKB_AR","Ekonomiskt bistånd EKB, År",1990,1997,"r_ekb_hushall_19901997",{"$f":"MIN(IF($B$2:$B$133=B85,$C$2:$C$133,FALSE))","v":1990},{"$f":"MAX(IF($B$2:$B$133=B85,$D$2:$D$133,FALSE))","v":2021},"R_EKB","AR_HUSHALL"]
["EKB_MAN","Ekonomiskt bistånd EKB, Månad",2014,2022,"r_ekb_bistmott_man",{"$f":"MIN(IF($B$2:$B$133=B86,$C$2:$C$133,FALSE))","v":2012},{"$f":"MAX(IF($B$2:$B$133=B86,$D$2:$D$133,FALSE))","v":2022},"R_EKB","MAN_BISTMOTT"]
["EKB_MAN","Ekonomiskt bistånd EKB, Månad",2014,2022,"r_ekb_hushall_man",{"$f":"MIN(IF($B$2:$B$133=B87,$C$2:$C$133,FALSE))","v":2012},{"$f":"MAX(IF($B$2:$B$133=B87,$D$2:$D$133,FALSE))","v":2022},"R_EKB","MAN_HUSHALL"]
["EKB_MAN","Ekonomiskt bistånd EKB, Månad",2012,2013,"r_ekb_bistmott_man_20122013",{"$f":"MIN(IF($B$2:$B$133=B88,$C$2:$C$133,FALSE))","v":2012},{"$f":"MAX(IF($B$2:$B$133=B88,$D$2:$D$133,FALSE))","v":2022},"R_EKB","MAN_BISTMOTT"]
["EKB_MAN","Ekonomiskt bistånd EKB, Månad",2012,2013,"r_ekb_hushall_man_20122013",{"$f":"MIN(IF($B$2:$B$133=B89,$C$2:$C$133,FALSE))","v":2012},{"$f":"MAX(IF($B$2:$B$133=B89,$D$2:$D$133,FALSE))","v":2022},"R_EKB","MAN_HUSHALL"]
["THR","Tandhälsoregistret THR",2008,2008,"r_thr_besok_2008",{"$f":"MIN(IF($B$2:$B$133=B90,$C$2:$C$133,FALSE))","v":2008},{"$f":"MAX(IF($B$2:$B$133=B90,$D$2:$D$133,FALSE))","v":2022},"R_THR","BESOK"]
["THR","Tandhälsoregistret THR",2009,2009,"r_thr_besok_2009",{"$f":"MIN(IF($B$2:$B$133=B91,$C$2:$C$133,FALSE))","v":2008},{"$f":"MAX(IF($B$2:$B$133=B91,$D$2:$D$133,FALSE))","v":2022},"R_THR","BESOK"]
["THR","Tandhälsoregistret THR",2010,2010,"r_thr_besok_2010",{"$f":"MIN(IF($B$2:$B$133=B92,$C$2:$C$133,FALSE))","v":2008},{"$f":"MAX(IF($B$2:$B$133=B92,$D$2:$D$133,FALSE))","v":2022},"R_THR","BESOK"]
["THR","Tandhälsoregistret THR",2011,2011,"r_thr_besok_2011",{"$f":"MIN(IF($B$2:$B$133=B93,$C$2:$C$133,FALSE))","v":2008},{"$f":"MAX(IF($B$2:$B$133=B93,$D$2:$D$133,FALSE))","v":2022},"R_THR","BESOK"]
["THR","Tandhälsoregistret THR",2012,2012,"r_thr_besok_2012",{"$f":"MIN(IF($B$2:$B$133=B94,$C$2:$C$133,FALSE))","v":2008},{"$f":"MAX(IF($B$2:$B$133=B94,$D$2:$D$133,FALSE))","v":2022},"R_THR","BESOK"]
["THR","Tandhälsoregistret THR",2013,2013,"r_thr_besok_2013",{"$f":"MIN(IF($B$2:$B$133=B95,$C$2:$C$133,FALSE))","v":2008},{"$f":"MAX(IF($B$2:$B$133=B95,$D$2:$D$133,FALSE))","v":2022},"R_THR","BESOK"]
["THR","Tandhälsoregistret THR",2014,2014,"r_thr_besok_2014",{"$f":"MIN(IF($B$2:$B$133=B96,$C$2:$C$133,FALSE))","v":2008},{"$f":"MAX(IF($B$2:$B$133=B96,$D$2:$D$133,FALSE))","v":2022},"R_THR","BESOK"]
["THR","Tandhälsoregistret THR",2015,2015,"r_thr_besok_2015",{"$f":"MIN(IF($B$2:$B$133=B97,$C$2:$C$133,FALSE))","v":2008},{"$f":"MAX(IF($B$2:$B$133=B97,$D$2:$D$133,FALSE))","v":2022},"R_THR","BESOK"]
["THR","Tandhälsoregistret THR",2016,2016,"r_thr_besok_2016",{"$f":"MIN(IF($B$2:$B$133=B98,$C$2:$C$133,FALSE))","v":2008},{"$f":"MAX(IF($B$2:$B$133=B98,$D$2:$D$133,FALSE))","v":2022},"R_THR","BESOK"]
["THR","Tandhälsoregistret THR",2017,2017,"r_thr_besok_2017",{"$f":"MIN(IF($B$2:$B$133=B99,$C$2:$C$133,FALSE))","v":2008},{"$f":"MAX(IF($B$2:$B$133=B99,$D$2:$D$133,FALSE))","v":2022},"R_THR","BESOK"]
["THR","Tandhälsoregistret THR",2018,2018,"r_thr_besok_2018",{"$f":"MIN(IF($B$2:$B$133=B100,$C$2:$C$133,FALSE))","v":2008},{"$f":"MAX(IF($B$2:$B$133=B100,$D$2:$D$133,FALSE))","v":2022},"R_THR","BESOK"]
["THR","Tandhälsoregistret THR",2019,2019,"r_thr_besok_2019",{"$f":"MIN(IF($B$2:$B$133=B101,$C$2:$C$133,FALSE))","v":2008},{"$f":"MAX(IF($B$2:$B$133=B101,$D$2:$D$133,FALSE))","v":2022},"R_THR","BESOK"]
["THR","Tandhälsoregistret THR",2020,2020,"r_thr_besok_2020",{"$f":"MIN(IF($B$2:$B$133=B102,$C$2:$C$133,FALSE))","v":2008},{"$f":"MAX(IF($B$2:$B$133=B102,$D$2:$D$133,FALSE))","v":2022},"R_THR","BESOK"]
["THR","Tandhälsoregistret THR",2021,2021,"r_thr_besok_2021",{"$f":"MIN(IF($B$2:$B$133=B103,$C$2:$C$133,FALSE))","v":2008},{"$f":"MAX(IF($B$2:$B$133=B103,$D$2:$D$133,FALSE))","v":2022},"R_THR","BESOK"]
["THR","Tandhälsoregistret THR",2022,2022,"r_thr_besok_2022",{"$f":"MIN(IF($B$2:$B$133=B104,$C$2:$C$133,FALSE))","v":2008},{"$f":"MAX(IF($B$2:$B$133=B104,$D$2:$D$133,FALSE))","v":2022},"R_THR","BESOK"]
["THR","Tandhälsoregistret THR",2008,2008,"r_thr_tandhalsa_2008",{"$f":"MIN(IF($B$2:$B$133=B105,$C$2:$C$133,FALSE))","v":2008},{"$f":"MAX(IF($B$2:$B$133=B105,$D$2:$D$133,FALSE))","v":2022},"R_THR","TANDHALSA"]
["THR","Tandhälsoregistret THR",2009,2009,"r_thr_tandhalsa_2009",{"$f":"MIN(IF($B$2:$B$133=B106,$C$2:$C$133,FALSE))","v":2008},{"$f":"MAX(IF($B$2:$B$133=B106,$D$2:$D$133,FALSE))","v":2022},"R_THR","TANDHALSA"]
["THR","Tandhälsoregistret THR",2010,2010,"r_thr_tandhalsa_2010",{"$f":"MIN(IF($B$2:$B$133=B107,$C$2:$C$133,FALSE))","v":2008},{"$f":"MAX(IF($B$2:$B$133=B107,$D$2:$D$133,FALSE))","v":2022},"R_THR","TANDHALSA"]
["THR","Tandhälsoregistret THR",2011,2011,"r_thr_tandhalsa_2011",{"$f":"MIN(IF($B$2:$B$133=B108,$C$2:$C$133,FALSE))","v":2008},{"$f":"MAX(IF($B$2:$B$133=B108,$D$2:$D$133,FALSE))","v":2022},"R_THR","TANDHALSA"]
["THR","Tandhälsoregistret THR",2012,2012,"r_thr_tandhalsa_2012",{"$f":"MIN(IF($B$2:$B$133=B109,$C$2:$C$133,FALSE))","v":2008},{"$f":"MAX(IF($B$2:$B$133=B109,$D$2:$D$133,FALSE))","v":2022},"R_THR","TANDHALSA"]
["THR","Tandhälsoregistret THR",2013,2013,"r_thr_tandhalsa_2013",{"$f":"MIN(IF($B$2:$B$133=B110,$C$2:$C$133,FALSE))","v":2008},{"$f":"MAX(IF($B$2:$B$133=B110,$D$2:$D$133,FALSE))","v":2022},"R_THR","TANDHALSA"]
["THR","Tandhälsoregistret THR",2014,2014,"r_thr_tandhalsa_2014",{"$f":"MIN(IF($B$2:$B$133=B111,$C$2:$C$133,FALSE))","v":2008},{"$f":"MAX(IF($B$2:$B$133=B111,$D$2:$D$133,FALSE))","v":2022},"R_THR","TANDHALSA"]
["THR","Tandhälsoregistret THR",2015,2015,"r_thr_tandhalsa_2015",{"$f":"MIN(IF($B$2:$B$133=B112,$C$2:$C$133,FALSE))","v":2008},{"$f":"MAX(IF($B$2:$B$133=B112,$D$2:$D$133,FALSE))","v":2022},"R_THR","TANDHALSA"]
["THR","Tandhälsoregistret THR",2016,2016,"r_thr_tandhalsa_2016",{"$f":"MIN(IF($B$2:$B$133=B113,$C$2:$C$133,FALSE))","v":2008},{"$f":"MAX(IF($B$2:$B$133=B113,$D$2:$D$133,FALSE))","v":2022},"R_THR","TANDHALSA"]
["THR","Tandhälsoregistret THR",2017,2017,"r_thr_tandhalsa_2017",{"$f":"MIN(IF($B$2:$B$133=B114,$C$2:$C$133,FALSE))","v":2008},{"$f":"MAX(IF($B$2:$B$133=B114,$D$2:$D$133,FALSE))","v":2022},"R_THR","TANDHALSA"]
["THR","Tandhälsoregistret THR",2018,2018,"r_thr_tandhalsa_2018",{"$f":"MIN(IF($B$2:$B$133=B115,$C$2:$C$133,FALSE))","v":2008},{"$f":"MAX(IF($B$2:$B$133=B115,$D$2:$D$133,FALSE))","v":2022},"R_THR","TANDHALSA"]
["THR","Tandhälsoregistret THR",2019,2019,"r_thr_tandhalsa_2019",{"$f":"MIN(IF($B$2:$B$133=B116,$C$2:$C$133,FALSE))","v":2008},{"$f":"MAX(IF($B$2:$B$133=B116,$D$2:$D$133,FALSE))","v":2022},"R_THR","TANDHALSA"]
["THR","Tandhälsoregistret THR",2020,2020,"r_thr_tandhalsa_2020",{"$f":"MIN(IF($B$2:$B$133=B117,$C$2:$C$133,FALSE))","v":2008},{"$f":"MAX(IF($B$2:$B$133=B117,$D$2:$D$133,FALSE))","v":2022},"R_THR","TANDHALSA"]
["THR","Tandhälsoregistret THR",2021,2021,"r_thr_tandhalsa_2021",{"$f":"MIN(IF($B$2:$B$133=B118,$C$2:$C$133,FALSE))","v":2008},{"$f":"MAX(IF($B$2:$B$133=B118,$D$2:$D$133,FALSE))","v":2022},"R_THR","TANDHALSA"]
["THR","Tandhälsoregistret THR",2022,2022,"r_thr_tandhalsa_2022",{"$f":"MIN(IF($B$2:$B$133=B119,$C$2:$C$133,FALSE))","v":2008},{"$f":"MAX(IF($B$2:$B$133=B119,$D$2:$D$133,FALSE))","v":2022},"R_THR","TANDHALSA"]
["BU","Registret över insatser för barn och unga BU",1960,2020,"r_bu_insats_pnrq0",{"$f":"MIN(IF($B$2:$B$133=B120,$C$2:$C$133,FALSE))","v":1960},{"$f":"MAX(IF($B$2:$B$133=B120,$D$2:$D$133,FALSE))","v":2020},"R_BU","INSATS"]
["BU","Registret över insatser för barn och unga BU",1960,2020,"r_bu_barn_pnrq0",{"$f":"MIN(IF($B$2:$B$133=B121,$C$2:$C$133,FALSE))","v":1960},{"$f":"MAX(IF($B$2:$B$133=B121,$D$2:$D$133,FALSE))","v":2020},"R_BU","BARN"]
["BU","Registret över insatser för barn och unga BU",1960,2020,"r_bu_plac_pnrq0",{"$f":"MIN(IF($B$2:$B$133=B122,$C$2:$C$133,FALSE))","v":1960},{"$f":"MAX(IF($B$2:$B$133=B122,$D$2:$D$133,FALSE))","v":2020},"R_BU","PLAC"]
["BU","Registret över insatser för barn och unga BU",2018,2020,"r_bu_insats",{"$f":"MIN(IF($B$2:$B$133=B123,$C$2:$C$133,FALSE))","v":1960},{"$f":"MAX(IF($B$2:$B$133=B123,$D$2:$D$133,FALSE))","v":2020},"R_BU","INSATS"]
["BU","Registret över insatser för barn och unga BU",2018,2020,"r_bu_plac",{"$f":"MIN(IF($B$2:$B$133=B124,$C$2:$C$133,FALSE))","v":1960},{"$f":"MAX(IF($B$2:$B$133=B124,$D$2:$D$133,FALSE))","v":2020},"R_BU","PLAC"]
["SOL","Registret över socialtjänstinsatser till \näldre och personer med funktionsnedsättning SOL",2012,2022,"r_sol",{"$f":"MIN(IF($B$2:$B$133=B125,$C$2:$C$133,FALSE))","v":2007},{"$f":"MAX(IF($B$2:$B$133=B125,$D$2:$D$133,FALSE))","v":2022},"R_SOL"]
["SOL","Registret över socialtjänstinsatser till \näldre och personer med funktionsnedsättning SOL",2012,2022,"r_sol_incr",{"$f":"MIN(IF($B$2:$B$133=B126,$C$2:$C$133,FALSE))","v":2007},{"$f":"MAX(IF($B$2:$B$133=B126,$D$2:$D$133,FALSE))","v":2022},"R_SOL","INCR"]
["SOL","Registret över socialtjänstinsatser till \näldre och personer med funktionsnedsättning SOL",2007,2012,"r_sol_20072012",{"$f":"MIN(IF($B$2:$B$133=B127,$C$2:$C$133,FALSE))","v":2007},{"$f":"MAX(IF($B$2:$B$133=B127,$D$2:$D$133,FALSE))","v":2022},"R_SOL"]
["LSS","Registret över insatser enligt lagen om stöd och service till\n vissa funktionshindrade LSS",2004,2021,"r_lss",{"$f":"MIN(IF($B$2:$B$133=B128,$C$2:$C$133,FALSE))","v":1999},{"$f":"MAX(IF($B$2:$B$133=B128,$D$2:$D$133,FALSE))","v":2021},"R_LSS"]
["LSS","Registret över insatser enligt lagen om stöd och service till\n vissa funktionshindrade LSS",1999,2003,"r_lss_19992003",{"$f":"MIN(IF($B$2:$B$133=B129,$C$2:$C$133,FALSE))","v":1999},{"$f":"MAX(IF($B$2:$B$133=B129,$D$2:$D$133,FALSE))","v":2021},"R_LSS"]
["HSL","Registret över insatser i kommunal hälso- och sjukvård HSL",2007,2021,"r_hsl",{"$f":"MIN(IF($B$2:$B$133=B130,$C$2:$C$133,FALSE))","v":2007},{"$f":"MAX(IF($B$2:$B$133=B130,$D$2:$D$133,FALSE))","v":2021},"R_HSL"]
["LVM","Registret över tvångsvård enligt lagen om vård av missbrukare LVM",1994,2021,"r_lvm_omhtg",{"$f":"MIN(IF($B$2:$B$133=B131,$C$2:$C$133,FALSE))","v":1994},{"$f":"MAX(IF($B$2:$B$133=B131,$D$2:$D$133,FALSE))","v":2021},"R_LVM","OMHTG"]
["LVM","Registret över tvångsvård enligt lagen om vård av missbrukare LVM",1994,2021,"r_lvm_ansok",{"$f":"MIN(IF($B$2:$B$133=B132,$C$2:$C$133,FALSE))","v":1994},{"$f":"MAX(IF($B$2:$B$133=B132,$D$2:$D$133,FALSE))","v":2021},"R_LVM","ANSOK"]
["LVM","Registret över tvångsvård enligt lagen om vård av missbrukare LVM",1994,2021,"r_lvm_utskr",{"$f":"MIN(IF($B$2:$B$133=B133,$C$2:$C$133,FALSE))","v":1994},{"$f":"MAX(IF($B$2:$B$133=B133,$D$2:$D$133,FALSE))","v":2021},"R_LVM","UTSKR"]

{"sheet":"HSL","index":1,"n_rows":29,"n_cols":20,"rows_kept":29,"cut":false,"hidden":true,"merged":[[0,3,0,20]]}
[null,null,null,"Registret över insatser i kommunal hälso- och sjukvård HSL"]
[]
["#","Val","Variabel","Klartext","Definition","Kommentar",null,null,null,null,null,"Variabel","Klartext",null,null,"Auto-kryssa:",null,null,null,false]
[{"$f":"IF($T4=FALSE, \"\", MAX(A$3:A3)+1)","v":""},null,"ALDER","Ålder","Ålder vid årets slut",null,null,null,null,null,null,{"$f":"IFERROR(INDEX(C$3:C$29,MATCH(ROW()-ROW(L$3),$A$3:$A$29,0)),\"\")","v":""},{"$f":"IFERROR(INDEX(D$3:D$29,MATCH(ROW()-ROW(M$3),$A$3:$A$29,0)),\"\")","v":""},null,null,null,null,null,null,false]
[{"$f":"IF($T5=FALSE, \"\", MAX(A$4:A4)+1)","v":""},null,"APR","Hade HSL i april","Personen har fått hälso- och sjukvård som kommunen ansvarar för enligt 18 § HSL under april",null,null,null,null,null,null,"","",null,null,null,null,null,null,false]
[{"$f":"IF($T6=FALSE, \"\", MAX(A$4:A5)+1)","v":""},null,"AR","År","Statistikår",null,null,null,null,null,null,"","",null,null,null,null,null,null,false]
[{"$f":"IF($T7=FALSE, \"\", MAX(A$4:A6)+1)","v":""},null,"AUG","Hade HSL i augusti","Personen har fått hälso- och sjukvård som kommunen ansvarar för enligt 18 § HSL under augusti",null,null,null,null,null,null,"","",null,null,null,null,null,null,false]
[{"$f":"IF($T8=FALSE, \"\", MAX(A$4:A7)+1)","v":""},null,"DATAVREG","Förändringsdatum","Datum för SURV-händelsen. Tom då SURV = 1 eller 2",null,null,null,null,null,null,"","",null,null,null,null,null,null,false]
[{"$f":"IF($T9=FALSE, \"\", MAX(A$4:A8)+1)","v":""},null,"DEC","Hade HSL i december","Personen har fått hälso- och sjukvård som kommunen ansvarar för enligt 18 § HSL under december",null,null,null,null,null,null,"","",null,null,null,null,null,null,false]
[{"$f":"IF($T10=FALSE, \"\", MAX(A$4:A9)+1)","v":""},null,"DODSDATN","Dödsdatum","Datum då personen avlidit enligt dödsorsaksregistret.",null,null,null,null,null,null,"","",null,null,null,null,null,null,false]
[{"$f":"IF($T11=FALSE, \"\", MAX(A$4:A10)+1)","v":""},null,"FEB","Hade HSL i februari","Personen har fått hälso- och sjukvård som kommunen ansvarar för enligt 18 § HSL under februari",null,null,null,null,null,null,"","",null,null,null,null,null,null,false]
[{"$f":"IF($T12=FALSE, \"\", MAX(A$4:A11)+1)","v":""},null,"FODAR","Födelsår",null,null,null,null,null,null,null,"","",null,null,null,null,null,null,false]
[{"$f":"IF($T13=FALSE, \"\", MAX(A$4:A12)+1)","v":""},null,"FODDATN","Födelsedatum","Födelsedatum",null,null,null,null,null,null,"","",null,null,null,null,null,null,false]
[{"$f":"IF($T14=FALSE, \"\", MAX(A$4:A13)+1)","v":""},null,"HKOM","Hekommun",null,null,null,null,null,null,null,"","",null,null,null,null,null,null,false]
[{"$f":"IF($T15=FALSE, \"\", MAX(A$4:A14)+1)","v":""},null,"HKOM_JANJUN","Hemkommun sista juni","Hemkommun sista juni",null,null,null,null,null,null,"","",null,null,null,null,null,null,false]
[{"$f":"IF($T16=FALSE, \"\", MAX(A$4:A15)+1)","v":""},null,"HKOM_JULDEC","Hemkommun sista december","Hemkommun sista december",null,null,null,null,null,null,"","",null,null,null,null,null,null,false]
[{"$f":"IF($T17=FALSE, \"\", MAX(A$4:A16)+1)","v":""},null,"JAN","Hade HSL i januari","Personen har fått hälso- och sjukvård som kommunen ansvarar för enligt 18 § HSL under januari",null,null,null,null,null,null,"","",null,null,null,null,null,null,false]
[{"$f":"IF($T18=FALSE, \"\", MAX(A$4:A17)+1)","v":""},null,"JUL","Hade HSL i juli","Personen har fått hälso- och sjukvård som kommunen ansvarar för enligt 18 § HSL under juli",null,null,null,null,null,null,"","",null,null,null,null,null,null,false]
[{"$f":"IF($T19=FALSE, \"\", MAX(A$4:A18)+1)","v":""},null,"JUN","Hade HSL i juni","Personen har fått hälso- och sjukvård som kommunen ansvarar för enligt 18 § HSL under juni",null,null,null,null,null,null,"","",null,null,null,null,null,null,false]
[{"$f":"IF($T20=FALSE, \"\", MAX(A$4:A19)+1)","v":""},null,"KDEL","Kommundel","Stadsdelskod. Används för Göteborg, Malmö och Stockholms kommun  ",null,null,null,null,null,null,"","",null,null,null,null,null,null,false]
[{"$f":"IF($T21=FALSE, \"\", MAX(A$4:A20)+1)","v":""},null,"KON","Kön","Kön",null,null,null,null,null,null,"","",null,null,null,null,null,null,false]
[{"$f":"IF($T22=FALSE, \"\", MAX(A$4:A21)+1)","v":""},null,"LK","Kommun","Kommunkod",null,null,null,null,null,null,"","",null,null,null,null,null,null,false]
[{"$f":"IF($T23=FALSE, \"\", MAX(A$4:A22)+1)","v":""},null,"MAJ","Hade HSL i maj","Personen har fått hälso- och sjukvård som kommunen ansvarar för enligt 18 § HSL under maj",null,null,null,null,null,null,"","",null,null,null,null,null,null,false]
[{"$f":"IF($T24=FALSE, \"\", MAX(A$4:A23)+1)","v":""},null,"MAR","Hade HSL i mars","Personen har fått hälso- och sjukvård som kommunen ansvarar för enligt 18 § HSL under mars",null,null,null,null,null,null,"","",null,null,null,null,null,null,false]
[{"$f":"IF($T25=FALSE, \"\", MAX(A$4:A24)+1)","v":""},null,"NOV","Hade HSL i november","Personen har fått hälso- och sjukvård som kommunen ansvarar för enligt 18 § HSL under november",null,null,null,null,null,null,"","",null,null,null,null,null,null,false]
[{"$f":"IF($T26=FALSE, \"\", MAX(A$4:A25)+1)","v":""},null,"OKT","Hade HSL i oktober","Personen har fått hälso- och sjukvård som kommunen ansvarar för enligt 18 § HSL under oktober",null,null,null,null,null,null,"","",null,null,null,null,null,null,false]
[{"$f":"IF($T27=FALSE, \"\", MAX(A$4:A26)+1)","v":""},null,"PSEUDO","Pseudonummer",null,null,null,null,null,null,null,"","",null,null,null,null,null,null,false]
[{"$f":"IF($T28=FALSE, \"\", MAX(A$4:A27)+1)","v":""},null,"SEP","Hade HSL i september","Personen har fått hälso- och sjukvård som kommunen ansvarar för enligt 18 § HSL under september",null,null,null,null,null,null,"","",null,null,null,null,null,null,false]
[{"$f":"IF($T29=FALSE, \"\", MAX(A$4:A28)+1)","v":""},null,"SURV","Förändring under perioden","Förändring under perioden",null,null,null,null,null,null,"","",null,null,null,null,null,null,false]

{"sheet":"LVM","index":2,"n_rows":50,"n_cols":20,"rows_kept":50,"cut":false,"hidden":true,"merged":[]}
[null,null,null,"Tvångsvård enligt lagen om vård av missbrukare LVM"]
[]
["#","Val","Variabel","Klartext","Definition","Kommentar",null,null,null,null,null,"Variabel","Klartext",null,null,"Auto-kryssa:"]
[{"$f":"IF($T4=FALSE, \"\", MAX(A$3:A3)+1)","v":""},null,"ALDER","Ålder","Ålder vid årets slut",null,null,null,null,null,null,{"$f":"IFERROR(INDEX(C$3:C$50,MATCH(ROW()-ROW(L$3),$A$3:$A$50,0)),\"\")","v":""},{"$f":"IFERROR(INDEX(D$3:D$50,MATCH(ROW()-ROW(M$3),$A$3:$A$50,0)),\"\")","v":""},null,null,null,null,null,null,false]
[{"$f":"IF($T5=FALSE, \"\", MAX(A$4:A4)+1)","v":""},null,"ANSDATUM","Ansökningsdatum","Ansökningsdatum",null,null,null,null,null,null,"","",null,null,null,null,null,null,false]
[{"$f":"IF($T6=FALSE, \"\", MAX(A$4:A5)+1)","v":""},null,"ANSDATUMN","Ansökningsdatum, numerisk SAS-datum","Ansökningsdatum, numerisk SAS-datum",null,null,null,null,null,null,"","",null,null,null,null,null,null,false]
[{"$f":"IF($T7=FALSE, \"\", MAX(A$4:A6)+1)","v":""},null,"AR","År","Det år då beslut om LVM-vård fattades i förvaltningsrätt (återfinns i ANSOK filen)",null,null,null,null,null,null,"","",null,null,null,null,null,null,false]
[{"$f":"IF($T8=FALSE, \"\", MAX(A$4:A7)+1)","v":""},null,"BESDATUM","Beslutsdatum","Datum för förvaltningsrättens beslut (återfinns i ANSOK filen)",null,null,null,null,null,null,"","",null,null,null,null,null,null,false]
[{"$f":"IF($T9=FALSE, \"\", MAX(A$4:A8)+1)","v":""},null,"BESDATUMN","Beslutsdatum, numerisk SAS-datum","Datum för förvaltningsrättens beslut, numeriskt SAS-datum (återfinns i ANSOK filen)",null,null,null,null,null,null,"","",null,null,null,null,null,null,false]
[{"$f":"IF($T10=FALSE, \"\", MAX(A$4:A9)+1)","v":""},null,"BESLUT","Beslut","Förvaltningsrättens beslut",null,null,null,null,null,null,"","",null,null,null,null,null,null,false]
[{"$f":"IF($T11=FALSE, \"\", MAX(A$4:A10)+1)","v":""},null,"FODLAND","Födelseland","Den ansökandes födelseland","För enskilda länder krävs EPN godkännande",null,null,null,null,null,"","",null,null,null,null,null,null,false]
[{"$f":"IF($T12=FALSE, \"\", MAX(A$4:A11)+1)","v":""},null,"INDIKAT","Indikation","Indikation enligt 4 § LVM i socialnämndens ansökan om vård",null,null,null,null,null,null,"","",null,null,null,null,null,null,false]
[{"$f":"IF($T13=FALSE, \"\", MAX(A$4:A12)+1)","v":""},null,"KON","Kön","Den ansökandes kön",null,null,null,null,null,null,"","",null,null,null,null,null,null,false]
[{"$f":"IF($T14=FALSE, \"\", MAX(A$4:A13)+1)","v":""},null,"LK","Placerande kommun","Placerande kommun, kod",null,null,null,null,null,null,"","",null,null,null,null,null,null,false]
[{"$f":"IF($T15=FALSE, \"\", MAX(A$4:A14)+1)","v":""},null,"MISSBM","Missbruksmedel","Missbruksmedel",null,null,null,null,null,null,"","",null,null,null,null,null,null,false]
[{"$f":"IF($T16=FALSE, \"\", MAX(A$4:A15)+1)","v":""},null,"AR","År","Det år då beslut om omedelbar omhändertagnande fattades (återfinns i OMHTG filen)",null,null,null,null,null,null,"","",null,null,null,null,null,null,false]
[{"$f":"IF($T17=FALSE, \"\", MAX(A$4:A16)+1)","v":""},null,"BESDATUM","Beslutsdatum","Datum då beslut om omedelbar omhändetagande fattades. (återfinns i OMHTG filen)",null,null,null,null,null,null,"","",null,null,null,null,null,null,false]
[{"$f":"IF($T18=FALSE, \"\", MAX(A$4:A17)+1)","v":""},null,"BESDATUMN","Beslutsdatum, numerisk SAS-datum","Datum då beslut om omedelbar omhändetagande fattades, numeriskt SAS-datum (återfinns i OMHTG filen)",null,null,null,null,null,null,"","",null,null,null,null,null,null,false]
[{"$f":"IF($T19=FALSE, \"\", MAX(A$4:A18)+1)","v":""},null,"BESFATT","Beslutsfattare","Myndighet som fattar beslut",null,null,null,null,null,null,"","",null,null,null,null,null,null,false]
[{"$f":"IF($T20=FALSE, \"\", MAX(A$4:A19)+1)","v":""},null,"FODDATN","Födelsedatum","Den omhändetangandes födelsedatum","För fullständigt datum krävs särskild motivering ",null,null,null,null,null,"","",null,null,null,null,null,null,false]
[{"$f":"IF($T21=FALSE, \"\", MAX(A$4:A20)+1)","v":""},null,"FODLAND","Födelseland","Födelseland\n\n\n",null,null,null,null,null,null,"","",null,null,null,null,null,null,false]
[{"$f":"IF($T22=FALSE, \"\", MAX(A$4:A21)+1)","v":""},null,"INDIKAT","Indikation","Indikation enligt 4 § LVM vid omhändertagande",null,null,null,null,null,null,"","",null,null,null,null,null,null,false]
[{"$f":"IF($T23=FALSE, \"\", MAX(A$4:A22)+1)","v":""},null,"KON","Kön","Den vårdades kön",null,null,null,null,null,null,"","",null,null,null,null,null,null,false]
[{"$f":"IF($T24=FALSE, \"\", MAX(A$4:A23)+1)","v":""},null,"LK","Kommunkod","Placenrande kommun ",null,null,null,null,null,null,"","",null,null,null,null,null,null,false]
[{"$f":"IF($T25=FALSE, \"\", MAX(A$4:A24)+1)","v":""},null,"MISSBM","Missbruksmedel","Redovisning av missbruksmedel socialtjänsten uppger i ansökan om placering hos SiS",null,null,null,null,null,null,"","",null,null,null,null,null,null,false]
[{"$f":"IF($T26=FALSE, \"\", MAX(A$4:A25)+1)","v":""},null,"PRODATUM","Prövningsdatum","Prövningsdatum",null,null,null,null,null,null,"","",null,null,null,null,null,null,false]
[{"$f":"IF($T27=FALSE, \"\", MAX(A$4:A26)+1)","v":""},null,"PRODATUMN","Prövningsdatum, numeriskt SAS-datum","Prövningsdatum, numeriskt SAS-datum",null,null,null,null,null,null,"","",null,null,null,null,null,null,false]
[{"$f":"IF($T28=FALSE, \"\", MAX(A$4:A27)+1)","v":""},null,"PROVN","Prövningsbeslut","Förvaltningsrättens prövning enligt 17§ LVM innebär",null,null,null,null,null,null,"","",null,null,null,null,null,null,false]
[{"$f":"IF($T29=FALSE, \"\", MAX(A$4:A28)+1)","v":""},null,"ANDATUM","Ankomstdatum","Intagningsdatum",null,null,null,null,null,null,"","",null,null,null,null,null,null,false]
[{"$f":"IF($T30=FALSE, \"\", MAX(A$4:A29)+1)","v":""},null,"ANDATUMN","Ankomstdatum, numeriskt SAS-datum","Ankomstdatum, numeriskt SAS-datum",null,null,null,null,null,null,"","",null,null,null,null,null,null,false]
[{"$f":"IF($T31=FALSE, \"\", MAX(A$4:A30)+1)","v":""},null,"AR","År","Utskrivningsår (återfinns i UTSKR filen)",null,null,null,null,null,null,"","",null,null,null,null,null,null,false]
[{"$f":"IF($T32=FALSE, \"\", MAX(A$4:A31)+1)","v":""},null,"AVSLUT","Vård avslutas","Vård avslutas",null,null,null,null,null,null,"","",null,null,null,null,null,null,false]
[{"$f":"IF($T33=FALSE, \"\", MAX(A$4:A32)+1)","v":""},null,"AVVIKDGR","Antal avvikningsdagar","Antal avvikningsdagar (inkl. vårdavbrott, dvs avvikning från vård enligt 27 § LVM). Det sammanlagda antalet dagar en klient har varit avviken i det aktuella ärendet. Det är möjligt för en klient att ha varit avviken en eller flera gånger med 0 dagar. I de fall klienten återkommit till hemmet samma dag som avvikningen skett registreras ingen dag, dock registreras ett avvikningstillfälle.",null,null,null,null,null,null,"","",null,null,null,null,null,null,false]
[{"$f":"IF($T34=FALSE, \"\", MAX(A$4:A33)+1)","v":""},null,"AVVIKEN","Avviken","Avvikning (inkl. vårdavbrott, dvs avvikning från vård enligt 27 § LVM) under LVM-tiden",null,null,null,null,null,null,"","",null,null,null,null,null,null,false]
[{"$f":"IF($T35=FALSE, \"\", MAX(A$4:A34)+1)","v":""},null,"BHEM","Behandlingshem"," Unik kod för varje behandlingshem (HVB). ",null,null,null,null,null,null,"","",null,null,null,null,null,null,false]
[{"$f":"IF($T36=FALSE, \"\", MAX(A$4:A35)+1)","v":""},null,"FODDATN","Födelsedatum","Den utskrivandes födelsedatum","För fullständigt datum krävs särskild motivering ",null,null,null,null,null,"","",null,null,null,null,null,null,false]
[{"$f":"IF($T37=FALSE, \"\", MAX(A$4:A36)+1)","v":""},null,"FODLAND","Födelseland","Den utskrivandes födelseland\n\n\n\n","För enskilda länder krävs EPN godkännande",null,null,null,null,null,"","",null,null,null,null,null,null,false]
[{"$f":"IF($T38=FALSE, \"\", MAX(A$4:A37)+1)","v":""},null,"FRANHEM","Frånhem","Om överflyttning från annat LVM-hem sker anges behandlingshemskod Finns för statistikår 1994 till och med statistikår 1997. ",null,null,null,null,null,null,"","",null,null,null,null,null,null,false]
[{"$f":"IF($T39=FALSE, \"\", MAX(A$4:A38)+1)","v":""},null,"FRIV","Frivillig vård","Frivillig vård efter LVM-vården",null,null,null,null,null,null,"","",null,null,null,null,null,null,false]
[{"$f":"IF($T40=FALSE, \"\", MAX(A$4:A39)+1)","v":""},null,"OVERFLYT","Överflyttning från annat LVM-hem","Överflyttning från annat LVM-hem ",null,null,null,null,null,null,"","",null,null,null,null,null,null,false]
[{"$f":"IF($T41=FALSE, \"\", MAX(A$4:A40)+1)","v":""},null,"SJUKDGR","Antal sjukhusdagar","Antal dagar på sjukhus, inkluderar antal dagar för vård inledd på sjukhus",null,null,null,null,null,null,"","",null,null,null,null,null,null,false]
[{"$f":"IF($T42=FALSE, \"\", MAX(A$4:A41)+1)","v":""},null,"SJUKVRD","Sjukhusvård","Sjukhusvård under LVM-tiden ",null,null,null,null,null,null,"","",null,null,null,null,null,null,false]
[{"$f":"IF($T43=FALSE, \"\", MAX(A$4:A42)+1)","v":""},null,"STDATUM","Vårdstartdatum","Datum för intagning för vård inledd på sjukhus",null,null,null,null,null,null,"","",null,null,null,null,null,null,false]
[{"$f":"IF($T44=FALSE, \"\", MAX(A$4:A43)+1)","v":""},null,"STDATUMN","Vårdstartdatum, numeriskt SAS-datum","Datum för intagning för vård inledd på sjukhus, numeriskt SAS-datum",null,null,null,null,null,null,"","",null,null,null,null,null,null,false]
[{"$f":"IF($T45=FALSE, \"\", MAX(A$4:A44)+1)","v":""},null,"SYNDGR","Antal tillsynsdagar","Antal tillsynsdagar",null,null,null,null,null,null,"","",null,null,null,null,null,null,false]
[{"$f":"IF($T46=FALSE, \"\", MAX(A$4:A45)+1)","v":""},null,"TILLHEM","Till hem","Till hem",null,null,null,null,null,null,"","",null,null,null,null,null,null,false]
[{"$f":"IF($T47=FALSE, \"\", MAX(A$4:A46)+1)","v":""},null,"TILLSYN","Särskild tillsyn","Särskild tillsyn enl 26 § SoF",null,null,null,null,null,null,"","",null,null,null,null,null,null,false]
[{"$f":"IF($T48=FALSE, \"\", MAX(A$4:A47)+1)","v":""},null,"UTDATUM","Utskrivningsdatum","Utskrivningsdatum",null,null,null,null,null,null,"","",null,null,null,null,null,null,false]
[{"$f":"IF($T49=FALSE, \"\", MAX(A$4:A48)+1)","v":""},null,"UTDATUMN","Utskrivningsdatum, numeriskt SAS-datum","Utskrivningsdatum, numeriskt SAS-datum",null,null,null,null,null,null,"","",null,null,null,null,null,null,false]
[{"$f":"IF($T50=FALSE, \"\", MAX(A$4:A49)+1)","v":""},null,"UTSKRIVTILL","Utskrivning till","Utskrivning till",null,null,null,null,null,null,"","",null,null,null,null,null,null,false]

{"sheet":"LSS","index":3,"n_rows":35,"n_cols":20,"rows_kept":35,"cut":false,"hidden":true,"merged":[]}
[null,null,null,"Insatser enligt lagen om stöd och service till vissa funktionshindrade, LSS"]
[]
["#","Val","Variabel","Klartext","Definition","Kommentar",null,null,null,null,null,"Variabel","Klartext",null,null,"Auto-kryssa:"]
[{"$f":"IF($T4=FALSE, \"\", MAX(A$3:A3)+1)","v":""},null,"ALDER","Ålder","Ålder vid årets slut",null,null,null,null,null,null,{"$f":"IFERROR(INDEX(C$3:C$35,MATCH(ROW()-ROW(L$3),$A$3:$A$35,0)),\"\")","v":""},{"$f":"IFERROR(INDEX(D$3:D$35,MATCH(ROW()-ROW(M$3),$A$3:$A$35,0)),\"\")","v":""},null,null,null,null,null,null,false]
[{"$f":"IF($T5=FALSE, \"\", MAX(A$4:A4)+1)","v":""},null,"AR","År","Det år som de insamlade uppgifterna gäller för",null,null,null,null,null,null,"","",null,null,null,null,null,null,false]
[{"$f":"IF($T6=FALSE, \"\", MAX(A$4:A5)+1)","v":""},null,"BKOMM","Boendekommun","Boendekommun för personer som bor enligt 9 § 8 LSS eller 9 § 9 LSS och som bor i en annan kommun än i den beslutsfattande kommunen",null,null,null,null,null,null,"","",null,null,null,null,null,null,false]
[{"$f":"IF($T7=FALSE, \"\", MAX(A$4:A6)+1)","v":""},null,"DYGN6","Antal dygn/mån (9 § 6 LSS)","Antal beslutade dygn per månad avseende korttidsvistelse enligt \n9 § 6 LSS. \n",null,null,null,null,null,null,"","",null,null,null,null,null,null,false]
[{"$f":"IF($T8=FALSE, \"\", MAX(A$4:A7)+1)","v":""},null,"FODDAT","Födelsedatum","Födelsedatum",null,null,null,null,null,null,"","",null,null,null,null,null,null,false]
[{"$f":"IF($T9=FALSE, \"\", MAX(A$4:A8)+1)","v":""},null,"KON","Kön","Kön",null,null,null,null,null,null,"","",null,null,null,null,null,null,false]
[{"$f":"IF($T10=FALSE, \"\", MAX(A$4:A9)+1)","v":""},null,"LSS10","Daglig verksamhet (9 § 10 LSS )","Insats enligt LSS som beslutats och verkställts: daglig verksamhet enligt 9 § 10 LSS",null,null,null,null,null,null,"","",null,null,null,null,null,null,false]
[{"$f":"IF($T11=FALSE, \"\", MAX(A$4:A10)+1)","v":""},null,"LSS2","Personlig assistans (9 § 2 LSS)","Insats enligt LSS som beslutats och verkställts: personlig assistans enligt 9 § 2 LSS. ",null,null,null,null,null,null,"","",null,null,null,null,null,null,false]
[{"$f":"IF($T12=FALSE, \"\", MAX(A$4:A11)+1)","v":""},null,"LSS3","Ledsagarservice (9 § 3 LSS)","Insats enligt LSS som beslutats och verkställts: ledsagarservice enligt 9 § 3 LSS",null,null,null,null,null,null,"","",null,null,null,null,null,null,false]
[{"$f":"IF($T13=FALSE, \"\", MAX(A$4:A12)+1)","v":""},null,"LSS4","Kontaktperson (9 § 4 LSS)","Insats enligt LSS som beslutats och verkställts: kontaktperson enligt 9 § 4 LSS.",null,null,null,null,null,null,"","",null,null,null,null,null,null,false]
[{"$f":"IF($T14=FALSE, \"\", MAX(A$4:A13)+1)","v":""},null,"LSS5","Avlösarservice (9 § 5 LSS)","Insats enligt LSS som beslutats och verkställts: avlösarservice enligt 9 § 5 LSS",null,null,null,null,null,null,"","",null,null,null,null,null,null,false]
[{"$f":"IF($T15=FALSE, \"\", MAX(A$4:A14)+1)","v":""},null,"LSS6","Korttidsvistelse (9 § 6 LSS)","Insats enligt LSS som beslutats och verkställts: korttidsvistelse enligt 9 § 6 LSS",null,null,null,null,null,null,"","",null,null,null,null,null,null,false]
[{"$f":"IF($T16=FALSE, \"\", MAX(A$4:A15)+1)","v":""},null,"LSS7","Korttidstillsyn för skolungdomar över 12 år (9 § 7 LSS)","Insats enligt LSS som beslutats och verkställts: korttidstillsyn för skolungdomar över 12 år enligt 9 § 7 LSS",null,null,null,null,null,null,"","",null,null,null,null,null,null,false]
[{"$f":"IF($T17=FALSE, \"\", MAX(A$4:A16)+1)","v":""},null,"LSS81","Familjehem för barn och ungdomar (9 § 8 LSS) ","Insats enligt LSS som beslutats och verkställts: boende för barn eller ungdomar, familjehem enligt 9 § 8 LSS ",null,null,null,null,null,null,"","",null,null,null,null,null,null,false]
[{"$f":"IF($T18=FALSE, \"\", MAX(A$4:A17)+1)","v":""},null,"LSS82","Bostad med särskild service för barn och ungdomar (9 § 8 LSS) ","Insats enligt LSS som beslutats och verkställts: boende för barn eller ungdomar, bostad med särskild service enligt 9 § 8 LSS ",null,null,null,null,null,null,"","",null,null,null,null,null,null,false]
[{"$f":"IF($T19=FALSE, \"\", MAX(A$4:A18)+1)","v":""},null,"LSS91","Bostad med särskild service för vuxna (9 § 9 LSS)","Insats enligt LSS som beslutats och verkställts: boende för vuxna, bostad med särskild service enligt 9 § 9 LSS",null,null,null,null,null,null,"","",null,null,null,null,null,null,false]
[{"$f":"IF($T20=FALSE, \"\", MAX(A$4:A19)+1)","v":""},null,"LSS92","Annan särskilt anpassad bostad för vuxna (9 § 9 LSS)","Insats enligt LSS som beslutats och verkställts: boende för vuxna, annan särskilt anpassad bostad enligt 9 § 9 LSS",null,null,null,null,null,null,"","",null,null,null,null,null,null,false]
[{"$f":"IF($T21=FALSE, \"\", MAX(A$4:A20)+1)","v":""},null,"PKRETS","Personkrets","Personkrets enligt LSS, 1, 2 eller 3",null,null,null,null,null,null,"","",null,null,null,null,null,null,false]
[{"$f":"IF($T22=FALSE, \"\", MAX(A$4:A21)+1)","v":""},null,"TIM2","Antal timmar/mån  (9 § 2 LSS)","Antal beslutade timmar per månad avseende personlig assistans enligt 9 § 2 LSS ",null,null,null,null,null,null,"","",null,null,null,null,null,null,false]
[{"$f":"IF($T23=FALSE, \"\", MAX(A$4:A22)+1)","v":""},null,"TIM3","Antal timmar/mån  (9 § 3 LSS)","Antal beslutade timmar per månad avseende ledsagarservice enligt \n9 § 3 LSS",null,null,null,null,null,null,"","",null,null,null,null,null,null,false]
[{"$f":"IF($T24=FALSE, \"\", MAX(A$4:A23)+1)","v":""},null,"TIM5","Antal timmar/mån (9 § 5 LSS)","Antal beslutade timmar per månad avseende avlösarservice enligt ",null,null,null,null,null,null,"","",null,null,null,null,null,null,false]
[{"$f":"IF($T25=FALSE, \"\", MAX(A$4:A24)+1)","v":""},null,"UK10","Utförande kommun (9 § 10 LSS ) ","Kommun som beslutat och verkställt insatsen daglig verksamhet (9 § 10 LSS)\n",null,null,null,null,null,null,"","",null,null,null,null,null,null,false]
[{"$f":"IF($T26=FALSE, \"\", MAX(A$4:A25)+1)","v":""},null,"UK2","Utförande kommun  (9 § 2 LSS)","Kommun som beslutat och verkställt insatsen personlig assistans  (9 § 2 LSS)\n",null,null,null,null,null,null,"","",null,null,null,null,null,null,false]
[{"$f":"IF($T27=FALSE, \"\", MAX(A$4:A26)+1)","v":""},null,"UK3","Utförande kommun  (9 § 3 LSS)","Kommun som beslutat och verkställt insatsen ledsagarservice  (9 § 3 LSS)\n",null,null,null,null,null,null,"","",null,null,null,null,null,null,false]
[{"$f":"IF($T28=FALSE, \"\", MAX(A$4:A27)+1)","v":""},null,"UK4","Utförande kommun (9 § 4 LSS)","Kommun som beslutat och verkställt insatsen kontaktperson  (9 § 4 LSS)\n",null,null,null,null,null,null,"","",null,null,null,null,null,null,false]
[{"$f":"IF($T29=FALSE, \"\", MAX(A$4:A28)+1)","v":""},null,"UK5","Utförande kommun (9 § 5 LSS)","Kommun som beslutat och verkställt insatsen avlösarservice  (9 § 5 LSS)\n",null,null,null,null,null,null,"","",null,null,null,null,null,null,false]
[{"$f":"IF($T30=FALSE, \"\", MAX(A$4:A29)+1)","v":""},null,"UK6","Utförande kommun (9 § 6 LSS)","Kommun som beslutat och verkställt insatsen korttidsvistelse  (9 § 6 LSS)\n",null,null,null,null,null,null,"","",null,null,null,null,null,null,false]
[{"$f":"IF($T31=FALSE, \"\", MAX(A$4:A30)+1)","v":""},null,"UK7","Utförande kommun (9 § 7 LSS)","Kommun som beslutat och verkställt insatsen korttidstillsyn för skolungdomar över 12 år (9 § 7 LSS)\n",null,null,null,null,null,null,"","",null,null,null,null,null,null,false]
[{"$f":"IF($T32=FALSE, \"\", MAX(A$4:A31)+1)","v":""},null,"UK81","Utförande kommun (9 § 8 LSS familjehem) ","Kommun som beslutat och verkställt insatsen familjehem för barn och ungdomar (9 § 8 LSS) \n",null,null,null,null,null,null,"","",null,null,null,null,null,null,false]
[{"$f":"IF($T33=FALSE, \"\", MAX(A$4:A32)+1)","v":""},null,"UK82","Utförande kommun (9 § 8 LSS särskild service) ","Kommun som beslutat och verkställt insatsen bostad med särskild service för barn och ungdomar (9 § 8 LSS) \n",null,null,null,null,null,null,"","",null,null,null,null,null,null,false]
[{"$f":"IF($T34=FALSE, \"\", MAX(A$4:A33)+1)","v":""},null,"UK91","Utförande kommun (9 § 9 LSS särskild service)","Kommun som beslutat och verkställt insatsen bostad med särskild service för vuxna (9 § 9 LSS)",null,null,null,null,null,null,"","",null,null,null,null,null,null,false]
[{"$f":"IF($T35=FALSE, \"\", MAX(A$4:A34)+1)","v":""},null,"UK92","Utförande kommun (9 § 9 LSS bostad)","Kommun som beslutat och verkställt insatsen annan särskilt anpassad bostad för vuxna (9 § 9 LSS)",null,null,null,null,null,null,"","",null,null,null,null,null,null,false]

{"sheet":"SOL","index":4,"n_rows":90,"n_cols":20,"rows_kept":90,"cut":false,"hidden":true,"merged":[]}
[null,null,null,"Socialtjänstinsatser till äldre och personer med funktionsnedsättning, SOL"]
[]
["#","Val","Variabel","Klartext","Definition","Kommentar",null,null,null,null,null,"Variabel","Klartext",null,null,"Auto-kryssa:",null,null,null,true]
[{"$f":"IF($T4=FALSE, \"\", MAX(A$3:A3)+1)","v":""},null,"ABIST","Annat biståndsbeslut","Brukaren har den sista dagen i månaden ett verkställt biståndsbeslut om annan vård- eller omsorgsinsats",null,null,null,null,null,null,{"$f":"IFERROR(INDEX(C$3:C$90,MATCH(ROW()-ROW(L$3),$A$3:$A$90,0)),\"\")","v":""},{"$f":"IFERROR(INDEX(D$3:D$90,MATCH(ROW()-ROW(M$3),$A$3:$A$90,0)),\"\")","v":""},null,null,null,null,null,null,false]
[{"$f":"IF($T5=FALSE, \"\", MAX(A$4:A4)+1)","v":""},null,"ALDER","Ålder","Ålder vid årets slut",null,null,null,null,null,null,"","",null,null,null,null,null,null,false]
[{"$f":"IF($T6=FALSE, \"\", MAX(A$4:A5)+1)","v":""},null,"AR","År","Statistikår",null,null,null,null,null,null,"","",null,null,null,null,null,null,false]
[{"$f":"IF($T7=FALSE, \"\", MAX(A$4:A6)+1)","v":""},null,"AVAN","Avlösning av anhörig","Brukaren har den sista dagen i månaden ett verkställt biståndsbeslut om avlösning av anhörig i hemmet som inte ingår i ett hemtjänstbeslut",null,null,null,null,null,null,"","",null,null,null,null,null,null,false]
[{"$f":"IF($T8=FALSE, \"\", MAX(A$4:A7)+1)","v":""},null,"BOFORM","Boendeform","Brukarens permanentboende den sista dagen i månaden",null,null,null,null,null,null,"","",null,null,null,null,null,null,false]
[{"$f":"IF($T9=FALSE, \"\", MAX(A$4:A8)+1)","v":""},null,"BOSTO","Boendestöd","Brukaren har den sista dagen i månaden ett verkställt biståndsbeslut om boendestöd",null,null,null,null,null,null,"","",null,null,null,null,null,null,false]
[{"$f":"IF($T10=FALSE, \"\", MAX(A$4:A9)+1)","v":""},null,"DAGV","Dagverksamhet","Brukaren har den sista dagen i månaden ett verkställt biståndsbeslut om dagverksamhet",null,null,null,null,null,null,"","",null,null,null,null,null,null,false]
[{"$f":"IF($T11=FALSE, \"\", MAX(A$4:A10)+1)","v":""},null,"DODSDATN","Dödsdatum","Dödsdatum",null,null,null,null,null,null,"","",null,null,null,null,null,null,false]
[{"$f":"IF($T12=FALSE, \"\", MAX(A$4:A11)+1)","v":""},null,"FODDATN","Födelsedatum","Brukarens födelsedatum","För fullständigt datum krävs särskild motivering ",null,null,null,null,null,"","",null,null,null,null,null,null,false]
[{"$f":"IF($T13=FALSE, \"\", MAX(A$4:A12)+1)","v":""},null,"HTJ","Hemtjänst","Brukaren har den sista dagen i månaden ett verkställt biståndsbeslut om hemtjänst",null,null,null,null,null,null,"","",null,null,null,null,null,null,false]
[{"$f":"IF($T14=FALSE, \"\", MAX(A$4:A13)+1)","v":""},null,"HTJAVAN","Hemtjänst avser avlösning av anhörig","Verkställigheten av beslutet om hemtjänst avser avlösning av anhörig",null,null,null,null,null,null,"","",null,null,null,null,null,null,false]
[{"$f":"IF($T15=FALSE, \"\", MAX(A$4:A14)+1)","v":""},null,"HTJLED","Hemtjänst avser ledsagning","Verkställigheten av beslutet om hemtjänst avser ledsagning",null,null,null,null,null,null,"","",null,null,null,null,null,null,false]
[{"$f":"IF($T16=FALSE, \"\", MAX(A$4:A15)+1)","v":""},null,"HTJPOMV","Hemtjänst avser personlig omvårdnad","Verkställigheten av beslutet om hemtjänst avser personlig omvårdnad",null,null,null,null,null,null,"","",null,null,null,null,null,null,false]
[{"$f":"IF($T17=FALSE, \"\", MAX(A$4:A16)+1)","v":""},null,"HTJSERV","Hemtjänst avser service","Verkställigheten av beslutet om hemtjänst avser service",null,null,null,null,null,null,"","",null,null,null,null,null,null,false]
[{"$f":"IF($T18=FALSE, \"\", MAX(A$4:A17)+1)","v":""},null,"HTJTIM","Hemtjänsttimmar","Antal beviljade/beräknade hemtjänsttimmar per månad för beslut som var verkställt den sista dagen i månaden",null,null,null,null,null,null,"","",null,null,null,null,null,null,false]
[{"$f":"IF($T19=FALSE, \"\", MAX(A$4:A18)+1)","v":""},null,"KDEL","Kommundel","De kommuner som har kommundel, stadsdel, nämnd eller motsvarande kan ange detta här. Uppgiften är till för Stockholm, Göteborg och Malmö. ",null,null,null,null,null,null,"","",null,null,null,null,null,null,false]
[{"$f":"IF($T20=FALSE, \"\", MAX(A$4:A19)+1)","v":""},null,"KON","Kön","Kön",null,null,null,null,null,null,"","",null,null,null,null,null,null,false]
[{"$f":"IF($T21=FALSE, \"\", MAX(A$4:A20)+1)","v":""},null,"KONTF","Kontaktfamilj","Brukaren har den sista dagen i månaden ett verkställt biståndsbeslut om kontaktfamilj",null,null,null,null,null,null,"","",null,null,null,null,null,null,false]
[{"$f":"IF($T22=FALSE, \"\", MAX(A$4:A21)+1)","v":""},null,"KONTP","Kontaktperson","Brukaren har den sista dagen i månaden ett verkställt biståndsbeslut om kontaktperson",null,null,null,null,null,null,"","",null,null,null,null,null,null,false]
[{"$f":"IF($T23=FALSE, \"\", MAX(A$4:A22)+1)","v":""},null,"KORTDAG","Korttidsboende den sista i månaden","Brukaren erhöll korttidsvård/korttidsboende den sista dagen i månaden",null,null,null,null,null,null,"","",null,null,null,null,null,null,false]
[{"$f":"IF($T24=FALSE, \"\", MAX(A$4:A23)+1)","v":""},null,"KORTMAN","Korttidsboende, antal dygn","Antal dygn med korttidsvård/korttidsboende som brukaren erhöll under månaden",null,null,null,null,null,null,"","",null,null,null,null,null,null,false]
[{"$f":"IF($T25=FALSE, \"\", MAX(A$4:A24)+1)","v":""},null,"KORTTID","Korttidsboende","Brukaren har den sista dagen i månaden ett verkställt biståndsbeslut om korttidsvård/korttidsboende",null,null,null,null,null,null,"","",null,null,null,null,null,null,false]
[{"$f":"IF($T26=FALSE, \"\", MAX(A$4:A25)+1)","v":""},null,"LEDSAG","Ledsagning","Brukaren har den sista dagen i månaden ett verkställt biståndsbeslut om ledsagning som inte ingår i ett hemtjänstbeslut",null,null,null,null,null,null,"","",null,null,null,null,null,null,false]
[{"$f":"IF($T27=FALSE, \"\", MAX(A$4:A26)+1)","v":""},null,"LK","Kommun","Kommunkod",null,null,null,null,null,null,"","",null,null,null,null,null,null,false]
[{"$f":"IF($T28=FALSE, \"\", MAX(A$4:A27)+1)","v":""},null,"MATD","Matdistribution","Brukaren har den sista dagen i månaden ett verkställt biståndsbeslut om matdistribution som inte ingår i ett hemtjänstbeslut",null,null,null,null,null,null,"","",null,null,null,null,null,null,false]
[{"$f":"IF($T29=FALSE, \"\", MAX(A$4:A28)+1)","v":""},null,"PERIOD","Statistikperiod","Statistikperiod, år och månad",null,null,null,null,null,null,"","",null,null,null,null,null,null,false]
[{"$f":"IF($T30=FALSE, \"\", MAX(A$4:A29)+1)","v":""},null,"POMVTRYGG","Personlig omvårdnad i form av trygghetslarm","Personlig omvårdnad i form av trygghetslarm",null,null,null,null,null,null,"","",null,null,null,null,null,null,false]
[{"$f":"IF($T31=FALSE, \"\", MAX(A$4:A30)+1)","v":""},null,"SERVMATD","Hemtjänst i form av service ","Hemtjänst i form av service",null,null,null,null,null,null,"","",null,null,null,null,null,null,false]
[{"$f":"IF($T32=FALSE, \"\", MAX(A$4:A31)+1)","v":""},null,"TRYGG","Trygghetslarm","Brukaren har den sista dagen i månaden ett verkställt biståndsbeslut om trygghetslarm som inte ingår i ett hemtjänstbeslut",null,null,null,null,null,null,"","",null,null,null,null,null,null,false]
[{"$f":"IF($T33=FALSE, \"\", MAX(A$4:A32)+1)","v":""},null,"ABIDR","Anhörigbidrag ","Anhörigbidrag ",null,null,null,null,null,null,"","",null,null,null,null,null,null,false]
[{"$f":"IF($T34=FALSE, \"\", MAX(A$4:A33)+1)","v":""},null,"ABIST","Annat bistånd","Med annat biståndsbeslutat boende enligt SoL avses här alla former av boenden enligt SoL, som inte är särskilt boende enligt definitionen ovan. Exempel på annat boende är hem med HVB-tillstånd och familjehem. Till annat boende räknas i detta fall också bostäder där kommunen är kontraktsinnehavare, s.k. ”sociala kontrakt”.",null,null,null,null,null,null,"","",null,null,null,null,null,null,false]
[{"$f":"IF($T35=FALSE, \"\", MAX(A$4:A34)+1)","v":""},null,"ABO","Annat boende ","Med annat boende avses här alla former av boenden som inte är ordinärt boende eller särskilt boende enligt definitionerna ovan. Exempel på annat boende är HVB-hem oavsett driftsform, bostad med särskild service eller annan särskilt anpassad bostad enligt LSS, familjehem, härbärgen och bostäder där kommunen är kontraktsinnehavare, s.k. ”sociala kontrakt”. Till annat boende räknas i detta fall också hemlöshet.",null,null,null,null,null,null,"","",null,null,null,null,null,null,false]
[{"$f":"IF($T36=FALSE, \"\", MAX(A$4:A35)+1)","v":""},null,"ADAT","Datum för beslut om avslut av bistånd","Datum då beslut togs att avsluta brukarens bistånd",null,null,null,null,null,null,{"$f":"IFERROR(INDEX(C$3:C$90,MATCH(ROW()-ROW(L$3),$A$3:$A$90,0)),\"\")","v":""},{"$f":"IFERROR(INDEX(D$3:D$90,MATCH(ROW()-ROW(M$3),$A$3:$A$90,0)),\"\")","v":""},null,null,null,null,null,null,false]
[{"$f":"IF($T37=FALSE, \"\", MAX(A$4:A36)+1)","v":""},null,"ANNAN","Annan insats","Annan insats",null,null,null,null,null,null,"","",null,null,null,null,null,null,false]
[{"$f":"IF($T38=FALSE, \"\", MAX(A$4:A37)+1)","v":""},null,"AVAN","Hemtjänst avser avlösning","Beslutet om hemtjänst avser avlösning av anhörig i hemmet ",null,null,null,null,null,null,"","",null,null,null,null,null,null,false]
[{"$f":"IF($T39=FALSE, \"\", MAX(A$4:A38)+1)","v":""},null,"AVDAT","Datum för avslut utan verkställan","Om ett biståndsbeslut om insats avslutas utan att insatsen har verkställts anges här datum då beslutet avslutades.",null,null,null,null,null,null,"","",null,null,null,null,null,null,false]
[{"$f":"IF($T40=FALSE, \"\", MAX(A$4:A39)+1)","v":""},null,"BDAT","Datum för beslut","Datum då biståndsbeslut fattats enligt 4 kap 1 § SoL om berörd insats.",null,null,null,null,null,null,"","",null,null,null,null,null,null,false]
[{"$f":"IF($T41=FALSE, \"\", MAX(A$4:A40)+1)","v":""},null,"BESLUT","Brukarens biståndsbeslut avser","Brukarens biståndsbeslut avser",null,null,null,null,null,null,"","",null,null,null,null,null,null,false]
[{"$f":"IF($T42=FALSE, \"\", MAX(A$4:A41)+1)","v":""},null,"BOSTO","Boendestöd ","Med boendestöd avses bistånd i form av stöd i den dagliga livsföringen riktat till särskilda målgrupper. Till särskilda målgrupper hör bl.a. personer med psykisk funktionsnedsättning. Boendestöd kan vara ett såväl praktiskt som socialt stöd för att stärka en persons förmåga att klara vardagen i bostaden och ute i samhället.",null,null,null,null,null,null,"","",null,null,null,null,null,null,false]
[{"$f":"IF($T43=FALSE, \"\", MAX(A$4:A42)+1)","v":""},null,"BOTIM","Boendestödstimmar ","Antal beviljade boendestödstimmar under månaden ",null,null,null,null,null,null,"","",null,null,null,null,null,null,false]
[{"$f":"IF($T44=FALSE, \"\", MAX(A$4:A43)+1)","v":""},null,"DAGV","Dagverksamhet","Med dagverksamhet avses bistånd i form av sysselsättning, gemenskap, behandling eller rehabilitering under dagtid utanför den egna bostaden. Så kallade öppna verksamheter, dvs. verksamheter i vilka personer kan delta utan ett individuellt beslut, t.ex. kaféverksamheter och andra former av träffpunkter avses inte.",null,null,null,null,null,null,"","",null,null,null,null,null,null,false]
[{"$f":"IF($T45=FALSE, \"\", MAX(A$4:A44)+1)","v":""},null,"DATAVREG","Förändringsdatum","Datum för SURV-händelsen. Tom då SURV = 1 eller 2",null,null,null,null,null,null,"","",null,null,null,null,null,null,false]
[{"$f":"IF($T46=FALSE, \"\", MAX(A$4:A45)+1)","v":""},null,"EPH","Enpersonshushåll","Med enpersonshushåll avses här att en person inte delar bostad med maka/make/sam-boende/partner eller annan/andra nära anhörig/anhöriga. Med anhörig avses person inom familjen eller bland de närmaste släktingarna.",null,null,null,null,null,null,"","",null,null,null,null,null,null,false]
[{"$f":"IF($T47=FALSE, \"\", MAX(A$4:A46)+1)","v":""},null,"HKOM","Hemkommun","Hemkommun (i slutet av perioden)",null,null,null,null,null,null,"","",null,null,null,null,null,null,false]
[{"$f":"IF($T48=FALSE, \"\", MAX(A$4:A47)+1)","v":""},null,"HTJ","Hemtjänst ","Med hemtjänst avses biståndsbeslutad service och personlig omvårdnad i den enskildes bostad i ordinärt boende, i särskilt boende eller i annat boende. Service avser t.ex. praktisk hjälp med hemmets skötsel, såsom städning och tvätt, hjälp med inköp, ärenden på post- och bankkontor, hjälp med tillredning av måltid",null,null,null,null,null,null,"","",null,null,null,null,null,null,false]
[{"$f":"IF($T49=FALSE, \"\", MAX(A$4:A48)+1)","v":""},null,"HTJTIM","Hemtjänsttimmar ","Antal beviljade hemtjänsttimmar under månaden ",null,null,null,null,null,null,"","",null,null,null,null,null,null,false]
[{"$f":"IF($T50=FALSE, \"\", MAX(A$4:A49)+1)","v":""},null,"KDEL","Kommundel ","De kommuner som har kommundel, stadsdel, nämnd eller motsvarande kan ange detta här. Uppgiften är frivillig och är till för att underlätta eventuella återkontakter med kommunen.",null,null,null,null,null,null,"","",null,null,null,null,null,null,false]
[{"$f":"IF($T51=FALSE, \"\", MAX(A$4:A50)+1)","v":""},null,"KONTP","Kontaktfamilj/-person","Med kontaktperson/kontaktfamilj avses person/familj, utsedd av socialnämnd (eller motsvarande), med uppgift att stödja och hjälpa enskild person och dennes anhöriga i personliga angelägenheter. Kontaktperson enligt LSS ska inte registreras här.",null,null,null,null,null,null,"","",null,null,null,null,null,null,false]
[{"$f":"IF($T52=FALSE, \"\", MAX(A$4:A51)+1)","v":""},null,"KORTTID","Korttidsvård/-boende ","Med korttidsvård/korttidsboende avses bistånd i form av tillfälligt boende för bl.a. avlösning och växelvård, som kan vara förenat med hälso- och sjukvårdsinsatser.\n26",null,null,null,null,null,null,"","",null,null,null,null,null,null,false]
[{"$f":"IF($T53=FALSE, \"\", MAX(A$4:A52)+1)","v":""},null,"LED","Hemtjänst avser ledsagning","Beslutet om hemtjänst avser ledsagning ",null,null,null,null,null,null,"","",null,null,null,null,null,null,false]
[{"$f":"IF($T54=FALSE, \"\", MAX(A$4:A53)+1)","v":""},null,"MATD","Hemtjänst avser matdistribution","Beslutet om hemtjänst avser matdistribution ",null,null,null,null,null,null,"","",null,null,null,null,null,null,false]
[{"$f":"IF($T55=FALSE, \"\", MAX(A$4:A54)+1)","v":""},null,"OBO","Ordinärt boende ","Med ordinärt boende avses boende i vanliga flerbostadshus, egna hem eller motsvarande som inte kräver individuellt biståndsbeslut.",null,null,null,null,null,null,"","",null,null,null,null,null,null,false]
[{"$f":"IF($T56=FALSE, \"\", MAX(A$4:A55)+1)","v":""},null,"OMDR","Beslutet om särskilt boende inkludera hemtjänst dygnet runt","Beslutet om särskilt boende inkludera hemtjänst dygnet runt",null,null,null,null,null,null,"","",null,null,null,null,null,null,false]
[{"$f":"IF($T57=FALSE, \"\", MAX(A$4:A56)+1)","v":""},null,"PERIOD","Statistikperiod","Datum för när statistiken gäller till",null,null,null,null,null,null,"","",null,null,null,null,null,null,false]
[{"$f":"IF($T58=FALSE, \"\", MAX(A$4:A57)+1)","v":""},null,"POMV","Hemtjänst avser personlig omvårdnad","Beslutet om hemtjänst avser personlig omvårdnad ",null,null,null,null,null,null,"","",null,null,null,null,null,null,false]
[{"$f":"IF($T59=FALSE, \"\", MAX(A$4:A58)+1)","v":""},null,"SBO","Särskilt boende ","Särskilda boendeformer för service och omvårdnad som kommunen, enligt 5 kap. 5 § socialtjänstlagen, ska inrätta för äldre personer som behöver särskilt stöd. Till särskilda boendeformer för service och omvårdnad hör bl.a. ålderdomshem, servicehus, gruppboenden och sjukhem. - Bostäder med särskild service som kommunen, enligt 5 kap. 7 § socialtjänstlagen, ska inrätta för personer som av fysiska, psykiska eller andra skäl möter betydande svårigheter i sin livsföring och som till följd av dessa svårigheter behöver ett sådant boende.",null,null,null,null,null,null,"","",null,null,null,null,null,null,false]
[{"$f":"IF($T60=FALSE, \"\", MAX(A$4:A59)+1)","v":""},null,"SERV","Hemtjänst avser service","Beslutet om hemtjänst avser service ",null,null,null,null,null,null,"","",null,null,null,null,null,null,false]
[{"$f":"IF($T61=FALSE, \"\", MAX(A$4:A60)+1)","v":""},null,"SURV","Förändring under perioden","Förändring under perioden",null,null,null,null,null,null,"","",null,null,null,null,null,null,false]
[{"$f":"IF($T62=FALSE, \"\", MAX(A$4:A61)+1)","v":""},null,"TRYGG","Trygghetslarm","Personen har biståndsbeslut om trygghetslarm",null,null,null,null,null,null,"","",null,null,null,null,null,null,false]
[{"$f":"IF($T63=FALSE, \"\", MAX(A$4:A62)+1)","v":""},null,"VDAT","Datum för verkställighet","Datum då brukaren faktiskt erhåller insats för första gången efter att biståndsbeslut fattats för den aktuella insatsen. För insatsen särskilt boende eller annat boende enligt socialtjänstlagen avses det datum då brukaren får tillträde till bostaden oavsett faktiskt inflyttningsdatum.",null,null,null,null,null,null,"","",null,null,null,null,null,null,false]
[{"$f":"IF($T64=FALSE, \"\", MAX(A$4:A63)+1)","v":""},null,"ABDAT","Beslutsdatum för avslutat bistånd","Beslutsdatum för avslutat bistånd, datum då det bistånd som nu avslutas beslutades",null,null,null,null,null,null,"","",null,null,null,null,null,null,false]
[{"$f":"IF($T65=FALSE, \"\", MAX(A$4:A64)+1)","v":""},null,"ABIST","Annat biståndsbeslut","Verkställigheten/avslutet avser annat bistånd inom vård- och omsorg",null,null,null,null,null,null,"","",null,null,null,null,null,null,false]
[{"$f":"IF($T66=FALSE, \"\", MAX(A$4:A65)+1)","v":""},null,"ABOFORM","Boendeform vid avslut","Boendeform vid tidpunkten innan avslut av verkställt biståndsbeslutet",null,null,null,null,null,null,"","",null,null,null,null,null,null,false]
[{"$f":"IF($T67=FALSE, \"\", MAX(A$4:A66)+1)","v":""},null,"AVAN","Avlösning av anhörig","Verkställigheten/avslutet avser separat biståndsbeslut om avlösning i hemmet",null,null,null,null,null,null,"","",null,null,null,null,null,null,false]
[{"$f":"IF($T68=FALSE, \"\", MAX(A$4:A67)+1)","v":""},null,"AVDAT","Verkställighetsdatum för avslutat bistånd","Verkställighetsdatum för avslutat bistånd, datum då det bistånd som nu avslutas påbörjades",null,null,null,null,null,null,{"$f":"IFERROR(INDEX(C$3:C$90,MATCH(ROW()-ROW(L$3),$A$3:$A$90,0)),\"\")","v":""},{"$f":"IFERROR(INDEX(D$3:D$90,MATCH(ROW()-ROW(M$3),$A$3:$A$90,0)),\"\")","v":""},null,null,null,null,null,null,false]
[{"$f":"IF($T69=FALSE, \"\", MAX(A$4:A68)+1)","v":""},null,"AVSLUT","Förändringen rör ett avslutat beslut","Förändringen avser avslut av verkställt biståndsbeslut under månaden",null,null,null,null,null,null,"","",null,null,null,null,null,null,false]
[{"$f":"IF($T70=FALSE, \"\", MAX(A$4:A69)+1)","v":""},null,"BOSTO","Boendestöd","Verkställigheten/avslutet avser boendestöd",null,null,null,null,null,null,"","",null,null,null,null,null,null,false]
[{"$f":"IF($T71=FALSE, \"\", MAX(A$4:A70)+1)","v":""},null,"DAGV","Dagverksamhet","Verkställigheten/avslutet avser dagverksamhet",null,null,null,null,null,null,"","",null,null,null,null,null,null,false]
[{"$f":"IF($T72=FALSE, \"\", MAX(A$4:A71)+1)","v":""},null,"HTJ","Hemtjänst","Verkställigheten/avslutet avser hemtjänst",null,null,null,null,null,null,"","",null,null,null,null,null,null,false]
[{"$f":"IF($T73=FALSE, \"\", MAX(A$4:A72)+1)","v":""},null,"HTJAVAN","Hemtjänst avser avlösning av anhörig","Om verkställigheten/avslutet avser hemtjänst ange om beslutet avser avlösning av anhörig",null,null,null,null,null,null,"","",null,null,null,null,null,null,false]
[{"$f":"IF($T74=FALSE, \"\", MAX(A$4:A73)+1)","v":""},null,"HTJLED","Hemtjänst avser ledsagning","Om verkställigheten/avslutet avser hemtjänst ange om beslutet avser ledsagning",null,null,null,null,null,null,"","",null,null,null,null,null,null,false]
[{"$f":"IF($T75=FALSE, \"\", MAX(A$4:A74)+1)","v":""},null,"HTJPOMV","Hemtjänst avser personlig omvårdnad","Om verkställigheten/avslutet avser hemtjänst ange om beslutet avser personlig omvårdnad",null,null,null,null,null,null,"","",null,null,null,null,null,null,false]
[{"$f":"IF($T76=FALSE, \"\", MAX(A$4:A75)+1)","v":""},null,"HTJSERV","Hemtjänst avser service","Om verkställigheten/avslutet avser hemtjänst ange om beslutet avser service",null,null,null,null,null,null,"","",null,null,null,null,null,null,false]
[{"$f":"IF($T77=FALSE, \"\", MAX(A$4:A76)+1)","v":""},null,"HTJTIM","Hemtjänsttimmar","Om verkställigheten/avslutet avser hemtjänst ange antal beviljade timmar per månad",null,null,null,null,null,null,"","",null,null,null,null,null,null,false]
[{"$f":"IF($T78=FALSE, \"\", MAX(A$4:A77)+1)","v":""},null,"KONTF","Kontaktfamilj","Verkställigheten/avslutet avser kontaktfamilj",null,null,null,null,null,null,"","",null,null,null,null,null,null,false]
[{"$f":"IF($T79=FALSE, \"\", MAX(A$4:A78)+1)","v":""},null,"KONTP","Kontaktperson","Verkställigheten/avslutet avser kontaktperson",null,null,null,null,null,null,"","",null,null,null,null,null,null,false]
[{"$f":"IF($T80=FALSE, \"\", MAX(A$4:A79)+1)","v":""},null,"KORTTID","Korttidsboende","Verkställigheten/avslutet avser korttidsboende/korttidsvård",null,null,null,null,null,null,"","",null,null,null,null,null,null,false]
[{"$f":"IF($T81=FALSE, \"\", MAX(A$4:A80)+1)","v":""},null,"LEDSAG","Ledsagning","Verkställigheten/avslutet avser separat biståndsbeslut om ledsagning",null,null,null,null,null,null,"","",null,null,null,null,null,null,false]
[{"$f":"IF($T82=FALSE, \"\", MAX(A$4:A81)+1)","v":""},null,"MATD","Matdistribution","Verkställigheten/avslutet avser separat biståndsbeslut om matdistribution",null,null,null,null,null,null,"","",null,null,null,null,null,null,false]
[{"$f":"IF($T83=FALSE, \"\", MAX(A$4:A82)+1)","v":""},null,"POMVTRYGG","Personlig omvårdnad i form av trygghetslarm","Om verkställigheten/avslutet av biståndsbeslutet om hemtjänst avser service enligt fråga17.2.1",null,null,null,null,null,null,"","",null,null,null,null,null,null,false]
[{"$f":"IF($T84=FALSE, \"\", MAX(A$4:A83)+1)","v":""},null,"SBO","Särskilt boenden","Verkställigheten/avslutet avser särskilt boende",null,null,null,null,null,null,"","",null,null,null,null,null,null,false]
[{"$f":"IF($T85=FALSE, \"\", MAX(A$4:A84)+1)","v":""},null,"SERVMATD","Hemtjänst i form av service ","Om verkställigheten/avslutet av biståndsbeslutet om hemtjänst avser service enligt fråga17.2.1",null,null,null,null,null,null,"","",null,null,null,null,null,null,false]
[{"$f":"IF($T86=FALSE, \"\", MAX(A$4:A85)+1)","v":""},null,"TRYGG","Trygghetslarm","Verkställigheten/avslutet avser separat biståndsbeslut om trygghetslarm",null,null,null,null,null,null,"","",null,null,null,null,null,null,false]
[{"$f":"IF($T87=FALSE, \"\", MAX(A$4:A86)+1)","v":""},null,"VBDAT","Datum för biståndsbeslut","Datum då besluts togs att brukaren ska få bistånd",null,null,null,null,null,null,"","",null,null,null,null,null,null,false]
[{"$f":"IF($T88=FALSE, \"\", MAX(A$4:A87)+1)","v":""},null,"VBOFORM","Boendeform vid verkställan","Boendeform vid påbörjan av biståndsbeslutet",null,null,null,null,null,null,"","",null,null,null,null,null,null,false]
[{"$f":"IF($T89=FALSE, \"\", MAX(A$4:A88)+1)","v":""},null,"VERKST","Förändringen rör ett verkställt beslut","Förändringen avser verkställighet av biståndsbeslut under månaden",null,null,null,null,null,null,"","",null,null,null,null,null,null,false]
[{"$f":"IF($T90=FALSE, \"\", MAX(A$4:A89)+1)","v":""},null,"VVDAT","Datum för verkställighet av biståndsbeslut","Datum då biståndsbeslutet påbörjades",null,null,null,null,null,null,"","",null,null,null,null,null,null,false]

{"sheet":"BU","index":5,"n_rows":34,"n_cols":20,"rows_kept":34,"cut":false,"hidden":true,"merged":[]}
[null,null,null,"Registret över insatser för barn och unga, BU"]
[]
["#","Val","Variabel","Klartext","Definition","Kommentar",null,null,null,null,null,"Variabel","Klartext",null,null,"Auto-kryssa:"]
[{"$f":"IF($T4=FALSE, \"\", MAX(A$3:A3)+1)","v":""},null,"DEBUTAR","Debutår","Första året då beslut fattades om någon insats för barnet. ",null,null,null,null,null,{"$f":"IFERROR(INDEX(C$4:C$33,MATCH(ROW()-ROW(#REF!),$A$4:$A$33,0)),\"\")","v":""},{"$f":"IFERROR(INDEX(C$3:C$33,MATCH(ROW()-ROW(L$3),$A$3:$A$33,0)),\"\")","v":""},{"$f":"IFERROR(INDEX(D$3:D$33,MATCH(ROW()-ROW(M$3),$A$3:$A$33,0)),\"\")","v":""},null,null,null,null,null,null,false]
[{"$f":"IF($T5=FALSE, \"\", MAX(A$4:A4)+1)","v":""},null,"FFODLAND","Faderns födelseland","Faderns födelseland, landsnamn","För enskilda länder krävs EPN godkännande",null,null,null,null,{"$f":"IFERROR(INDEX(C$4:C$33,MATCH(ROW()-ROW(#REF!),$A$4:$A$33,0)),\"\")","v":""},"","",null,null,null,null,null,null,false]
[{"$f":"IF($T6=FALSE, \"\", MAX(A$4:A5)+1)","v":""},null,"FFODLAND_KOD","Faderns födelseland, kod ","Faderns födelseland, kod med två bokstäver enligt RTB.","För enskilda länder krävs EPN godkännande",null,null,null,null,{"$f":"IFERROR(INDEX(C$4:C$33,MATCH(ROW()-ROW(#REF!),$A$4:$A$33,0)),\"\")","v":""},"","",null,null,null,null,null,null,false]
[{"$f":"IF($T7=FALSE, \"\", MAX(A$4:A6)+1)","v":""},null,"FMFODLA","Föräldrarnas födelseland","Ensiffrig kod för faderns och moderns födelseland","För enskilda länder krävs EPN godkännande",null,null,null,null,{"$f":"IFERROR(INDEX(C$4:C$33,MATCH(ROW()-ROW(#REF!),$A$4:$A$33,0)),\"\")","v":""},"","",null,null,null,null,null,null,false]
[{"$f":"IF($T8=FALSE, \"\", MAX(A$4:A7)+1)","v":""},null,"FODDATN","Födelsedatum","Barnets födelsedatum",null,null,null,null,null,{"$f":"IFERROR(INDEX(C$4:C$33,MATCH(ROW()-ROW(#REF!),$A$4:$A$33,0)),\"\")","v":""},"","",null,null,null,null,null,null,false]
[{"$f":"IF($T9=FALSE, \"\", MAX(A$4:A8)+1)","v":""},null,"FODLAND","Barnets födelseland","Barnets födelseland","För enskilda länder krävs EPN godkännande",null,null,null,null,{"$f":"IFERROR(INDEX(C$4:C$33,MATCH(ROW()-ROW(#REF!),$A$4:$A$33,0)),\"\")","v":""},"","",null,null,null,null,null,null,false]
[{"$f":"IF($T10=FALSE, \"\", MAX(A$4:A9)+1)","v":""},null,"FODLAND_KOD","Barnets födelseland, kod ","Barnets födelseland, kod med två bokstäver enligt RTB (SCB:s register över totalbefolkningen).","För enskilda länder krävs EPN godkännande",null,null,null,null,{"$f":"IFERROR(INDEX(C$4:C$33,MATCH(ROW()-ROW(#REF!),$A$4:$A$33,0)),\"\")","v":""},"","",null,null,null,null,null,null,false]
[{"$f":"IF($T11=FALSE, \"\", MAX(A$4:A10)+1)","v":""},null,"KON","Kön","Barnets kön",null,null,null,null,null,{"$f":"IFERROR(INDEX(C$4:C$33,MATCH(ROW()-ROW(#REF!),$A$4:$A$33,0)),\"\")","v":""},"","",null,null,null,null,null,null,false]
[{"$f":"IF($T12=FALSE, \"\", MAX(A$4:A11)+1)","v":""},null,"MFODLAND","Moderns födelseland","Moderns födelseland, landsnamn","För enskilda länder krävs EPN godkännande",null,null,null,null,{"$f":"IFERROR(INDEX(C$4:C$33,MATCH(ROW()-ROW(#REF!),$A$4:$A$33,0)),\"\")","v":""},"","",null,null,null,null,null,null,false]
[{"$f":"IF($T13=FALSE, \"\", MAX(A$4:A12)+1)","v":""},null,"MFODLAND_KOD","Moderns födelseland, kod","Moderns födelseland, kod med två bokstäver enligt RTB","För enskilda länder krävs EPN godkännande",null,null,null,null,{"$f":"IFERROR(INDEX(C$4:C$33,MATCH(ROW()-ROW(#REF!),$A$4:$A$33,0)),\"\")","v":""},"","",null,null,null,null,null,null,false]
[{"$f":"IF($T14=FALSE, \"\", MAX(A$4:A13)+1)","v":""},null,"PAGINS","Insats som pågår","Pågående insats för barnet. Blankt om ingen insats pågår.",null,null,null,null,null,{"$f":"IFERROR(INDEX(C$4:C$33,MATCH(ROW()-ROW(#REF!),$A$4:$A$33,0)),\"\")","v":""},"","",null,null,null,null,null,null,false]
[{"$f":"IF($T15=FALSE, \"\", MAX(A$4:A14)+1)","v":""},null,"SENAR","Senaste år med insats","Senaste året då barnet var föremål för någon insats. Blankt om insats fortfarande pågår.",null,null,null,null,null,{"$f":"IFERROR(INDEX(C$4:C$33,MATCH(ROW()-ROW(#REF!),$A$4:$A$33,0)),\"\")","v":""},"","",null,null,null,null,null,null,false]
[{"$f":"IF($T16=FALSE, \"\", MAX(A$4:A15)+1)","v":""},null,"SENINV","Senaste invandringsår","Senaste år då barnet beviljades uppehållstillstånd.",null,null,null,null,null,{"$f":"IFERROR(INDEX(C$4:C$33,MATCH(ROW()-ROW(#REF!),$A$4:$A$33,0)),\"\")","v":""},"","",null,null,null,null,null,null,false]
[{"$f":"IF($T17=FALSE, \"\", MAX(A$4:A16)+1)","v":""},null,"AVSLDAT","Datum för slut av insats","Dag då den sista placeringen upphörde. ",null,null,null,null,null,{"$f":"IFERROR(INDEX(C$4:C$33,MATCH(ROW()-ROW(#REF!),$A$4:$A$33,0)),\"\")","v":""},"","",null,null,null,null,null,null,false]
[{"$f":"IF($T18=FALSE, \"\", MAX(A$4:A17)+1)","v":""},null,"BESLDAT","Datum för beslut om insats","Dag då beslut om insats för barnet fattades i socialnämnden.",null,null,null,null,null,{"$f":"IFERROR(INDEX(C$4:C$33,MATCH(ROW()-ROW(#REF!),$A$4:$A$33,0)),\"\")","v":""},"","",null,null,null,null,null,null,false]
[{"$f":"IF($T19=FALSE, \"\", MAX(A$4:A18)+1)","v":""},null,"DISTRIKT","Distrikt","Sexsiffrig distriktskod. Frivillig uppgift för de kommuner som använder sådana.",null,null,null,null,null,{"$f":"IFERROR(INDEX(C$4:C$33,MATCH(ROW()-ROW(#REF!),$A$4:$A$33,0)),\"\")","v":""},"","",null,null,null,null,null,null,false]
[{"$f":"IF($T20=FALSE, \"\", MAX(A$4:A19)+1)","v":""},null,"INSTYP","Typ av insats","Typ av insats",null,null,null,null,null,{"$f":"IFERROR(INDEX(C$4:C$33,MATCH(ROW()-ROW(#REF!),$A$4:$A$33,0)),\"\")","v":""},"","",null,null,null,null,null,null,false]
[{"$f":"IF($T21=FALSE, \"\", MAX(A$4:A20)+1)","v":""},null,"LK","Kommun","Fyrsiffrig kommunkod",null,null,null,null,null,{"$f":"IFERROR(INDEX(C$4:C$33,MATCH(ROW()-ROW(#REF!),$A$4:$A$33,0)),\"\")","v":""},"","",null,null,null,null,null,null,false]
[{"$f":"IF($T22=FALSE, \"\", MAX(A$4:A21)+1)","v":""},null,"PLACDAT1","Datum för start av placering","Dag då den första placeringen för insatsen påbörjades",null,null,null,null,null,{"$f":"IFERROR(INDEX(C$4:C$33,MATCH(ROW()-ROW(#REF!),$A$4:$A$33,0)),\"\")","v":""},"","",null,null,null,null,null,null,false]
[{"$f":"IF($T23=FALSE, \"\", MAX(A$4:A22)+1)","v":""},null,"SPEC","Specifikation för insatsen","Specifikation för insatsen enligt LVU. Miljö endast för 0-17 åringar. Beteende endast för 10-20 åringar. Blankt för Sol-vård.",null,null,null,null,null,{"$f":"IFERROR(INDEX(C$4:C$33,MATCH(ROW()-ROW(#REF!),$A$4:$A$33,0)),\"\")","v":""},"","",null,null,null,null,null,null,false]
[{"$f":"IF($T24=FALSE, \"\", MAX(A$4:A23)+1)","v":""},null,"VARDDAG_INSATS","Antal vårddagar för insatsen","Antal vårddagar för insatsen. Räknas från första placeringsdatum till avslutningsdatum med tillägg av en dag.",null,null,null,null,null,{"$f":"IFERROR(INDEX(C$4:C$33,MATCH(ROW()-ROW(#REF!),$A$4:$A$33,0)),\"\")","v":""},"","",null,null,null,null,null,null,false]
[{"$f":"IF($T25=FALSE, \"\", MAX(A$4:A24)+1)","v":""},null,"VARDSLUT","Vårdnadshavare vid slut på insatsen","Vårdnadshavare (1 tecken) när insatsen slutar. Här avgavs före 1998 i stället familjeställning. Dessa värden har kompletterats med en 1:a framför.",null,null,null,null,null,{"$f":"IFERROR(INDEX(C$4:C$33,MATCH(ROW()-ROW(#REF!),$A$4:$A$33,0)),\"\")","v":""},"","",null,null,null,null,null,null,false]
[{"$f":"IF($T26=FALSE, \"\", MAX(A$4:A25)+1)","v":""},null,"VARDST","Vårdnadshavare vid start av insatsen","Vårdnadshavare (1 tecken) när insatsen börjar. Här angavs före 1998 i stället familjeställning. Dessa värden har kompletterats med en 1:a före.",null,null,null,null,null,{"$f":"IFERROR(INDEX(C$4:C$33,MATCH(ROW()-ROW(#REF!),$A$4:$A$33,0)),\"\")","v":""},"","",null,null,null,null,null,null,false]
[{"$f":"IF($T27=FALSE, \"\", MAX(A$4:A26)+1)","v":""},null,"VARTBARN","Vart tog barnet vägen efter avslut","Tvåsiffrig kod som anger vart barnet tog vägen efter insatsen.",null,null,null,null,null,{"$f":"IFERROR(INDEX(C$4:C$33,MATCH(ROW()-ROW(#REF!),$A$4:$A$33,0)),\"\")","v":""},"","",null,null,null,null,null,null,false]
[{"$f":"IF($T28=FALSE, \"\", MAX(A$4:A27)+1)","v":""},null,"AVSLDAT","Datum för slut av insats","Dag då placeringen avslutades. ",null,null,null,null,null,{"$f":"IFERROR(INDEX(C$4:C$33,MATCH(ROW()-ROW(#REF!),$A$4:$A$33,0)),\"\")","v":""},"","",null,null,null,null,null,null,false]
[{"$f":"IF($T29=FALSE, \"\", MAX(A$4:A28)+1)","v":""},null,"BESLDAT","Datum för beslut om insats","Dag då beslut om insats för barnet fattades i socialnämnden. ",null,null,null,null,null,{"$f":"IFERROR(INDEX(C$4:C$33,MATCH(ROW()-ROW(#REF!),$A$4:$A$33,0)),\"\")","v":""},"","",null,null,null,null,null,null,false]
[{"$f":"IF($T30=FALSE, \"\", MAX(A$4:A29)+1)","v":""},null,"PLACDAT1","Datum för start av placering","Dag då placeringen påbörjades. ",null,null,null,null,null,{"$f":"IFERROR(INDEX(C$4:C$33,MATCH(ROW()-ROW(#REF!),$A$4:$A$33,0)),\"\")","v":""},"","",null,null,null,null,null,null,false]
[{"$f":"IF($T31=FALSE, \"\", MAX(A$4:A30)+1)","v":""},null,"PLACFORM","Placeringsform","Anger i vilken typ av hem barnet placerades.",null,null,null,null,null,{"$f":"IFERROR(INDEX(C$4:C$33,MATCH(ROW()-ROW(#REF!),$A$4:$A$33,0)),\"\")","v":""},"","",null,null,null,null,null,null,false]
[{"$f":"IF($T32=FALSE, \"\", MAX(A$4:A31)+1)","v":""},null,"PLACKOM","Placeringskommun","Anger i vilken kommun barnet placerades. ",null,null,null,null,null,{"$f":"IFERROR(INDEX(C$4:C$33,MATCH(ROW()-ROW(#REF!),$A$4:$A$33,0)),\"\")","v":""},"","",null,null,null,null,null,null,false]
[{"$f":"IF($T33=FALSE, \"\", MAX(A$4:A32)+1)","v":""},null,"VARDDAG_PLACERING","Antal vårddagar för placeringen","Antal vårddagar för insatsen. Räknas från placeringsdatum till avslutningsdatum med tillägg av en dag.",null,null,null,null,null,{"$f":"IFERROR(INDEX(C$4:C$33,MATCH(ROW()-ROW(#REF!),$A$4:$A$33,0)),\"\")","v":""},"","",null,null,null,null,null,null,false]
[null,null,null,null,null,null,null,null,null,null,null,null,null,null,null,null,null,null,null,false]

{"sheet":"THR","index":6,"n_rows":41,"n_cols":20,"rows_kept":41,"cut":false,"hidden":true,"merged":[]}
[null,null,null,"Tandhälsoregistret, THR"]
[]
["#","Val","Variabel","Klartext","Definition","Kommentar",null,null,null,null,null,"Variabel","Klartext",null,null,"Auto-kryssa:",null,null,null,false]
[{"$f":"IF($T4=FALSE, \"\", MAX(A$3:A3)+1)","v":""},null,"ALDER","Ålder vid besökårets slut","Patientens ålder vid besökårets slut",null,null,null,null,null,null,{"$f":"IFERROR(INDEX(C$3:C$41,MATCH(ROW()-ROW(L$3),$A$3:$A$41,0)),\"\")","v":""},{"$f":"IFERROR(INDEX(D$3:D$41,MATCH(ROW()-ROW(M$3),$A$3:$A$41,0)),\"\")","v":""},null,null,null,null,null,null,false]
[{"$f":"IF($T5=FALSE, \"\", MAX(A$4:A4)+1)","v":""},null,"ALT_ATGARD","Alternativ åtgärd","Åtgärd enligt de ersättningsregler som TLV föreskriver \n3-siffrig kod",null,null,null,null,null,null,"","",null,null,null,null,null,null,false]
[{"$f":"IF($T6=FALSE, \"\", MAX(A$4:A5)+1)","v":""},null,"AR","Besöksår","Året när besöket ägde rum",null,null,null,null,null,null,"","",null,null,null,null,null,null,false]
[{"$f":"IF($T7=FALSE, \"\", MAX(A$4:A6)+1)","v":""},null,"ARENDEID","Ärende ID","Ärende ID\n10-siffrig kod",null,null,null,null,null,null,"","",null,null,null,null,null,null,false]
[{"$f":"IF($T8=FALSE, \"\", MAX(A$4:A7)+1)","v":""},null,"ATGARD","Åtgärd","Åtgärd enligt de ersättningsregler som TLV föreskriver\n3-siffrig kod",null,null,null,null,null,null,"","",null,null,null,null,null,null,false]
[{"$f":"IF($T9=FALSE, \"\", MAX(A$4:A8)+1)","v":""},null,"BESLUTSDATUMN","Beslutsdatum","FKs beslutsdatum",null,null,null,null,null,null,"","",null,null,null,null,null,null,false]
[{"$f":"IF($T10=FALSE, \"\", MAX(A$4:A9)+1)","v":""},null,"BESOKSALDER","Ålder vid besök","Patientens ålder",null,null,null,null,null,null,"","",null,null,null,null,null,null,false]
[{"$f":"IF($T11=FALSE, \"\", MAX(A$4:A10)+1)","v":""},null,"BESOKSDATUMN","Besöksdatum","Datum för avslutad åtgärd",null,null,null,null,null,null,"","",null,null,null,null,null,null,false]
[{"$f":"IF($T12=FALSE, \"\", MAX(A$4:A11)+1)","v":""},null,"CIVIL","Civilstånd","G = gift\nOG = ogift\nS = skild\nÄ = änka/änkling\nRP = registrerar partnerskap\nSP = separerat partnerskap\nEP = efterlevande partnerskap ",null,null,null,null,null,null,"","",null,null,null,null,null,null,false]
[{"$f":"IF($T13=FALSE, \"\", MAX(A$4:A12)+1)","v":""},null,"FODLAND","Födelseland",null,"Som standard grupperas variabeln med avseende på världsdel.",null,null,null,null,null,"","",null,null,null,null,null,null,false]
[{"$f":"IF($T14=FALSE, \"\", MAX(A$4:A13)+1)","v":""},null,"GATUNAMN","Gatunamn","Klinikens gatunamn",null,null,null,null,null,null,"","",null,null,null,null,null,null,false]
[{"$f":"IF($T15=FALSE, \"\", MAX(A$4:A14)+1)","v":""},null,"GATUNR","Gatunummer","Klinikens gatunummer",null,null,null,null,null,null,"","",null,null,null,null,null,null,false]
[{"$f":"IF($T16=FALSE, \"\", MAX(A$4:A15)+1)","v":""},null,"GRUND","Grund till vård","För patienter som har rätt till särskilt tandvårdsbidrag (STB) ska grunden till vården anges vid de besök då bidraget nyttjas.\n\nSTB får endast användas till förebyggande tandvård och kan användas till följande åtgärder:\n101, 103, 111, 112, 113, 114, 161, 162, 201, 204, 205, 206, 311, 312, 313, 314, 321, 341, 342, 343\n\nI registret är dock denna variabel ifylld för samtliga åtgärder som utfördes under samma besök då åtgärden utfördes för vilken patienten utnyttjade sitt STB.",null,null,null,null,null,null,"","",null,null,null,null,null,null,false]
[{"$f":"IF($T17=FALSE, \"\", MAX(A$4:A16)+1)","v":""},null,"ID","Mottagningens id-nummer","10-siffrig kod",null,null,null,null,null,null,"","",null,null,null,null,null,null,false]
[{"$f":"IF($T18=FALSE, \"\", MAX(A$4:A17)+1)","v":""},null,"KATEGORI","Vårdgivarkategori",null,null,null,null,null,null,null,"","",null,null,null,null,null,null,false]
[{"$f":"IF($T19=FALSE, \"\", MAX(A$4:A18)+1)","v":""},null,"KON","Kön","Patientens kön",null,null,null,null,null,null,"","",null,null,null,null,null,null,false]
[{"$f":"IF($T20=FALSE, \"\", MAX(A$4:A19)+1)","v":""},null,"LKF","Folkbokföringsort (Endast län och kommun)","Patientens hemort efter kontroll mot SCB",null,null,null,null,null,null,"","",null,null,null,null,null,null,false]
[{"$f":"IF($T21=FALSE, \"\", MAX(A$4:A20)+1)","v":""},null,"MEDBORG","Medborgarskap",null,"Som standard grupperas variabeln med avseende på världsdel.",null,null,null,null,null,"","",null,null,null,null,null,null,false]
[{"$f":"IF($T22=FALSE, \"\", MAX(A$4:A21)+1)","v":""},null,"MOT_LAN","Mottagningens län","2-siffrig kod",null,null,null,null,null,null,"","",null,null,null,null,null,null,false]
[{"$f":"IF($T23=FALSE, \"\", MAX(A$4:A22)+1)","v":""},null,"MOT_NAMN","Mottagningens namn","Klinikens namn",null,null,null,null,null,null,"","",null,null,null,null,null,null,false]
[{"$f":"IF($T24=FALSE, \"\", MAX(A$4:A23)+1)","v":""},null,"ORG_NR","Vårdgivarens organisationsnummer","Klinikens organisationsnummer\n10-siffrig kod, byts ut mot ett unikt löpnummer in den lämnas ut",null,null,null,null,null,null,"","",null,null,null,null,null,null,false]
[{"$f":"IF($T25=FALSE, \"\", MAX(A$4:A24)+1)","v":""},null,"PNRBYTE_DATUM","Datum för personnummerändring",null,null,null,null,null,null,null,"","",null,null,null,null,null,null,false]
[{"$f":"IF($T26=FALSE, \"\", MAX(A$4:A25)+1)","v":""},null,"POSTKOD","Postkod","Klinikens postkod",null,null,null,null,null,null,"","",null,null,null,null,null,null,false]
[{"$f":"IF($T27=FALSE, \"\", MAX(A$4:A26)+1)","v":""},null,"POSTORT","Postort","Klinikens stad",null,null,null,null,null,null,"","",null,null,null,null,null,null,false]
[{"$f":"IF($T28=FALSE, \"\", MAX(A$4:A27)+1)","v":""},null,"SENINV","Senaste invandring",null,null,null,null,null,null,null,"","",null,null,null,null,null,null,false]
[{"$f":"IF($T29=FALSE, \"\", MAX(A$4:A28)+1)","v":""},null,"SENUTV","Senaste utvandring",null,null,null,null,null,null,null,"","",null,null,null,null,null,null,false]
[{"$f":"IF($T30=FALSE, \"\", MAX(A$4:A29)+1)","v":""},null,"TANDNUMMER","Tandnummer","Nummer på tand",null,null,null,null,null,null,"","",null,null,null,null,null,null,false]
[{"$f":"IF($T31=FALSE, \"\", MAX(A$4:A30)+1)","v":""},null,"TANDPOSITION","Tandposition","Position på tand",null,null,null,null,null,null,"","",null,null,null,null,null,null,false]
[{"$f":"IF($T32=FALSE, \"\", MAX(A$4:A31)+1)","v":""},null,"TILLSTAND","Tillstånd","Diagnos/Tillstånd \n4-siffrig kod",null,null,null,null,null,null,"","",null,null,null,null,null,null,false]
[{"$f":"IF($T33=FALSE, \"\", MAX(A$4:A32)+1)","v":""},null,"TRANSTYP","Transaktionstyp",null,null,null,null,null,null,null,"","",null,null,null,null,null,null,false]
[{"$f":"IF($T34=FALSE, \"\", MAX(A$4:A33)+1)","v":""},null,"ALDER","Ålder vid besökårets slut",null,null,null,null,null,null,null,"","",null,null,null,null,null,null,false]
[{"$f":"IF($T35=FALSE, \"\", MAX(A$4:A34)+1)","v":""},null,"AR","Besöksår",null,null,null,null,null,null,null,"","",null,null,null,null,null,null,false]
[{"$f":"IF($T36=FALSE, \"\", MAX(A$4:A35)+1)","v":""},null,"ARENDEID","Ärende ID\n10-siffrig kod","Ärende ID",null,null,null,null,null,null,"","",null,null,null,null,null,null,false]
[{"$f":"IF($T37=FALSE, \"\", MAX(A$4:A36)+1)","v":""},null,"BESLUTSDATUMN","Beslutsdatum / ATB användningsdatum","FKs beslutsdatum eller ATB användningsdatum för patienter på abonnemang",null,null,null,null,null,null,"","",null,null,null,null,null,null,false]
[{"$f":"IF($T38=FALSE, \"\", MAX(A$4:A37)+1)","v":""},null,"BESOKSALDER","Ålder vid besök",null,null,null,null,null,null,null,"","",null,null,null,null,null,null,false]
[{"$f":"IF($T39=FALSE, \"\", MAX(A$4:A38)+1)","v":""},null,"BESOKSDATUMN","Besöksdatum / Inskickatdatum","Datum för avslutad åtgärd eller datum då uppgift om patientens tandhälsan har skickats in till FK för patienter på abonnemang.",null,null,null,null,null,null,"","",null,null,null,null,null,null,false]
[{"$f":"IF($T40=FALSE, \"\", MAX(A$4:A39)+1)","v":""},null,"INTAKTA","Antal intakta tänder","Antal intakta tänder",null,null,null,null,null,null,"","",null,null,null,null,null,null,false]
[{"$f":"IF($T41=FALSE, \"\", MAX(A$4:A40)+1)","v":""},null,"KVARVARANDE","Antal kvarvarande tänder","Antal kvarvarande tänder",null,null,null,null,null,null,"","",null,null,null,null,null,null,false]

{"sheet":"MFR_LMED","index":7,"n_rows":151,"n_cols":20,"rows_kept":151,"cut":false,"hidden":true,"merged":[]}
[null,null,null,"Medicinska Födelseregistret Läkemedel"]
[]
["#","Val","Variabel","Klartext","Definition","Kommentar",null,null,null,null,null,"Variabel","Klartext",null,null,"Auto-kryssa:"]
[{"$f":"IF($T4=FALSE, \"\", MAX(A$3:A3)+1)","v":""},null,"AR","Barnets födelseår","Barnets födelseår",null,null,null,null,null,null,{"$f":"IFERROR(INDEX(C$3:C$11,MATCH(ROW()-ROW(L$3),$A$3:$A$11,0)),\"\")","v":""},"",null,null,null,null,null,null,false]
[{"$f":"IF($T5=FALSE, \"\", MAX(A$4:A4)+1)","v":""},null,"ATC","ATC-kod enligt varuregistret. Översatt från fritext till ATC-kod.","ATC-kod enligt varuregistret. Översatt från fritext till ATC-kod.Preparat som inte har ATC-kod är kodade till olika grupper (2013 - )",null,null,null,null,null,null,"","",null,null,null,null,null,null,false]
[{"$f":"IF($T6=FALSE, \"\", MAX(A$4:A5)+1)","v":""},null,"BFODDAT","Barnets födelsedatum ","Barnets födelsedatum. Används för att matcha mot MFR. ","Rekommenderad variabel",null,null,null,null,null,"","",null,null,null,null,null,null,false]
[{"$f":"IF($T7=FALSE, \"\", MAX(A$4:A6)+1)","v":""},null,"BLANKETT","Preparatets ursprungsblankett","Preparatets ursprungsblankett",null,null,null,null,null,null,"","",null,null,null,null,null,null,false]
[{"$f":"IF($T8=FALSE, \"\", MAX(A$4:A7)+1)","v":""},null,"GRUPP","Gruppering av preparat","Gruppering av preparat. Gruppen ger information om koden är ATC-kod eller inte. (2013- )",null,null,null,null,null,null,"","",null,null,null,null,null,null,false]
[{"$f":"IF($T9=FALSE, \"\", MAX(A$4:A8)+1)","v":""},null,"MFODDAT","Moderns födelsedatum","Moderns födelsedatum","För fullständigt datum krävs särskild motivering ",null,null,null,null,null,"","",null,null,null,null,null,null,false]
[{"$f":"IF($T10=FALSE, \"\", MAX(A$4:A9)+1)","v":""},null,"ATCM1_01 - ATCM1_17","ATC kod 1 - 17 Från MHV1 (1995 - 2013)","ATC kod 1 - 17 från MVH1 (1995 - 2013)",null,null,null,null,null,null,"","",null,null,null,null,null,null,false]
[{"$f":"IF($T11=FALSE, \"\", MAX(A$4:A10)+1)","v":""},null,"ATCM2_01-ATCM2_26","ATC kod 1 - 26 från MHV2  (1995 - 2013)","ATC kod 1 - 26 från MHV2  (1995 - 2013)",null,null,null,null,null,null,"","",null,null,null,null,null,null,false]
[{"$f":"IF($T12=FALSE, \"\", MAX(A$4:A11)+1)","v":""},null,null,null,null,null,null,null,null,null,null,{"$f":"IFERROR(INDEX(C$4:C$151,MATCH(ROW()-ROW(#REF!),$A$4:$A$151,0)),\"\")","v":""},{"$f":"IFERROR(INDEX(D$4:D$151,MATCH(ROW()-ROW(#REF!),$A$4:$A$151,0)),\"\")","v":""},null,null,null,null,null,null,false]
[{"$f":"IF($T13=FALSE, \"\", MAX(A$4:A12)+1)","v":""},null,null,null,null,null,null,null,null,null,null,{"$f":"IFERROR(INDEX(C$4:C$151,MATCH(ROW()-ROW(#REF!),$A$4:$A$151,0)),\"\")","v":""},{"$f":"IFERROR(INDEX(D$4:D$151,MATCH(ROW()-ROW(#REF!),$A$4:$A$151,0)),\"\")","v":""},null,null,null,null,null,null,false]
[{"$f":"IF($T14=FALSE, \"\", MAX(A$4:A13)+1)","v":""},null,null,null,null,null,null,null,null,null,null,{"$f":"IFERROR(INDEX(C$4:C$151,MATCH(ROW()-ROW(#REF!),$A$4:$A$151,0)),\"\")","v":""},{"$f":"IFERROR(INDEX(D$4:D$151,MATCH(ROW()-ROW(#REF!),$A$4:$A$151,0)),\"\")","v":""},null,null,null,null,null,null,false]
[{"$f":"IF($T15=FALSE, \"\", MAX(A$4:A14)+1)","v":""},null,null,null,null,null,null,null,null,null,null,{"$f":"IFERROR(INDEX(C$4:C$151,MATCH(ROW()-ROW(#REF!),$A$4:$A$151,0)),\"\")","v":""},{"$f":"IFERROR(INDEX(D$4:D$151,MATCH(ROW()-ROW(#REF!),$A$4:$A$151,0)),\"\")","v":""},null,null,null,null,null,null,false]
[{"$f":"IF($T16=FALSE, \"\", MAX(A$4:A15)+1)","v":""},null,null,null,null,null,null,null,null,null,null,{"$f":"IFERROR(INDEX(C$4:C$151,MATCH(ROW()-ROW(#REF!),$A$4:$A$151,0)),\"\")","v":""},{"$f":"IFERROR(INDEX(D$4:D$151,MATCH(ROW()-ROW(#REF!),$A$4:$A$151,0)),\"\")","v":""},null,null,null,null,null,null,false]
[{"$f":"IF($T17=FALSE, \"\", MAX(A$4:A16)+1)","v":""},null,null,null,null,null,null,null,null,null,null,{"$f":"IFERROR(INDEX(C$4:C$151,MATCH(ROW()-ROW(#REF!),$A$4:$A$151,0)),\"\")","v":""},{"$f":"IFERROR(INDEX(D$4:D$151,MATCH(ROW()-ROW(#REF!),$A$4:$A$151,0)),\"\")","v":""},null,null,null,null,null,null,false]
[{"$f":"IF($T18=FALSE, \"\", MAX(A$4:A17)+1)","v":""},null,null,null,null,null,null,null,null,null,null,{"$f":"IFERROR(INDEX(C$4:C$151,MATCH(ROW()-ROW(#REF!),$A$4:$A$151,0)),\"\")","v":""},{"$f":"IFERROR(INDEX(D$4:D$151,MATCH(ROW()-ROW(#REF!),$A$4:$A$151,0)),\"\")","v":""},null,null,null,null,null,null,false]
[{"$f":"IF($T19=FALSE, \"\", MAX(A$4:A18)+1)","v":""},null,null,null,null,null,null,null,null,null,null,{"$f":"IFERROR(INDEX(C$4:C$151,MATCH(ROW()-ROW(#REF!),$A$4:$A$151,0)),\"\")","v":""},{"$f":"IFERROR(INDEX(D$4:D$151,MATCH(ROW()-ROW(#REF!),$A$4:$A$151,0)),\"\")","v":""},null,null,null,null,null,null,false]
[{"$f":"IF($T20=FALSE, \"\", MAX(A$4:A19)+1)","v":""},null,null,null,null,null,null,null,null,null,null,{"$f":"IFERROR(INDEX(C$4:C$151,MATCH(ROW()-ROW(#REF!),$A$4:$A$151,0)),\"\")","v":""},{"$f":"IFERROR(INDEX(D$4:D$151,MATCH(ROW()-ROW(#REF!),$A$4:$A$151,0)),\"\")","v":""},null,null,null,null,null,null,false]
[{"$f":"IF($T21=FALSE, \"\", MAX(A$4:A20)+1)","v":""},null,null,null,null,null,null,null,null,null,null,{"$f":"IFERROR(INDEX(C$4:C$151,MATCH(ROW()-ROW(#REF!),$A$4:$A$151,0)),\"\")","v":""},{"$f":"IFERROR(INDEX(D$4:D$151,MATCH(ROW()-ROW(#REF!),$A$4:$A$151,0)),\"\")","v":""},null,null,null,null,null,null,false]
[{"$f":"IF($T22=FALSE, \"\", MAX(A$4:A21)+1)","v":""},null,null,null,null,null,null,null,null,null,null,{"$f":"IFERROR(INDEX(C$4:C$151,MATCH(ROW()-ROW(#REF!),$A$4:$A$151,0)),\"\")","v":""},{"$f":"IFERROR(INDEX(D$4:D$151,MATCH(ROW()-ROW(#REF!),$A$4:$A$151,0)),\"\")","v":""},null,null,null,null,null,null,false]
[{"$f":"IF($T23=FALSE, \"\", MAX(A$4:A22)+1)","v":""},null,null,null,null,null,null,null,null,null,null,{"$f":"IFERROR(INDEX(C$4:C$151,MATCH(ROW()-ROW(#REF!),$A$4:$A$151,0)),\"\")","v":""},{"$f":"IFERROR(INDEX(D$4:D$151,MATCH(ROW()-ROW(#REF!),$A$4:$A$151,0)),\"\")","v":""},null,null,null,null,null,null,false]
[{"$f":"IF($T24=FALSE, \"\", MAX(A$4:A23)+1)","v":""},null,null,null,null,null,null,null,null,null,null,{"$f":"IFERROR(INDEX(C$4:C$151,MATCH(ROW()-ROW(#REF!),$A$4:$A$151,0)),\"\")","v":""},{"$f":"IFERROR(INDEX(D$4:D$151,MATCH(ROW()-ROW(#REF!),$A$4:$A$151,0)),\"\")","v":""},null,null,null,null,null,null,false]
[{"$f":"IF($T25=FALSE, \"\", MAX(A$4:A24)+1)","v":""},null,null,null,null,null,null,null,null,null,null,{"$f":"IFERROR(INDEX(C$4:C$151,MATCH(ROW()-ROW(#REF!),$A$4:$A$151,0)),\"\")","v":""},{"$f":"IFERROR(INDEX(D$4:D$151,MATCH(ROW()-ROW(#REF!),$A$4:$A$151,0)),\"\")","v":""},null,null,null,null,null,null,false]
[{"$f":"IF($T26=FALSE, \"\", MAX(A$4:A25)+1)","v":""},null,null,null,null,null,null,null,null,null,null,{"$f":"IFERROR(INDEX(C$4:C$151,MATCH(ROW()-ROW(#REF!),$A$4:$A$151,0)),\"\")","v":""},{"$f":"IFERROR(INDEX(D$4:D$151,MATCH(ROW()-ROW(#REF!),$A$4:$A$151,0)),\"\")","v":""},null,null,null,null,null,null,false]
[{"$f":"IF($T27=FALSE, \"\", MAX(A$4:A26)+1)","v":""},null,null,null,null,null,null,null,null,null,null,{"$f":"IFERROR(INDEX(C$4:C$151,MATCH(ROW()-ROW(#REF!),$A$4:$A$151,0)),\"\")","v":""},{"$f":"IFERROR(INDEX(D$4:D$151,MATCH(ROW()-ROW(#REF!),$A$4:$A$151,0)),\"\")","v":""},null,null,null,null,null,null,false]
[{"$f":"IF($T28=FALSE, \"\", MAX(A$4:A27)+1)","v":""},null,null,null,null,null,null,null,null,null,null,{"$f":"IFERROR(INDEX(C$4:C$151,MATCH(ROW()-ROW(#REF!),$A$4:$A$151,0)),\"\")","v":""},{"$f":"IFERROR(INDEX(D$4:D$151,MATCH(ROW()-ROW(#REF!),$A$4:$A$151,0)),\"\")","v":""},null,null,null,null,null,null,false]
[{"$f":"IF($T29=FALSE, \"\", MAX(A$4:A28)+1)","v":""},null,null,null,null,null,null,null,null,null,null,{"$f":"IFERROR(INDEX(C$4:C$151,MATCH(ROW()-ROW(#REF!),$A$4:$A$151,0)),\"\")","v":""},{"$f":"IFERROR(INDEX(D$4:D$151,MATCH(ROW()-ROW(#REF!),$A$4:$A$151,0)),\"\")","v":""},null,null,null,null,null,null,false]
[{"$f":"IF($T30=FALSE, \"\", MAX(A$4:A29)+1)","v":""},null,null,null,null,null,null,null,null,null,null,{"$f":"IFERROR(INDEX(C$4:C$151,MATCH(ROW()-ROW(#REF!),$A$4:$A$151,0)),\"\")","v":""},{"$f":"IFERROR(INDEX(D$4:D$151,MATCH(ROW()-ROW(#REF!),$A$4:$A$151,0)),\"\")","v":""},null,null,null,null,null,null,false]
[{"$f":"IF($T31=FALSE, \"\", MAX(A$4:A30)+1)","v":""},null,null,null,null,null,null,null,null,null,null,{"$f":"IFERROR(INDEX(C$4:C$151,MATCH(ROW()-ROW(#REF!),$A$4:$A$151,0)),\"\")","v":""},{"$f":"IFERROR(INDEX(D$4:D$151,MATCH(ROW()-ROW(#REF!),$A$4:$A$151,0)),\"\")","v":""},null,null,null,null,null,null,false]
[{"$f":"IF($T32=FALSE, \"\", MAX(A$4:A31)+1)","v":""},null,null,null,null,null,null,null,null,null,null,{"$f":"IFERROR(INDEX(C$4:C$151,MATCH(ROW()-ROW(#REF!),$A$4:$A$151,0)),\"\")","v":""},{"$f":"IFERROR(INDEX(D$4:D$151,MATCH(ROW()-ROW(#REF!),$A$4:$A$151,0)),\"\")","v":""},null,null,null,null,null,null,false]
[{"$f":"IF($T33=FALSE, \"\", MAX(A$4:A32)+1)","v":""},null,null,null,null,null,null,null,null,null,null,{"$f":"IFERROR(INDEX(C$4:C$151,MATCH(ROW()-ROW(#REF!),$A$4:$A$151,0)),\"\")","v":""},{"$f":"IFERROR(INDEX(D$4:D$151,MATCH(ROW()-ROW(#REF!),$A$4:$A$151,0)),\"\")","v":""},null,null,null,null,null,null,false]
[{"$f":"IF($T34=FALSE, \"\", MAX(A$4:A33)+1)","v":""},null,null,null,null,null,null,null,null,null,null,{"$f":"IFERROR(INDEX(C$4:C$151,MATCH(ROW()-ROW(#REF!),$A$4:$A$151,0)),\"\")","v":""},{"$f":"IFERROR(INDEX(D$4:D$151,MATCH(ROW()-ROW(#REF!),$A$4:$A$151,0)),\"\")","v":""},null,null,null,null,null,null,false]
[{"$f":"IF($T35=FALSE, \"\", MAX(A$4:A34)+1)","v":""},null,null,null,null,null,null,null,null,null,null,{"$f":"IFERROR(INDEX(C$4:C$151,MATCH(ROW()-ROW(#REF!),$A$4:$A$151,0)),\"\")","v":""},{"$f":"IFERROR(INDEX(D$4:D$151,MATCH(ROW()-ROW(#REF!),$A$4:$A$151,0)),\"\")","v":""},null,null,null,null,null,null,false]
[{"$f":"IF($T36=FALSE, \"\", MAX(A$4:A35)+1)","v":""},null,null,null,null,null,null,null,null,null,null,{"$f":"IFERROR(INDEX(C$4:C$151,MATCH(ROW()-ROW(#REF!),$A$4:$A$151,0)),\"\")","v":""},{"$f":"IFERROR(INDEX(D$4:D$151,MATCH(ROW()-ROW(#REF!),$A$4:$A$151,0)),\"\")","v":""},null,null,null,null,null,null,false]
[{"$f":"IF($T37=FALSE, \"\", MAX(A$4:A36)+1)","v":""},null,null,null,null,null,null,null,null,null,null,{"$f":"IFERROR(INDEX(C$4:C$151,MATCH(ROW()-ROW(#REF!),$A$4:$A$151,0)),\"\")","v":""},{"$f":"IFERROR(INDEX(D$4:D$151,MATCH(ROW()-ROW(#REF!),$A$4:$A$151,0)),\"\")","v":""},null,null,null,null,null,null,false]
[{"$f":"IF($T38=FALSE, \"\", MAX(A$4:A37)+1)","v":""},null,null,null,null,null,null,null,null,null,null,{"$f":"IFERROR(INDEX(C$4:C$151,MATCH(ROW()-ROW(#REF!),$A$4:$A$151,0)),\"\")","v":""},{"$f":"IFERROR(INDEX(D$4:D$151,MATCH(ROW()-ROW(#REF!),$A$4:$A$151,0)),\"\")","v":""},null,null,null,null,null,null,false]
[{"$f":"IF($T39=FALSE, \"\", MAX(A$4:A38)+1)","v":""},null,null,null,null,null,null,null,null,null,null,{"$f":"IFERROR(INDEX(C$4:C$151,MATCH(ROW()-ROW(#REF!),$A$4:$A$151,0)),\"\")","v":""},{"$f":"IFERROR(INDEX(D$4:D$151,MATCH(ROW()-ROW(#REF!),$A$4:$A$151,0)),\"\")","v":""},null,null,null,null,null,null,false]
[{"$f":"IF($T40=FALSE, \"\", MAX(A$4:A39)+1)","v":""},null,null,null,null,null,null,null,null,null,null,{"$f":"IFERROR(INDEX(C$4:C$151,MATCH(ROW()-ROW(#REF!),$A$4:$A$151,0)),\"\")","v":""},{"$f":"IFERROR(INDEX(D$4:D$151,MATCH(ROW()-ROW(#REF!),$A$4:$A$151,0)),\"\")","v":""},null,null,null,null,null,null,false]
[{"$f":"IF($T41=FALSE, \"\", MAX(A$4:A40)+1)","v":""},null,null,null,null,null,null,null,null,null,null,{"$f":"IFERROR(INDEX(C$4:C$151,MATCH(ROW()-ROW(#REF!),$A$4:$A$151,0)),\"\")","v":""},{"$f":"IFERROR(INDEX(D$4:D$151,MATCH(ROW()-ROW(#REF!),$A$4:$A$151,0)),\"\")","v":""},null,null,null,null,null,null,false]
[{"$f":"IF($T42=FALSE, \"\", MAX(A$4:A41)+1)","v":""},null,null,null,null,null,null,null,null,null,null,{"$f":"IFERROR(INDEX(C$4:C$151,MATCH(ROW()-ROW(#REF!),$A$4:$A$151,0)),\"\")","v":""},{"$f":"IFERROR(INDEX(D$4:D$151,MATCH(ROW()-ROW(#REF!),$A$4:$A$151,0)),\"\")","v":""},null,null,null,null,null,null,false]
[{"$f":"IF($T43=FALSE, \"\", MAX(A$4:A42)+1)","v":""},null,null,null,null,null,null,null,null,null,null,{"$f":"IFERROR(INDEX(C$4:C$151,MATCH(ROW()-ROW(#REF!),$A$4:$A$151,0)),\"\")","v":""},{"$f":"IFERROR(INDEX(D$4:D$151,MATCH(ROW()-ROW(#REF!),$A$4:$A$151,0)),\"\")","v":""},null,null,null,null,null,null,false]
[{"$f":"IF($T44=FALSE, \"\", MAX(A$4:A43)+1)","v":""},null,null,null,null,null,null,null,null,null,null,{"$f":"IFERROR(INDEX(C$4:C$151,MATCH(ROW()-ROW(#REF!),$A$4:$A$151,0)),\"\")","v":""},{"$f":"IFERROR(INDEX(D$4:D$151,MATCH(ROW()-ROW(#REF!),$A$4:$A$151,0)),\"\")","v":""},null,null,null,null,null,null,false]
[{"$f":"IF($T45=FALSE, \"\", MAX(A$4:A44)+1)","v":""},null,null,null,null,null,null,null,null,null,null,{"$f":"IFERROR(INDEX(C$4:C$151,MATCH(ROW()-ROW(#REF!),$A$4:$A$151,0)),\"\")","v":""},{"$f":"IFERROR(INDEX(D$4:D$151,MATCH(ROW()-ROW(#REF!),$A$4:$A$151,0)),\"\")","v":""},null,null,null,null,null,null,false]
[{"$f":"IF($T46=FALSE, \"\", MAX(A$4:A45)+1)","v":""},null,null,null,null,null,null,null,null,null,null,{"$f":"IFERROR(INDEX(C$4:C$151,MATCH(ROW()-ROW(#REF!),$A$4:$A$151,0)),\"\")","v":""},{"$f":"IFERROR(INDEX(D$4:D$151,MATCH(ROW()-ROW(#REF!),$A$4:$A$151,0)),\"\")","v":""},null,null,null,null,null,null,false]
[{"$f":"IF($T47=FALSE, \"\", MAX(A$4:A46)+1)","v":""},null,null,null,null,null,null,null,null,null,null,{"$f":"IFERROR(INDEX(C$4:C$151,MATCH(ROW()-ROW(#REF!),$A$4:$A$151,0)),\"\")","v":""},{"$f":"IFERROR(INDEX(D$4:D$151,MATCH(ROW()-ROW(#REF!),$A$4:$A$151,0)),\"\")","v":""},null,null,null,null,null,null,false]
[{"$f":"IF($T48=FALSE, \"\", MAX(A$4:A47)+1)","v":""},null,null,null,null,null,null,null,null,null,null,{"$f":"IFERROR(INDEX(C$4:C$151,MATCH(ROW()-ROW(#REF!),$A$4:$A$151,0)),\"\")","v":""},{"$f":"IFERROR(INDEX(D$4:D$151,MATCH(ROW()-ROW(#REF!),$A$4:$A$151,0)),\"\")","v":""},null,null,null,null,null,null,false]
[{"$f":"IF($T49=FALSE, \"\", MAX(A$4:A48)+1)","v":""},null,null,null,null,null,null,null,null,null,null,{"$f":"IFERROR(INDEX(C$4:C$151,MATCH(ROW()-ROW(#REF!),$A$4:$A$151,0)),\"\")","v":""},{"$f":"IFERROR(INDEX(D$4:D$151,MATCH(ROW()-ROW(#REF!),$A$4:$A$151,0)),\"\")","v":""},null,null,null,null,null,null,false]
[{"$f":"IF($T50=FALSE, \"\", MAX(A$4:A49)+1)","v":""},null,null,null,null,null,null,null,null,null,null,{"$f":"IFERROR(INDEX(C$4:C$151,MATCH(ROW()-ROW(#REF!),$A$4:$A$151,0)),\"\")","v":""},{"$f":"IFERROR(INDEX(D$4:D$151,MATCH(ROW()-ROW(#REF!),$A$4:$A$151,0)),\"\")","v":""},null,null,null,null,null,null,false]
[{"$f":"IF($T51=FALSE, \"\", MAX(A$4:A50)+1)","v":""},null,null,null,null,null,null,null,null,null,null,{"$f":"IFERROR(INDEX(C$4:C$151,MATCH(ROW()-ROW(#REF!),$A$4:$A$151,0)),\"\")","v":""},{"$f":"IFERROR(INDEX(D$4:D$151,MATCH(ROW()-ROW(#REF!),$A$4:$A$151,0)),\"\")","v":""},null,null,null,null,null,null,false]
[{"$f":"IF($T52=FALSE, \"\", MAX(A$4:A51)+1)","v":""},null,null,null,null,null,null,null,null,null,null,{"$f":"IFERROR(INDEX(C$4:C$151,MATCH(ROW()-ROW(#REF!),$A$4:$A$151,0)),\"\")","v":""},{"$f":"IFERROR(INDEX(D$4:D$151,MATCH(ROW()-ROW(#REF!),$A$4:$A$151,0)),\"\")","v":""},null,null,null,null,null,null,false]
[{"$f":"IF($T53=FALSE, \"\", MAX(A$4:A52)+1)","v":""},null,null,null,null,null,null,null,null,null,null,{"$f":"IFERROR(INDEX(C$4:C$151,MATCH(ROW()-ROW(#REF!),$A$4:$A$151,0)),\"\")","v":""},{"$f":"IFERROR(INDEX(D$4:D$151,MATCH(ROW()-ROW(#REF!),$A$4:$A$151,0)),\"\")","v":""},null,null,null,null,null,null,false]
[{"$f":"IF($T54=FALSE, \"\", MAX(A$4:A53)+1)","v":""},null,null,null,null,null,null,null,null,null,null,{"$f":"IFERROR(INDEX(C$4:C$151,MATCH(ROW()-ROW(#REF!),$A$4:$A$151,0)),\"\")","v":""},{"$f":"IFERROR(INDEX(D$4:D$151,MATCH(ROW()-ROW(#REF!),$A$4:$A$151,0)),\"\")","v":""},null,null,null,null,null,null,false]
[{"$f":"IF($T55=FALSE, \"\", MAX(A$4:A54)+1)","v":""},null,null,null,null,null,null,null,null,null,null,{"$f":"IFERROR(INDEX(C$4:C$151,MATCH(ROW()-ROW(#REF!),$A$4:$A$151,0)),\"\")","v":""},{"$f":"IFERROR(INDEX(D$4:D$151,MATCH(ROW()-ROW(#REF!),$A$4:$A$151,0)),\"\")","v":""},null,null,null,null,null,null,false]
[{"$f":"IF($T56=FALSE, \"\", MAX(A$4:A55)+1)","v":""},null,null,null,null,null,null,null,null,null,null,{"$f":"IFERROR(INDEX(C$4:C$151,MATCH(ROW()-ROW(#REF!),$A$4:$A$151,0)),\"\")","v":""},{"$f":"IFERROR(INDEX(D$4:D$151,MATCH(ROW()-ROW(#REF!),$A$4:$A$151,0)),\"\")","v":""},null,null,null,null,null,null,false]
[{"$f":"IF($T57=FALSE, \"\", MAX(A$4:A56)+1)","v":""},null,null,null,null,null,null,null,null,null,null,{"$f":"IFERROR(INDEX(C$4:C$151,MATCH(ROW()-ROW(#REF!),$A$4:$A$151,0)),\"\")","v":""},{"$f":"IFERROR(INDEX(D$4:D$151,MATCH(ROW()-ROW(#REF!),$A$4:$A$151,0)),\"\")","v":""},null,null,null,null,null,null,false]
[{"$f":"IF($T58=FALSE, \"\", MAX(A$4:A57)+1)","v":""},null,null,null,null,null,null,null,null,null,null,{"$f":"IFERROR(INDEX(C$4:C$151,MATCH(ROW()-ROW(#REF!),$A$4:$A$151,0)),\"\")","v":""},{"$f":"IFERROR(INDEX(D$4:D$151,MATCH(ROW()-ROW(#REF!),$A$4:$A$151,0)),\"\")","v":""},null,null,null,null,null,null,false]
[{"$f":"IF($T59=FALSE, \"\", MAX(A$4:A58)+1)","v":""},null,null,null,null,null,null,null,null,null,null,{"$f":"IFERROR(INDEX(C$4:C$151,MATCH(ROW()-ROW(#REF!),$A$4:$A$151,0)),\"\")","v":""},{"$f":"IFERROR(INDEX(D$4:D$151,MATCH(ROW()-ROW(#REF!),$A$4:$A$151,0)),\"\")","v":""},null,null,null,null,null,null,false]
[{"$f":"IF($T60=FALSE, \"\", MAX(A$4:A59)+1)","v":""},null,null,null,null,null,null,null,null,null,null,{"$f":"IFERROR(INDEX(C$4:C$151,MATCH(ROW()-ROW(#REF!),$A$4:$A$151,0)),\"\")","v":""},{"$f":"IFERROR(INDEX(D$4:D$151,MATCH(ROW()-ROW(#REF!),$A$4:$A$151,0)),\"\")","v":""},null,null,null,null,null,null,false]
[{"$f":"IF($T61=FALSE, \"\", MAX(A$4:A60)+1)","v":""},null,null,null,null,null,null,null,null,null,null,{"$f":"IFERROR(INDEX(C$4:C$151,MATCH(ROW()-ROW(#REF!),$A$4:$A$151,0)),\"\")","v":""},{"$f":"IFERROR(INDEX(D$4:D$151,MATCH(ROW()-ROW(#REF!),$A$4:$A$151,0)),\"\")","v":""},null,null,null,null,null,null,false]
[{"$f":"IF($T62=FALSE, \"\", MAX(A$4:A61)+1)","v":""},null,null,null,null,null,null,null,null,null,null,{"$f":"IFERROR(INDEX(C$4:C$151,MATCH(ROW()-ROW(#REF!),$A$4:$A$151,0)),\"\")","v":""},{"$f":"IFERROR(INDEX(D$4:D$151,MATCH(ROW()-ROW(#REF!),$A$4:$A$151,0)),\"\")","v":""},null,null,null,null,null,null,false]
[{"$f":"IF($T63=FALSE, \"\", MAX(A$4:A62)+1)","v":""},null,null,null,null,null,null,null,null,null,null,{"$f":"IFERROR(INDEX(C$4:C$151,MATCH(ROW()-ROW(#REF!),$A$4:$A$151,0)),\"\")","v":""},{"$f":"IFERROR(INDEX(D$4:D$151,MATCH(ROW()-ROW(#REF!),$A$4:$A$151,0)),\"\")","v":""},null,null,null,null,null,null,false]
[{"$f":"IF($T64=FALSE, \"\", MAX(A$4:A63)+1)","v":""},null,null,null,null,null,null,null,null,null,null,{"$f":"IFERROR(INDEX(C$4:C$151,MATCH(ROW()-ROW(#REF!),$A$4:$A$151,0)),\"\")","v":""},{"$f":"IFERROR(INDEX(D$4:D$151,MATCH(ROW()-ROW(#REF!),$A$4:$A$151,0)),\"\")","v":""},null,null,null,null,null,null,false]
[{"$f":"IF($T65=FALSE, \"\", MAX(A$4:A64)+1)","v":""},null,null,null,null,null,null,null,null,null,null,{"$f":"IFERROR(INDEX(C$4:C$151,MATCH(ROW()-ROW(#REF!),$A$4:$A$151,0)),\"\")","v":""},{"$f":"IFERROR(INDEX(D$4:D$151,MATCH(ROW()-ROW(#REF!),$A$4:$A$151,0)),\"\")","v":""},null,null,null,null,null,null,false]
[{"$f":"IF($T66=FALSE, \"\", MAX(A$4:A65)+1)","v":""},null,null,null,null,null,null,null,null,null,null,{"$f":"IFERROR(INDEX(C$4:C$151,MATCH(ROW()-ROW(#REF!),$A$4:$A$151,0)),\"\")","v":""},{"$f":"IFERROR(INDEX(D$4:D$151,MATCH(ROW()-ROW(#REF!),$A$4:$A$151,0)),\"\")","v":""},null,null,null,null,null,null,false]
[{"$f":"IF($T67=FALSE, \"\", MAX(A$4:A66)+1)","v":""},null,null,null,null,null,null,null,null,null,null,{"$f":"IFERROR(INDEX(C$4:C$151,MATCH(ROW()-ROW(#REF!),$A$4:$A$151,0)),\"\")","v":""},{"$f":"IFERROR(INDEX(D$4:D$151,MATCH(ROW()-ROW(#REF!),$A$4:$A$151,0)),\"\")","v":""},null,null,null,null,null,null,false]
[{"$f":"IF($T68=FALSE, \"\", MAX(A$4:A67)+1)","v":""},null,null,null,null,null,null,null,null,null,null,{"$f":"IFERROR(INDEX(C$4:C$151,MATCH(ROW()-ROW(#REF!),$A$4:$A$151,0)),\"\")","v":""},{"$f":"IFERROR(INDEX(D$4:D$151,MATCH(ROW()-ROW(#REF!),$A$4:$A$151,0)),\"\")","v":""},null,null,null,null,null,null,false]
[{"$f":"IF($T69=FALSE, \"\", MAX(A$4:A68)+1)","v":""},null,null,null,null,null,null,null,null,null,null,{"$f":"IFERROR(INDEX(C$4:C$151,MATCH(ROW()-ROW(#REF!),$A$4:$A$151,0)),\"\")","v":""},{"$f":"IFERROR(INDEX(D$4:D$151,MATCH(ROW()-ROW(#REF!),$A$4:$A$151,0)),\"\")","v":""},null,null,null,null,null,null,false]
[{"$f":"IF($T70=FALSE, \"\", MAX(A$4:A69)+1)","v":""},null,null,null,null,null,null,null,null,null,null,{"$f":"IFERROR(INDEX(C$4:C$151,MATCH(ROW()-ROW(#REF!),$A$4:$A$151,0)),\"\")","v":""},{"$f":"IFERROR(INDEX(D$4:D$151,MATCH(ROW()-ROW(#REF!),$A$4:$A$151,0)),\"\")","v":""},null,null,null,null,null,null,false]
[{"$f":"IF($T71=FALSE, \"\", MAX(A$4:A70)+1)","v":""},null,null,null,null,null,null,null,null,null,null,{"$f":"IFERROR(INDEX(C$4:C$151,MATCH(ROW()-ROW(#REF!),$A$4:$A$151,0)),\"\")","v":""},{"$f":"IFERROR(INDEX(D$4:D$151,MATCH(ROW()-ROW(#REF!),$A$4:$A$151,0)),\"\")","v":""},null,null,null,null,null,null,false]
[{"$f":"IF($T72=FALSE, \"\", MAX(A$4:A71)+1)","v":""},null,null,null,null,null,null,null,null,null,null,{"$f":"IFERROR(INDEX(C$4:C$151,MATCH(ROW()-ROW(#REF!),$A$4:$A$151,0)),\"\")","v":""},{"$f":"IFERROR(INDEX(D$4:D$151,MATCH(ROW()-ROW(#REF!),$A$4:$A$151,0)),\"\")","v":""},null,null,null,null,null,null,false]
[{"$f":"IF($T73=FALSE, \"\", MAX(A$4:A72)+1)","v":""},null,null,null,null,null,null,null,null,null,null,{"$f":"IFERROR(INDEX(C$4:C$151,MATCH(ROW()-ROW(#REF!),$A$4:$A$151,0)),\"\")","v":""},{"$f":"IFERROR(INDEX(D$4:D$151,MATCH(ROW()-ROW(#REF!),$A$4:$A$151,0)),\"\")","v":""},null,null,null,null,null,null,false]
[{"$f":"IF($T74=FALSE, \"\", MAX(A$4:A73)+1)","v":""},null,null,null,null,null,null,null,null,null,null,{"$f":"IFERROR(INDEX(C$4:C$151,MATCH(ROW()-ROW(#REF!),$A$4:$A$151,0)),\"\")","v":""},{"$f":"IFERROR(INDEX(D$4:D$151,MATCH(ROW()-ROW(#REF!),$A$4:$A$151,0)),\"\")","v":""},null,null,null,null,null,null,false]
[{"$f":"IF($T75=FALSE, \"\", MAX(A$4:A74)+1)","v":""},null,null,null,null,null,null,null,null,null,null,{"$f":"IFERROR(INDEX(C$4:C$151,MATCH(ROW()-ROW(#REF!),$A$4:$A$151,0)),\"\")","v":""},{"$f":"IFERROR(INDEX(D$4:D$151,MATCH(ROW()-ROW(#REF!),$A$4:$A$151,0)),\"\")","v":""},null,null,null,null,null,null,false]
[{"$f":"IF($T76=FALSE, \"\", MAX(A$4:A75)+1)","v":""},null,null,null,null,null,null,null,null,null,null,{"$f":"IFERROR(INDEX(C$4:C$151,MATCH(ROW()-ROW(#REF!),$A$4:$A$151,0)),\"\")","v":""},{"$f":"IFERROR(INDEX(D$4:D$151,MATCH(ROW()-ROW(#REF!),$A$4:$A$151,0)),\"\")","v":""},null,null,null,null,null,null,false]
[{"$f":"IF($T77=FALSE, \"\", MAX(A$4:A76)+1)","v":""},null,null,null,null,null,null,null,null,null,null,{"$f":"IFERROR(INDEX(C$4:C$151,MATCH(ROW()-ROW(#REF!),$A$4:$A$151,0)),\"\")","v":""},{"$f":"IFERROR(INDEX(D$4:D$151,MATCH(ROW()-ROW(#REF!),$A$4:$A$151,0)),\"\")","v":""},null,null,null,null,null,null,false]
[{"$f":"IF($T78=FALSE, \"\", MAX(A$4:A77)+1)","v":""},null,null,null,null,null,null,null,null,null,null,{"$f":"IFERROR(INDEX(C$4:C$151,MATCH(ROW()-ROW(#REF!),$A$4:$A$151,0)),\"\")","v":""},{"$f":"IFERROR(INDEX(D$4:D$151,MATCH(ROW()-ROW(#REF!),$A$4:$A$151,0)),\"\")","v":""},null,null,null,null,null,null,false]
[{"$f":"IF($T79=FALSE, \"\", MAX(A$4:A78)+1)","v":""},null,null,null,null,null,null,null,null,null,null,{"$f":"IFERROR(INDEX(C$4:C$151,MATCH(ROW()-ROW(#REF!),$A$4:$A$151,0)),\"\")","v":""},{"$f":"IFERROR(INDEX(D$4:D$151,MATCH(ROW()-ROW(#REF!),$A$4:$A$151,0)),\"\")","v":""},null,null,null,null,null,null,false]
[{"$f":"IF($T80=FALSE, \"\", MAX(A$4:A79)+1)","v":""},null,null,null,null,null,null,null,null,null,null,{"$f":"IFERROR(INDEX(C$4:C$151,MATCH(ROW()-ROW(#REF!),$A$4:$A$151,0)),\"\")","v":""},{"$f":"IFERROR(INDEX(D$4:D$151,MATCH(ROW()-ROW(#REF!),$A$4:$A$151,0)),\"\")","v":""},null,null,null,null,null,null,false]
[{"$f":"IF($T81=FALSE, \"\", MAX(A$4:A80)+1)","v":""},null,null,null,null,null,null,null,null,null,null,{"$f":"IFERROR(INDEX(C$4:C$151,MATCH(ROW()-ROW(#REF!),$A$4:$A$151,0)),\"\")","v":""},{"$f":"IFERROR(INDEX(D$4:D$151,MATCH(ROW()-ROW(#REF!),$A$4:$A$151,0)),\"\")","v":""},null,null,null,null,null,null,false]
[{"$f":"IF($T82=FALSE, \"\", MAX(A$4:A81)+1)","v":""},null,null,null,null,null,null,null,null,null,null,{"$f":"IFERROR(INDEX(C$4:C$151,MATCH(ROW()-ROW(#REF!),$A$4:$A$151,0)),\"\")","v":""},{"$f":"IFERROR(INDEX(D$4:D$151,MATCH(ROW()-ROW(#REF!),$A$4:$A$151,0)),\"\")","v":""},null,null,null,null,null,null,false]
[{"$f":"IF($T83=FALSE, \"\", MAX(A$4:A82)+1)","v":""},null,null,null,null,null,null,null,null,null,null,{"$f":"IFERROR(INDEX(C$4:C$151,MATCH(ROW()-ROW(#REF!),$A$4:$A$151,0)),\"\")","v":""},{"$f":"IFERROR(INDEX(D$4:D$151,MATCH(ROW()-ROW(#REF!),$A$4:$A$151,0)),\"\")","v":""},null,null,null,null,null,null,false]
[{"$f":"IF($T84=FALSE, \"\", MAX(A$4:A83)+1)","v":""},null,null,null,null,null,null,null,null,null,null,{"$f":"IFERROR(INDEX(C$4:C$151,MATCH(ROW()-ROW(#REF!),$A$4:$A$151,0)),\"\")","v":""},{"$f":"IFERROR(INDEX(D$4:D$151,MATCH(ROW()-ROW(#REF!),$A$4:$A$151,0)),\"\")","v":""},null,null,null,null,null,null,false]
[{"$f":"IF($T85=FALSE, \"\", MAX(A$4:A84)+1)","v":""},null,null,null,null,null,null,null,null,null,null,{"$f":"IFERROR(INDEX(C$4:C$151,MATCH(ROW()-ROW(#REF!),$A$4:$A$151,0)),\"\")","v":""},{"$f":"IFERROR(INDEX(D$4:D$151,MATCH(ROW()-ROW(#REF!),$A$4:$A$151,0)),\"\")","v":""},null,null,null,null,null,null,false]
[{"$f":"IF($T86=FALSE, \"\", MAX(A$4:A85)+1)","v":""},null,null,null,null,null,null,null,null,null,null,{"$f":"IFERROR(INDEX(C$4:C$151,MATCH(ROW()-ROW(#REF!),$A$4:$A$151,0)),\"\")","v":""},{"$f":"IFERROR(INDEX(D$4:D$151,MATCH(ROW()-ROW(#REF!),$A$4:$A$151,0)),\"\")","v":""},null,null,null,null,null,null,false]
[{"$f":"IF($T87=FALSE, \"\", MAX(A$4:A86)+1)","v":""},null,null,null,null,null,null,null,null,null,null,{"$f":"IFERROR(INDEX(C$4:C$151,MATCH(ROW()-ROW(#REF!),$A$4:$A$151,0)),\"\")","v":""},{"$f":"IFERROR(INDEX(D$4:D$151,MATCH(ROW()-ROW(#REF!),$A$4:$A$151,0)),\"\")","v":""},null,null,null,null,null,null,false]
[{"$f":"IF($T88=FALSE, \"\", MAX(A$4:A87)+1)","v":""},null,null,null,null,null,null,null,null,null,null,{"$f":"IFERROR(INDEX(C$4:C$151,MATCH(ROW()-ROW(#REF!),$A$4:$A$151,0)),\"\")","v":""},{"$f":"IFERROR(INDEX(D$4:D$151,MATCH(ROW()-ROW(#REF!),$A$4:$A$151,0)),\"\")","v":""},null,null,null,null,null,null,false]
[{"$f":"IF($T89=FALSE, \"\", MAX(A$4:A88)+1)","v":""},null,null,null,null,null,null,null,null,null,null,{"$f":"IFERROR(INDEX(C$4:C$151,MATCH(ROW()-ROW(#REF!),$A$4:$A$151,0)),\"\")","v":""},{"$f":"IFERROR(INDEX(D$4:D$151,MATCH(ROW()-ROW(#REF!),$A$4:$A$151,0)),\"\")","v":""},null,null,null,null,null,null,false]
[{"$f":"IF($T90=FALSE, \"\", MAX(A$4:A89)+1)","v":""},null,null,null,null,null,null,null,null,null,null,{"$f":"IFERROR(INDEX(C$4:C$151,MATCH(ROW()-ROW(#REF!),$A$4:$A$151,0)),\"\")","v":""},{"$f":"IFERROR(INDEX(D$4:D$151,MATCH(ROW()-ROW(#REF!),$A$4:$A$151,0)),\"\")","v":""},null,null,null,null,null,null,false]
[{"$f":"IF($T91=FALSE, \"\", MAX(A$4:A90)+1)","v":""},null,null,null,null,null,null,null,null,null,null,{"$f":"IFERROR(INDEX(C$4:C$151,MATCH(ROW()-ROW(#REF!),$A$4:$A$151,0)),\"\")","v":""},{"$f":"IFERROR(INDEX(D$4:D$151,MATCH(ROW()-ROW(#REF!),$A$4:$A$151,0)),\"\")","v":""},null,null,null,null,null,null,false]
[{"$f":"IF($T92=FALSE, \"\", MAX(A$4:A91)+1)","v":""},null,null,null,null,null,null,null,null,null,null,{"$f":"IFERROR(INDEX(C$4:C$151,MATCH(ROW()-ROW(#REF!),$A$4:$A$151,0)),\"\")","v":""},{"$f":"IFERROR(INDEX(D$4:D$151,MATCH(ROW()-ROW(#REF!),$A$4:$A$151,0)),\"\")","v":""},null,null,null,null,null,null,false]
[{"$f":"IF($T93=FALSE, \"\", MAX(A$4:A92)+1)","v":""},null,null,null,null,null,null,null,null,null,null,{"$f":"IFERROR(INDEX(C$4:C$151,MATCH(ROW()-ROW(#REF!),$A$4:$A$151,0)),\"\")","v":""},{"$f":"IFERROR(INDEX(D$4:D$151,MATCH(ROW()-ROW(#REF!),$A$4:$A$151,0)),\"\")","v":""},null,null,null,null,null,null,false]
[{"$f":"IF($T94=FALSE, \"\", MAX(A$4:A93)+1)","v":""},null,null,null,null,null,null,null,null,null,null,{"$f":"IFERROR(INDEX(C$4:C$151,MATCH(ROW()-ROW(#REF!),$A$4:$A$151,0)),\"\")","v":""},{"$f":"IFERROR(INDEX(D$4:D$151,MATCH(ROW()-ROW(#REF!),$A$4:$A$151,0)),\"\")","v":""},null,null,null,null,null,null,false]
[{"$f":"IF($T95=FALSE, \"\", MAX(A$4:A94)+1)","v":""},null,null,null,null,null,null,null,null,null,null,{"$f":"IFERROR(INDEX(C$4:C$151,MATCH(ROW()-ROW(#REF!),$A$4:$A$151,0)),\"\")","v":""},{"$f":"IFERROR(INDEX(D$4:D$151,MATCH(ROW()-ROW(#REF!),$A$4:$A$151,0)),\"\")","v":""},null,null,null,null,null,null,false]
[{"$f":"IF($T96=FALSE, \"\", MAX(A$4:A95)+1)","v":""},null,null,null,null,null,null,null,null,null,null,{"$f":"IFERROR(INDEX(C$4:C$151,MATCH(ROW()-ROW(#REF!),$A$4:$A$151,0)),\"\")","v":""},{"$f":"IFERROR(INDEX(D$4:D$151,MATCH(ROW()-ROW(#REF!),$A$4:$A$151,0)),\"\")","v":""},null,null,null,null,null,null,false]
[{"$f":"IF($T97=FALSE, \"\", MAX(A$4:A96)+1)","v":""},null,null,null,null,null,null,null,null,null,null,{"$f":"IFERROR(INDEX(C$4:C$151,MATCH(ROW()-ROW(#REF!),$A$4:$A$151,0)),\"\")","v":""},{"$f":"IFERROR(INDEX(D$4:D$151,MATCH(ROW()-ROW(#REF!),$A$4:$A$151,0)),\"\")","v":""},null,null,null,null,null,null,false]
[{"$f":"IF($T98=FALSE, \"\", MAX(A$4:A97)+1)","v":""},null,null,null,null,null,null,null,null,null,null,{"$f":"IFERROR(INDEX(C$4:C$151,MATCH(ROW()-ROW(#REF!),$A$4:$A$151,0)),\"\")","v":""},{"$f":"IFERROR(INDEX(D$4:D$151,MATCH(ROW()-ROW(#REF!),$A$4:$A$151,0)),\"\")","v":""},null,null,null,null,null,null,false]
[{"$f":"IF($T99=FALSE, \"\", MAX(A$4:A98)+1)","v":""},null,null,null,null,null,null,null,null,null,null,{"$f":"IFERROR(INDEX(C$4:C$151,MATCH(ROW()-ROW(#REF!),$A$4:$A$151,0)),\"\")","v":""},{"$f":"IFERROR(INDEX(D$4:D$151,MATCH(ROW()-ROW(#REF!),$A$4:$A$151,0)),\"\")","v":""},null,null,null,null,null,null,false]
[{"$f":"IF($T100=FALSE, \"\", MAX(A$4:A99)+1)","v":""},null,null,null,null,null,null,null,null,null,null,{"$f":"IFERROR(INDEX(C$4:C$151,MATCH(ROW()-ROW(#REF!),$A$4:$A$151,0)),\"\")","v":""},{"$f":"IFERROR(INDEX(D$4:D$151,MATCH(ROW()-ROW(#REF!),$A$4:$A$151,0)),\"\")","v":""},null,null,null,null,null,null,false]
[{"$f":"IF($T101=FALSE, \"\", MAX(A$4:A100)+1)","v":""},null,null,null,null,null,null,null,null,null,null,{"$f":"IFERROR(INDEX(C$4:C$151,MATCH(ROW()-ROW(#REF!),$A$4:$A$151,0)),\"\")","v":""},{"$f":"IFERROR(INDEX(D$4:D$151,MATCH(ROW()-ROW(#REF!),$A$4:$A$151,0)),\"\")","v":""},null,null,null,null,null,null,false]
[{"$f":"IF($T102=FALSE, \"\", MAX(A$4:A101)+1)","v":""},null,null,null,null,null,null,null,null,null,null,{"$f":"IFERROR(INDEX(C$4:C$151,MATCH(ROW()-ROW(#REF!),$A$4:$A$151,0)),\"\")","v":""},{"$f":"IFERROR(INDEX(D$4:D$151,MATCH(ROW()-ROW(#REF!),$A$4:$A$151,0)),\"\")","v":""},null,null,null,null,null,null,false]
[{"$f":"IF($T103=FALSE, \"\", MAX(A$4:A102)+1)","v":""},null,null,null,null,null,null,null,null,null,null,{"$f":"IFERROR(INDEX(C$4:C$151,MATCH(ROW()-ROW(#REF!),$A$4:$A$151,0)),\"\")","v":""},{"$f":"IFERROR(INDEX(D$4:D$151,MATCH(ROW()-ROW(#REF!),$A$4:$A$151,0)),\"\")","v":""},null,null,null,null,null,null,false]
[{"$f":"IF($T104=FALSE, \"\", MAX(A$4:A103)+1)","v":""},null,null,null,null,null,null,null,null,null,null,{"$f":"IFERROR(INDEX(C$4:C$151,MATCH(ROW()-ROW(#REF!),$A$4:$A$151,0)),\"\")","v":""},{"$f":"IFERROR(INDEX(D$4:D$151,MATCH(ROW()-ROW(#REF!),$A$4:$A$151,0)),\"\")","v":""},null,null,null,null,null,null,false]
[{"$f":"IF($T105=FALSE, \"\", MAX(A$4:A104)+1)","v":""},null,null,null,null,null,null,null,null,null,null,{"$f":"IFERROR(INDEX(C$4:C$151,MATCH(ROW()-ROW(#REF!),$A$4:$A$151,0)),\"\")","v":""},{"$f":"IFERROR(INDEX(D$4:D$151,MATCH(ROW()-ROW(#REF!),$A$4:$A$151,0)),\"\")","v":""},null,null,null,null,null,null,false]
[{"$f":"IF($T106=FALSE, \"\", MAX(A$4:A105)+1)","v":""},null,null,null,null,null,null,null,null,null,null,{"$f":"IFERROR(INDEX(C$4:C$151,MATCH(ROW()-ROW(#REF!),$A$4:$A$151,0)),\"\")","v":""},{"$f":"IFERROR(INDEX(D$4:D$151,MATCH(ROW()-ROW(#REF!),$A$4:$A$151,0)),\"\")","v":""},null,null,null,null,null,null,false]
[{"$f":"IF($T107=FALSE, \"\", MAX(A$4:A106)+1)","v":""},null,null,null,null,null,null,null,null,null,null,{"$f":"IFERROR(INDEX(C$4:C$151,MATCH(ROW()-ROW(#REF!),$A$4:$A$151,0)),\"\")","v":""},{"$f":"IFERROR(INDEX(D$4:D$151,MATCH(ROW()-ROW(#REF!),$A$4:$A$151,0)),\"\")","v":""},null,null,null,null,null,null,false]
[{"$f":"IF($T108=FALSE, \"\", MAX(A$4:A107)+1)","v":""},null,null,null,null,null,null,null,null,null,null,{"$f":"IFERROR(INDEX(C$4:C$151,MATCH(ROW()-ROW(#REF!),$A$4:$A$151,0)),\"\")","v":""},{"$f":"IFERROR(INDEX(D$4:D$151,MATCH(ROW()-ROW(#REF!),$A$4:$A$151,0)),\"\")","v":""},null,null,null,null,null,null,false]
[{"$f":"IF($T109=FALSE, \"\", MAX(A$4:A108)+1)","v":""},null,null,null,null,null,null,null,null,null,null,{"$f":"IFERROR(INDEX(C$4:C$151,MATCH(ROW()-ROW(#REF!),$A$4:$A$151,0)),\"\")","v":""},{"$f":"IFERROR(INDEX(D$4:D$151,MATCH(ROW()-ROW(#REF!),$A$4:$A$151,0)),\"\")","v":""},null,null,null,null,null,null,false]
[{"$f":"IF($T110=FALSE, \"\", MAX(A$4:A109)+1)","v":""},null,null,null,null,null,null,null,null,null,null,{"$f":"IFERROR(INDEX(C$4:C$151,MATCH(ROW()-ROW(#REF!),$A$4:$A$151,0)),\"\")","v":""},{"$f":"IFERROR(INDEX(D$4:D$151,MATCH(ROW()-ROW(#REF!),$A$4:$A$151,0)),\"\")","v":""},null,null,null,null,null,null,false]
[{"$f":"IF($T111=FALSE, \"\", MAX(A$4:A110)+1)","v":""},null,null,null,null,null,null,null,null,null,null,{"$f":"IFERROR(INDEX(C$4:C$151,MATCH(ROW()-ROW(#REF!),$A$4:$A$151,0)),\"\")","v":""},{"$f":"IFERROR(INDEX(D$4:D$151,MATCH(ROW()-ROW(#REF!),$A$4:$A$151,0)),\"\")","v":""},null,null,null,null,null,null,false]
[{"$f":"IF($T112=FALSE, \"\", MAX(A$4:A111)+1)","v":""},null,null,null,null,null,null,null,null,null,null,{"$f":"IFERROR(INDEX(C$4:C$151,MATCH(ROW()-ROW(#REF!),$A$4:$A$151,0)),\"\")","v":""},{"$f":"IFERROR(INDEX(D$4:D$151,MATCH(ROW()-ROW(#REF!),$A$4:$A$151,0)),\"\")","v":""},null,null,null,null,null,null,false]
[{"$f":"IF($T113=FALSE, \"\", MAX(A$4:A112)+1)","v":""},null,null,null,null,null,null,null,null,null,null,{"$f":"IFERROR(INDEX(C$4:C$151,MATCH(ROW()-ROW(#REF!),$A$4:$A$151,0)),\"\")","v":""},{"$f":"IFERROR(INDEX(D$4:D$151,MATCH(ROW()-ROW(#REF!),$A$4:$A$151,0)),\"\")","v":""},null,null,null,null,null,null,false]
[{"$f":"IF($T114=FALSE, \"\", MAX(A$4:A113)+1)","v":""},null,null,null,null,null,null,null,null,null,null,{"$f":"IFERROR(INDEX(C$4:C$151,MATCH(ROW()-ROW(#REF!),$A$4:$A$151,0)),\"\")","v":""},{"$f":"IFERROR(INDEX(D$4:D$151,MATCH(ROW()-ROW(#REF!),$A$4:$A$151,0)),\"\")","v":""},null,null,null,null,null,null,false]
[{"$f":"IF($T115=FALSE, \"\", MAX(A$4:A114)+1)","v":""},null,null,null,null,null,null,null,null,null,null,{"$f":"IFERROR(INDEX(C$4:C$151,MATCH(ROW()-ROW(#REF!),$A$4:$A$151,0)),\"\")","v":""},{"$f":"IFERROR(INDEX(D$4:D$151,MATCH(ROW()-ROW(#REF!),$A$4:$A$151,0)),\"\")","v":""},null,null,null,null,null,null,false]
[{"$f":"IF($T116=FALSE, \"\", MAX(A$4:A115)+1)","v":""},null,null,null,null,null,null,null,null,null,null,{"$f":"IFERROR(INDEX(C$4:C$151,MATCH(ROW()-ROW(#REF!),$A$4:$A$151,0)),\"\")","v":""},{"$f":"IFERROR(INDEX(D$4:D$151,MATCH(ROW()-ROW(#REF!),$A$4:$A$151,0)),\"\")","v":""},null,null,null,null,null,null,false]
[{"$f":"IF($T117=FALSE, \"\", MAX(A$4:A116)+1)","v":""},null,null,null,null,null,null,null,null,null,null,{"$f":"IFERROR(INDEX(C$4:C$151,MATCH(ROW()-ROW(#REF!),$A$4:$A$151,0)),\"\")","v":""},{"$f":"IFERROR(INDEX(D$4:D$151,MATCH(ROW()-ROW(#REF!),$A$4:$A$151,0)),\"\")","v":""},null,null,null,null,null,null,false]
[{"$f":"IF($T118=FALSE, \"\", MAX(A$4:A117)+1)","v":""},null,null,null,null,"Bör användas i kombination med SNUS0-2",null,null,null,null,null,{"$f":"IFERROR(INDEX(C$4:C$151,MATCH(ROW()-ROW(#REF!),$A$4:$A$151,0)),\"\")","v":""},{"$f":"IFERROR(INDEX(D$4:D$151,MATCH(ROW()-ROW(#REF!),$A$4:$A$151,0)),\"\")","v":""},null,null,null,null,null,null,false]
[{"$f":"IF($T119=FALSE, \"\", MAX(A$4:A118)+1)","v":""},null,null,null,null,null,null,null,null,null,null,{"$f":"IFERROR(INDEX(C$4:C$151,MATCH(ROW()-ROW(#REF!),$A$4:$A$151,0)),\"\")","v":""},{"$f":"IFERROR(INDEX(D$4:D$151,MATCH(ROW()-ROW(#REF!),$A$4:$A$151,0)),\"\")","v":""},null,null,null,null,null,null,false]
[{"$f":"IF($T120=FALSE, \"\", MAX(A$4:A119)+1)","v":""},null,null,null,null,null,null,null,null,null,null,{"$f":"IFERROR(INDEX(C$4:C$151,MATCH(ROW()-ROW(#REF!),$A$4:$A$151,0)),\"\")","v":""},{"$f":"IFERROR(INDEX(D$4:D$151,MATCH(ROW()-ROW(#REF!),$A$4:$A$151,0)),\"\")","v":""},null,null,null,null,null,null,false]
[{"$f":"IF($T121=FALSE, \"\", MAX(A$4:A120)+1)","v":""},null,null,null,null,null,null,null,null,null,null,{"$f":"IFERROR(INDEX(C$4:C$151,MATCH(ROW()-ROW(#REF!),$A$4:$A$151,0)),\"\")","v":""},{"$f":"IFERROR(INDEX(D$4:D$151,MATCH(ROW()-ROW(#REF!),$A$4:$A$151,0)),\"\")","v":""},null,null,null,null,null,null,false]
[{"$f":"IF($T122=FALSE, \"\", MAX(A$4:A121)+1)","v":""},null,null,null,null,null,null,null,null,null,null,{"$f":"IFERROR(INDEX(C$4:C$151,MATCH(ROW()-ROW(#REF!),$A$4:$A$151,0)),\"\")","v":""},{"$f":"IFERROR(INDEX(D$4:D$151,MATCH(ROW()-ROW(#REF!),$A$4:$A$151,0)),\"\")","v":""},null,null,null,null,null,null,false]
[{"$f":"IF($T123=FALSE, \"\", MAX(A$4:A122)+1)","v":""},null,null,null,null,null,null,null,null,null,null,{"$f":"IFERROR(INDEX(C$4:C$151,MATCH(ROW()-ROW(#REF!),$A$4:$A$151,0)),\"\")","v":""},{"$f":"IFERROR(INDEX(D$4:D$151,MATCH(ROW()-ROW(#REF!),$A$4:$A$151,0)),\"\")","v":""},null,null,null,null,null,null,false]
[{"$f":"IF($T124=FALSE, \"\", MAX(A$4:A123)+1)","v":""},null,null,null,null,null,null,null,null,null,null,{"$f":"IFERROR(INDEX(C$4:C$151,MATCH(ROW()-ROW(#REF!),$A$4:$A$151,0)),\"\")","v":""},{"$f":"IFERROR(INDEX(D$4:D$151,MATCH(ROW()-ROW(#REF!),$A$4:$A$151,0)),\"\")","v":""},null,null,null,null,null,null,false]
[{"$f":"IF($T125=FALSE, \"\", MAX(A$4:A124)+1)","v":""},null,null,null,null,null,null,null,null,null,null,{"$f":"IFERROR(INDEX(C$4:C$151,MATCH(ROW()-ROW(#REF!),$A$4:$A$151,0)),\"\")","v":""},{"$f":"IFERROR(INDEX(D$4:D$151,MATCH(ROW()-ROW(#REF!),$A$4:$A$151,0)),\"\")","v":""},null,null,null,null,null,null,false]
[{"$f":"IF($T126=FALSE, \"\", MAX(A$4:A125)+1)","v":""},null,null,null,null,null,null,null,null,null,null,{"$f":"IFERROR(INDEX(C$4:C$151,MATCH(ROW()-ROW(#REF!),$A$4:$A$151,0)),\"\")","v":""},{"$f":"IFERROR(INDEX(D$4:D$151,MATCH(ROW()-ROW(#REF!),$A$4:$A$151,0)),\"\")","v":""},null,null,null,null,null,null,false]
[{"$f":"IF($T127=FALSE, \"\", MAX(A$4:A126)+1)","v":""},null,null,null,null,null,null,null,null,null,null,{"$f":"IFERROR(INDEX(C$4:C$151,MATCH(ROW()-ROW(#REF!),$A$4:$A$151,0)),\"\")","v":""},{"$f":"IFERROR(INDEX(D$4:D$151,MATCH(ROW()-ROW(#REF!),$A$4:$A$151,0)),\"\")","v":""},null,null,null,null,null,null,false]
[{"$f":"IF($T128=FALSE, \"\", MAX(A$4:A127)+1)","v":""},null,null,null,null,null,null,null,null,null,null,{"$f":"IFERROR(INDEX(C$4:C$151,MATCH(ROW()-ROW(#REF!),$A$4:$A$151,0)),\"\")","v":""},{"$f":"IFERROR(INDEX(D$4:D$151,MATCH(ROW()-ROW(#REF!),$A$4:$A$151,0)),\"\")","v":""},null,null,null,null,null,null,false]
[{"$f":"IF($T129=FALSE, \"\", MAX(A$4:A128)+1)","v":""},null,null,null,null,"Bör användas i kombination med ROK0-2",null,null,null,null,null,{"$f":"IFERROR(INDEX(C$4:C$151,MATCH(ROW()-ROW(#REF!),$A$4:$A$151,0)),\"\")","v":""},{"$f":"IFERROR(INDEX(D$4:D$151,MATCH(ROW()-ROW(#REF!),$A$4:$A$151,0)),\"\")","v":""},null,null,null,null,null,null,false]
[{"$f":"IF($T130=FALSE, \"\", MAX(A$4:A129)+1)","v":""},null,null,null,null,null,null,null,null,null,null,{"$f":"IFERROR(INDEX(C$4:C$151,MATCH(ROW()-ROW(#REF!),$A$4:$A$151,0)),\"\")","v":""},{"$f":"IFERROR(INDEX(D$4:D$151,MATCH(ROW()-ROW(#REF!),$A$4:$A$151,0)),\"\")","v":""},null,null,null,null,null,null,false]
[{"$f":"IF($T131=FALSE, \"\", MAX(A$4:A130)+1)","v":""},null,null,null,null,null,null,null,null,null,null,{"$f":"IFERROR(INDEX(C$4:C$151,MATCH(ROW()-ROW(#REF!),$A$4:$A$151,0)),\"\")","v":""},{"$f":"IFERROR(INDEX(D$4:D$151,MATCH(ROW()-ROW(#REF!),$A$4:$A$151,0)),\"\")","v":""},null,null,null,null,null,null,false]
[{"$f":"IF($T132=FALSE, \"\", MAX(A$4:A131)+1)","v":""},null,null,null,null,null,null,null,null,null,null,{"$f":"IFERROR(INDEX(C$4:C$151,MATCH(ROW()-ROW(#REF!),$A$4:$A$151,0)),\"\")","v":""},{"$f":"IFERROR(INDEX(D$4:D$151,MATCH(ROW()-ROW(#REF!),$A$4:$A$151,0)),\"\")","v":""},null,null,null,null,null,null,false]
[{"$f":"IF($T133=FALSE, \"\", MAX(A$4:A132)+1)","v":""},null,null,null,null,null,null,null,null,null,null,{"$f":"IFERROR(INDEX(C$4:C$151,MATCH(ROW()-ROW(#REF!),$A$4:$A$151,0)),\"\")","v":""},{"$f":"IFERROR(INDEX(D$4:D$151,MATCH(ROW()-ROW(#REF!),$A$4:$A$151,0)),\"\")","v":""},null,null,null,null,null,null,false]
[{"$f":"IF($T134=FALSE, \"\", MAX(A$4:A133)+1)","v":""},null,null,null,null,null,null,null,null,null,null,{"$f":"IFERROR(INDEX(C$4:C$151,MATCH(ROW()-ROW(#REF!),$A$4:$A$151,0)),\"\")","v":""},{"$f":"IFERROR(INDEX(D$4:D$151,MATCH(ROW()-ROW(#REF!),$A$4:$A$151,0)),\"\")","v":""},null,null,null,null,null,null,false]
[{"$f":"IF($T135=FALSE, \"\", MAX(A$4:A134)+1)","v":""},null,null,null,null,null,null,null,null,null,null,{"$f":"IFERROR(INDEX(C$4:C$151,MATCH(ROW()-ROW(#REF!),$A$4:$A$151,0)),\"\")","v":""},{"$f":"IFERROR(INDEX(D$4:D$151,MATCH(ROW()-ROW(#REF!),$A$4:$A$151,0)),\"\")","v":""},null,null,null,null,null,null,false]
[{"$f":"IF($T136=FALSE, \"\", MAX(A$4:A135)+1)","v":""},null,null,null,null,null,null,null,null,null,null,{"$f":"IFERROR(INDEX(C$4:C$151,MATCH(ROW()-ROW(#REF!),$A$4:$A$151,0)),\"\")","v":""},{"$f":"IFERROR(INDEX(D$4:D$151,MATCH(ROW()-ROW(#REF!),$A$4:$A$151,0)),\"\")","v":""},null,null,null,null,null,null,false]
[{"$f":"IF($T137=FALSE, \"\", MAX(A$4:A136)+1)","v":""},null,null,null,null,null,null,null,null,null,null,{"$f":"IFERROR(INDEX(C$4:C$151,MATCH(ROW()-ROW(#REF!),$A$4:$A$151,0)),\"\")","v":""},{"$f":"IFERROR(INDEX(D$4:D$151,MATCH(ROW()-ROW(#REF!),$A$4:$A$151,0)),\"\")","v":""},null,null,null,null,null,null,false]
[{"$f":"IF($T138=FALSE, \"\", MAX(A$4:A137)+1)","v":""},null,null,null,null,null,null,null,null,null,null,{"$f":"IFERROR(INDEX(C$4:C$151,MATCH(ROW()-ROW(#REF!),$A$4:$A$151,0)),\"\")","v":""},{"$f":"IFERROR(INDEX(D$4:D$151,MATCH(ROW()-ROW(#REF!),$A$4:$A$151,0)),\"\")","v":""},null,null,null,null,null,null,false]
[{"$f":"IF($T139=FALSE, \"\", MAX(A$4:A138)+1)","v":""},null,null,null,null,null,null,null,null,null,null,{"$f":"IFERROR(INDEX(C$4:C$151,MATCH(ROW()-ROW(#REF!),$A$4:$A$151,0)),\"\")","v":""},{"$f":"IFERROR(INDEX(D$4:D$151,MATCH(ROW()-ROW(#REF!),$A$4:$A$151,0)),\"\")","v":""},null,null,null,null,null,null,false]
[{"$f":"IF($T140=FALSE, \"\", MAX(A$4:A139)+1)","v":""},null,null,null,null,null,null,null,null,null,null,{"$f":"IFERROR(INDEX(C$4:C$151,MATCH(ROW()-ROW(#REF!),$A$4:$A$151,0)),\"\")","v":""},{"$f":"IFERROR(INDEX(D$4:D$151,MATCH(ROW()-ROW(#REF!),$A$4:$A$151,0)),\"\")","v":""},null,null,null,null,null,null,false]
[{"$f":"IF($T141=FALSE, \"\", MAX(A$4:A140)+1)","v":""},null,null,null,null,null,null,null,null,null,null,{"$f":"IFERROR(INDEX(C$4:C$151,MATCH(ROW()-ROW(#REF!),$A$4:$A$151,0)),\"\")","v":""},{"$f":"IFERROR(INDEX(D$4:D$151,MATCH(ROW()-ROW(#REF!),$A$4:$A$151,0)),\"\")","v":""},null,null,null,null,null,null,false]
[{"$f":"IF($T142=FALSE, \"\", MAX(A$4:A141)+1)","v":""},null,null,null,null,null,null,null,null,null,null,{"$f":"IFERROR(INDEX(C$4:C$151,MATCH(ROW()-ROW(#REF!),$A$4:$A$151,0)),\"\")","v":""},{"$f":"IFERROR(INDEX(D$4:D$151,MATCH(ROW()-ROW(#REF!),$A$4:$A$151,0)),\"\")","v":""},null,null,null,null,null,null,false]
[{"$f":"IF($T143=FALSE, \"\", MAX(A$4:A142)+1)","v":""},null,null,null,null,null,null,null,null,null,null,{"$f":"IFERROR(INDEX(C$4:C$151,MATCH(ROW()-ROW(#REF!),$A$4:$A$151,0)),\"\")","v":""},{"$f":"IFERROR(INDEX(D$4:D$151,MATCH(ROW()-ROW(#REF!),$A$4:$A$151,0)),\"\")","v":""},null,null,null,null,null,null,false]
[{"$f":"IF($T144=FALSE, \"\", MAX(A$4:A143)+1)","v":""},null,null,null,null,null,null,null,null,null,null,{"$f":"IFERROR(INDEX(C$4:C$151,MATCH(ROW()-ROW(#REF!),$A$4:$A$151,0)),\"\")","v":""},{"$f":"IFERROR(INDEX(D$4:D$151,MATCH(ROW()-ROW(#REF!),$A$4:$A$151,0)),\"\")","v":""},null,null,null,null,null,null,false]
[{"$f":"IF($T145=FALSE, \"\", MAX(A$4:A144)+1)","v":""},null,null,null,null,null,null,null,null,null,null,{"$f":"IFERROR(INDEX(C$4:C$151,MATCH(ROW()-ROW(#REF!),$A$4:$A$151,0)),\"\")","v":""},{"$f":"IFERROR(INDEX(D$4:D$151,MATCH(ROW()-ROW(#REF!),$A$4:$A$151,0)),\"\")","v":""},null,null,null,null,null,null,false]
[{"$f":"IF($T146=FALSE, \"\", MAX(A$4:A145)+1)","v":""},null,null,null,null,null,null,null,null,null,null,{"$f":"IFERROR(INDEX(C$4:C$151,MATCH(ROW()-ROW(#REF!),$A$4:$A$151,0)),\"\")","v":""},{"$f":"IFERROR(INDEX(D$4:D$151,MATCH(ROW()-ROW(#REF!),$A$4:$A$151,0)),\"\")","v":""},null,null,null,null,null,null,false]
[{"$f":"IF($T147=FALSE, \"\", MAX(A$4:A146)+1)","v":""},null,null,null,null,null,null,null,null,null,null,{"$f":"IFERROR(INDEX(C$4:C$151,MATCH(ROW()-ROW(#REF!),$A$4:$A$151,0)),\"\")","v":""},{"$f":"IFERROR(INDEX(D$4:D$151,MATCH(ROW()-ROW(#REF!),$A$4:$A$151,0)),\"\")","v":""},null,null,null,null,null,null,false]
[{"$f":"IF($T148=FALSE, \"\", MAX(A$4:A147)+1)","v":""},null,null,null,null,null,null,null,null,null,null,{"$f":"IFERROR(INDEX(C$4:C$151,MATCH(ROW()-ROW(#REF!),$A$4:$A$151,0)),\"\")","v":""},{"$f":"IFERROR(INDEX(D$4:D$151,MATCH(ROW()-ROW(#REF!),$A$4:$A$151,0)),\"\")","v":""},null,null,null,null,null,null,false]
[{"$f":"IF($T149=FALSE, \"\", MAX(A$4:A148)+1)","v":""},null,null,null,null,null,null,null,null,null,null,{"$f":"IFERROR(INDEX(C$4:C$151,MATCH(ROW()-ROW(#REF!),$A$4:$A$151,0)),\"\")","v":""},{"$f":"IFERROR(INDEX(D$4:D$151,MATCH(ROW()-ROW(#REF!),$A$4:$A$151,0)),\"\")","v":""},null,null,null,null,null,null,false]
[{"$f":"IF($T150=FALSE, \"\", MAX(A$4:A149)+1)","v":""},null,null,null,null,null,null,null,null,null,null,{"$f":"IFERROR(INDEX(C$4:C$151,MATCH(ROW()-ROW(#REF!),$A$4:$A$151,0)),\"\")","v":""},{"$f":"IFERROR(INDEX(D$4:D$151,MATCH(ROW()-ROW(#REF!),$A$4:$A$151,0)),\"\")","v":""},null,null,null,null,null,null,false]
[{"$f":"IF($T151=FALSE, \"\", MAX(A$4:A150)+1)","v":""},null,null,null,null,null,null,null,null,null,null,{"$f":"IFERROR(INDEX(C$4:C$151,MATCH(ROW()-ROW(#REF!),$A$4:$A$151,0)),\"\")","v":""},{"$f":"IFERROR(INDEX(D$4:D$151,MATCH(ROW()-ROW(#REF!),$A$4:$A$151,0)),\"\")","v":""},null,null,null,null,null,null,false]

{"sheet":"MFR_IVF","index":8,"n_rows":151,"n_cols":20,"rows_kept":151,"cut":false,"hidden":true,"merged":[]}
[null,null,null,"Medicinska Födelseregistret, IVF"]
[]
["#","Val","Variabel","Klartext","Definition","Kommentar",null,null,null,null,null,"Variabel","Klartext",null,null,"Auto-kryssa:"]
[{"$f":"IF($T4=FALSE, \"\", MAX(A$3:A3)+1)","v":""},null,"BFODDAT","Barnets födelsedatum","Barnets födelsedatum","För fullständigt datum krävs särskild motivering ",null,null,null,null,null,{"$f":"IFERROR(INDEX(C$3:C$15,MATCH(ROW()-ROW(L$3),$A$3:$A$15,0)),\"\")","v":""},{"$f":"IFERROR(INDEX(D$3:D$15,MATCH(ROW()-ROW(M$3),$A$3:$A$15,0)),\"\")","v":""},null,null,null,null,null,null,false]
[{"$f":"IF($T5=FALSE, \"\", MAX(A$4:A4)+1)","v":""},null,"BFODDATN","Barnets födelsedatum ","Barnets födelsedatum ","För fullständigt datum krävs särskild motivering ",null,null,null,null,null,"","",null,null,null,null,null,null,false]
[{"$f":"IF($T6=FALSE, \"\", MAX(A$4:A5)+1)","v":""},null,"BLASTOCYST","Blastocystöverföring","Blastocystöverföring",null,null,null,null,null,null,"","",null,null,null,null,null,null,false]
[{"$f":"IF($T7=FALSE, \"\", MAX(A$4:A6)+1)","v":""},null,"EMBRYON","Antal överförda embryon","Antal överförda embryon",null,null,null,null,null,null,"","",null,null,null,null,null,null,false]
[{"$f":"IF($T8=FALSE, \"\", MAX(A$4:A7)+1)","v":""},null,"ET_AR_MANAD","Embryo transfer, år oc månad","Embryo transfer, år oc månad. Tidpunkt för behandlingen, med detta avses när de befruktade ägget/äggen återinfördes",null,null,null,null,null,null,"","",null,null,null,null,null,null,false]
[{"$f":"IF($T9=FALSE, \"\", MAX(A$4:A8)+1)","v":""},null,"ETDATUM","Embryo transfer, datum","Embryo transfer, datum. Tidpunkt för behandlingen, med detta avses när de befruktade ägget/äggen återinfördes",null,null,null,null,null,null,"","",null,null,null,null,null,null,false]
[{"$f":"IF($T10=FALSE, \"\", MAX(A$4:A9)+1)","v":""},null,"HINNSACK","Antal hinnsäckar","Maximalt antal observeradel hinnsäckar",null,null,null,null,null,null,"","",null,null,null,null,null,null,false]
[{"$f":"IF($T11=FALSE, \"\", MAX(A$4:A10)+1)","v":""},null,"IVF_KLINIK","IVF klinik","IVF klinik kod",null,null,null,null,null,null,"","",null,null,null,null,null,null,false]
[{"$f":"IF($T12=FALSE, \"\", MAX(A$4:A11)+1)","v":""},null,"METOD","Behandlingsmetod","Behandlingsmetod, kod",null,null,null,null,null,null,"","",null,null,null,null,null,null,false]
[{"$f":"IF($T13=FALSE, \"\", MAX(A$4:A12)+1)","v":""},null,"MFODDAT","Moderns födelsedatum","Moderns födelsedatum","För fullständigt datum krävs särskild motivering ",null,null,null,null,null,"","",null,null,null,null,null,null,false]
[{"$f":"IF($T14=FALSE, \"\", MAX(A$4:A13)+1)","v":""},null,"MFODDATN","Moderns födelsedatum","Moderns födelsedatum","För fullständigt datum krävs särskild motivering ",null,null,null,null,null,"","",null,null,null,null,null,null,false]
[{"$f":"IF($T15=FALSE, \"\", MAX(A$4:A14)+1)","v":""},null,"ULDATUM","Ultraljudsdatum","Datum för ultraljud",null,null,null,null,null,null,"","",null,null,null,null,null,null,false]
[{"$f":"IF($T16=FALSE, \"\", MAX(A$4:A15)+1)","v":""},null,null,null,null,null,null,null,null,null,null,{"$f":"IFERROR(INDEX(C$4:C$151,MATCH(ROW()-ROW(#REF!),$A$4:$A$151,0)),\"\")","v":""},{"$f":"IFERROR(INDEX(D$4:D$151,MATCH(ROW()-ROW(#REF!),$A$4:$A$151,0)),\"\")","v":""},null,null,null,null,null,null,false]
[{"$f":"IF($T17=FALSE, \"\", MAX(A$4:A16)+1)","v":""},null,null,null,null,null,null,null,null,null,null,{"$f":"IFERROR(INDEX(C$4:C$151,MATCH(ROW()-ROW(#REF!),$A$4:$A$151,0)),\"\")","v":""},{"$f":"IFERROR(INDEX(D$4:D$151,MATCH(ROW()-ROW(#REF!),$A$4:$A$151,0)),\"\")","v":""},null,null,null,null,null,null,false]
[{"$f":"IF($T18=FALSE, \"\", MAX(A$4:A17)+1)","v":""},null,null,null,null,null,null,null,null,null,null,{"$f":"IFERROR(INDEX(C$4:C$151,MATCH(ROW()-ROW(#REF!),$A$4:$A$151,0)),\"\")","v":""},{"$f":"IFERROR(INDEX(D$4:D$151,MATCH(ROW()-ROW(#REF!),$A$4:$A$151,0)),\"\")","v":""},null,null,null,null,null,null,false]
[{"$f":"IF($T19=FALSE, \"\", MAX(A$4:A18)+1)","v":""},null,null,null,null,null,null,null,null,null,null,{"$f":"IFERROR(INDEX(C$4:C$151,MATCH(ROW()-ROW(#REF!),$A$4:$A$151,0)),\"\")","v":""},{"$f":"IFERROR(INDEX(D$4:D$151,MATCH(ROW()-ROW(#REF!),$A$4:$A$151,0)),\"\")","v":""},null,null,null,null,null,null,false]
[{"$f":"IF($T20=FALSE, \"\", MAX(A$4:A19)+1)","v":""},null,null,null,null,null,null,null,null,null,null,{"$f":"IFERROR(INDEX(C$4:C$151,MATCH(ROW()-ROW(#REF!),$A$4:$A$151,0)),\"\")","v":""},{"$f":"IFERROR(INDEX(D$4:D$151,MATCH(ROW()-ROW(#REF!),$A$4:$A$151,0)),\"\")","v":""},null,null,null,null,null,null,false]
[{"$f":"IF($T21=FALSE, \"\", MAX(A$4:A20)+1)","v":""},null,null,null,null,null,null,null,null,null,null,{"$f":"IFERROR(INDEX(C$4:C$151,MATCH(ROW()-ROW(#REF!),$A$4:$A$151,0)),\"\")","v":""},{"$f":"IFERROR(INDEX(D$4:D$151,MATCH(ROW()-ROW(#REF!),$A$4:$A$151,0)),\"\")","v":""},null,null,null,null,null,null,false]
[{"$f":"IF($T22=FALSE, \"\", MAX(A$4:A21)+1)","v":""},null,null,null,null,null,null,null,null,null,null,{"$f":"IFERROR(INDEX(C$4:C$151,MATCH(ROW()-ROW(#REF!),$A$4:$A$151,0)),\"\")","v":""},{"$f":"IFERROR(INDEX(D$4:D$151,MATCH(ROW()-ROW(#REF!),$A$4:$A$151,0)),\"\")","v":""},null,null,null,null,null,null,false]
[{"$f":"IF($T23=FALSE, \"\", MAX(A$4:A22)+1)","v":""},null,null,null,null,null,null,null,null,null,null,{"$f":"IFERROR(INDEX(C$4:C$151,MATCH(ROW()-ROW(#REF!),$A$4:$A$151,0)),\"\")","v":""},{"$f":"IFERROR(INDEX(D$4:D$151,MATCH(ROW()-ROW(#REF!),$A$4:$A$151,0)),\"\")","v":""},null,null,null,null,null,null,false]
[{"$f":"IF($T24=FALSE, \"\", MAX(A$4:A23)+1)","v":""},null,null,null,null,null,null,null,null,null,null,{"$f":"IFERROR(INDEX(C$4:C$151,MATCH(ROW()-ROW(#REF!),$A$4:$A$151,0)),\"\")","v":""},{"$f":"IFERROR(INDEX(D$4:D$151,MATCH(ROW()-ROW(#REF!),$A$4:$A$151,0)),\"\")","v":""},null,null,null,null,null,null,false]
[{"$f":"IF($T25=FALSE, \"\", MAX(A$4:A24)+1)","v":""},null,null,null,null,null,null,null,null,null,null,{"$f":"IFERROR(INDEX(C$4:C$151,MATCH(ROW()-ROW(#REF!),$A$4:$A$151,0)),\"\")","v":""},{"$f":"IFERROR(INDEX(D$4:D$151,MATCH(ROW()-ROW(#REF!),$A$4:$A$151,0)),\"\")","v":""},null,null,null,null,null,null,false]
[{"$f":"IF($T26=FALSE, \"\", MAX(A$4:A25)+1)","v":""},null,null,null,null,null,null,null,null,null,null,{"$f":"IFERROR(INDEX(C$4:C$151,MATCH(ROW()-ROW(#REF!),$A$4:$A$151,0)),\"\")","v":""},{"$f":"IFERROR(INDEX(D$4:D$151,MATCH(ROW()-ROW(#REF!),$A$4:$A$151,0)),\"\")","v":""},null,null,null,null,null,null,false]
[{"$f":"IF($T27=FALSE, \"\", MAX(A$4:A26)+1)","v":""},null,null,null,null,null,null,null,null,null,null,{"$f":"IFERROR(INDEX(C$4:C$151,MATCH(ROW()-ROW(#REF!),$A$4:$A$151,0)),\"\")","v":""},{"$f":"IFERROR(INDEX(D$4:D$151,MATCH(ROW()-ROW(#REF!),$A$4:$A$151,0)),\"\")","v":""},null,null,null,null,null,null,false]
[{"$f":"IF($T28=FALSE, \"\", MAX(A$4:A27)+1)","v":""},null,null,null,null,null,null,null,null,null,null,{"$f":"IFERROR(INDEX(C$4:C$151,MATCH(ROW()-ROW(#REF!),$A$4:$A$151,0)),\"\")","v":""},{"$f":"IFERROR(INDEX(D$4:D$151,MATCH(ROW()-ROW(#REF!),$A$4:$A$151,0)),\"\")","v":""},null,null,null,null,null,null,false]
[{"$f":"IF($T29=FALSE, \"\", MAX(A$4:A28)+1)","v":""},null,null,null,null,null,null,null,null,null,null,{"$f":"IFERROR(INDEX(C$4:C$151,MATCH(ROW()-ROW(#REF!),$A$4:$A$151,0)),\"\")","v":""},{"$f":"IFERROR(INDEX(D$4:D$151,MATCH(ROW()-ROW(#REF!),$A$4:$A$151,0)),\"\")","v":""},null,null,null,null,null,null,false]
[{"$f":"IF($T30=FALSE, \"\", MAX(A$4:A29)+1)","v":""},null,null,null,null,null,null,null,null,null,null,{"$f":"IFERROR(INDEX(C$4:C$151,MATCH(ROW()-ROW(#REF!),$A$4:$A$151,0)),\"\")","v":""},{"$f":"IFERROR(INDEX(D$4:D$151,MATCH(ROW()-ROW(#REF!),$A$4:$A$151,0)),\"\")","v":""},null,null,null,null,null,null,false]
[{"$f":"IF($T31=FALSE, \"\", MAX(A$4:A30)+1)","v":""},null,null,null,null,null,null,null,null,null,null,{"$f":"IFERROR(INDEX(C$4:C$151,MATCH(ROW()-ROW(#REF!),$A$4:$A$151,0)),\"\")","v":""},{"$f":"IFERROR(INDEX(D$4:D$151,MATCH(ROW()-ROW(#REF!),$A$4:$A$151,0)),\"\")","v":""},null,null,null,null,null,null,false]
[{"$f":"IF($T32=FALSE, \"\", MAX(A$4:A31)+1)","v":""},null,null,null,null,null,null,null,null,null,null,{"$f":"IFERROR(INDEX(C$4:C$151,MATCH(ROW()-ROW(#REF!),$A$4:$A$151,0)),\"\")","v":""},{"$f":"IFERROR(INDEX(D$4:D$151,MATCH(ROW()-ROW(#REF!),$A$4:$A$151,0)),\"\")","v":""},null,null,null,null,null,null,false]
[{"$f":"IF($T33=FALSE, \"\", MAX(A$4:A32)+1)","v":""},null,null,null,null,null,null,null,null,null,null,{"$f":"IFERROR(INDEX(C$4:C$151,MATCH(ROW()-ROW(#REF!),$A$4:$A$151,0)),\"\")","v":""},{"$f":"IFERROR(INDEX(D$4:D$151,MATCH(ROW()-ROW(#REF!),$A$4:$A$151,0)),\"\")","v":""},null,null,null,null,null,null,false]
[{"$f":"IF($T34=FALSE, \"\", MAX(A$4:A33)+1)","v":""},null,null,null,null,null,null,null,null,null,null,{"$f":"IFERROR(INDEX(C$4:C$151,MATCH(ROW()-ROW(#REF!),$A$4:$A$151,0)),\"\")","v":""},{"$f":"IFERROR(INDEX(D$4:D$151,MATCH(ROW()-ROW(#REF!),$A$4:$A$151,0)),\"\")","v":""},null,null,null,null,null,null,false]
[{"$f":"IF($T35=FALSE, \"\", MAX(A$4:A34)+1)","v":""},null,null,null,null,null,null,null,null,null,null,{"$f":"IFERROR(INDEX(C$4:C$151,MATCH(ROW()-ROW(#REF!),$A$4:$A$151,0)),\"\")","v":""},{"$f":"IFERROR(INDEX(D$4:D$151,MATCH(ROW()-ROW(#REF!),$A$4:$A$151,0)),\"\")","v":""},null,null,null,null,null,null,false]
[{"$f":"IF($T36=FALSE, \"\", MAX(A$4:A35)+1)","v":""},null,null,null,null,null,null,null,null,null,null,{"$f":"IFERROR(INDEX(C$4:C$151,MATCH(ROW()-ROW(#REF!),$A$4:$A$151,0)),\"\")","v":""},{"$f":"IFERROR(INDEX(D$4:D$151,MATCH(ROW()-ROW(#REF!),$A$4:$A$151,0)),\"\")","v":""},null,null,null,null,null,null,false]
[{"$f":"IF($T37=FALSE, \"\", MAX(A$4:A36)+1)","v":""},null,null,null,null,null,null,null,null,null,null,{"$f":"IFERROR(INDEX(C$4:C$151,MATCH(ROW()-ROW(#REF!),$A$4:$A$151,0)),\"\")","v":""},{"$f":"IFERROR(INDEX(D$4:D$151,MATCH(ROW()-ROW(#REF!),$A$4:$A$151,0)),\"\")","v":""},null,null,null,null,null,null,false]
[{"$f":"IF($T38=FALSE, \"\", MAX(A$4:A37)+1)","v":""},null,null,null,null,null,null,null,null,null,null,{"$f":"IFERROR(INDEX(C$4:C$151,MATCH(ROW()-ROW(#REF!),$A$4:$A$151,0)),\"\")","v":""},{"$f":"IFERROR(INDEX(D$4:D$151,MATCH(ROW()-ROW(#REF!),$A$4:$A$151,0)),\"\")","v":""},null,null,null,null,null,null,false]
[{"$f":"IF($T39=FALSE, \"\", MAX(A$4:A38)+1)","v":""},null,null,null,null,null,null,null,null,null,null,{"$f":"IFERROR(INDEX(C$4:C$151,MATCH(ROW()-ROW(#REF!),$A$4:$A$151,0)),\"\")","v":""},{"$f":"IFERROR(INDEX(D$4:D$151,MATCH(ROW()-ROW(#REF!),$A$4:$A$151,0)),\"\")","v":""},null,null,null,null,null,null,false]
[{"$f":"IF($T40=FALSE, \"\", MAX(A$4:A39)+1)","v":""},null,null,null,null,null,null,null,null,null,null,{"$f":"IFERROR(INDEX(C$4:C$151,MATCH(ROW()-ROW(#REF!),$A$4:$A$151,0)),\"\")","v":""},{"$f":"IFERROR(INDEX(D$4:D$151,MATCH(ROW()-ROW(#REF!),$A$4:$A$151,0)),\"\")","v":""},null,null,null,null,null,null,false]
[{"$f":"IF($T41=FALSE, \"\", MAX(A$4:A40)+1)","v":""},null,null,null,null,null,null,null,null,null,null,{"$f":"IFERROR(INDEX(C$4:C$151,MATCH(ROW()-ROW(#REF!),$A$4:$A$151,0)),\"\")","v":""},{"$f":"IFERROR(INDEX(D$4:D$151,MATCH(ROW()-ROW(#REF!),$A$4:$A$151,0)),\"\")","v":""},null,null,null,null,null,null,false]
[{"$f":"IF($T42=FALSE, \"\", MAX(A$4:A41)+1)","v":""},null,null,null,null,null,null,null,null,null,null,{"$f":"IFERROR(INDEX(C$4:C$151,MATCH(ROW()-ROW(#REF!),$A$4:$A$151,0)),\"\")","v":""},{"$f":"IFERROR(INDEX(D$4:D$151,MATCH(ROW()-ROW(#REF!),$A$4:$A$151,0)),\"\")","v":""},null,null,null,null,null,null,false]
[{"$f":"IF($T43=FALSE, \"\", MAX(A$4:A42)+1)","v":""},null,null,null,null,null,null,null,null,null,null,{"$f":"IFERROR(INDEX(C$4:C$151,MATCH(ROW()-ROW(#REF!),$A$4:$A$151,0)),\"\")","v":""},{"$f":"IFERROR(INDEX(D$4:D$151,MATCH(ROW()-ROW(#REF!),$A$4:$A$151,0)),\"\")","v":""},null,null,null,null,null,null,false]
[{"$f":"IF($T44=FALSE, \"\", MAX(A$4:A43)+1)","v":""},null,null,null,null,null,null,null,null,null,null,{"$f":"IFERROR(INDEX(C$4:C$151,MATCH(ROW()-ROW(#REF!),$A$4:$A$151,0)),\"\")","v":""},{"$f":"IFERROR(INDEX(D$4:D$151,MATCH(ROW()-ROW(#REF!),$A$4:$A$151,0)),\"\")","v":""},null,null,null,null,null,null,false]
[{"$f":"IF($T45=FALSE, \"\", MAX(A$4:A44)+1)","v":""},null,null,null,null,null,null,null,null,null,null,{"$f":"IFERROR(INDEX(C$4:C$151,MATCH(ROW()-ROW(#REF!),$A$4:$A$151,0)),\"\")","v":""},{"$f":"IFERROR(INDEX(D$4:D$151,MATCH(ROW()-ROW(#REF!),$A$4:$A$151,0)),\"\")","v":""},null,null,null,null,null,null,false]
[{"$f":"IF($T46=FALSE, \"\", MAX(A$4:A45)+1)","v":""},null,null,null,null,null,null,null,null,null,null,{"$f":"IFERROR(INDEX(C$4:C$151,MATCH(ROW()-ROW(#REF!),$A$4:$A$151,0)),\"\")","v":""},{"$f":"IFERROR(INDEX(D$4:D$151,MATCH(ROW()-ROW(#REF!),$A$4:$A$151,0)),\"\")","v":""},null,null,null,null,null,null,false]
[{"$f":"IF($T47=FALSE, \"\", MAX(A$4:A46)+1)","v":""},null,null,null,null,null,null,null,null,null,null,{"$f":"IFERROR(INDEX(C$4:C$151,MATCH(ROW()-ROW(#REF!),$A$4:$A$151,0)),\"\")","v":""},{"$f":"IFERROR(INDEX(D$4:D$151,MATCH(ROW()-ROW(#REF!),$A$4:$A$151,0)),\"\")","v":""},null,null,null,null,null,null,false]
[{"$f":"IF($T48=FALSE, \"\", MAX(A$4:A47)+1)","v":""},null,null,null,null,null,null,null,null,null,null,{"$f":"IFERROR(INDEX(C$4:C$151,MATCH(ROW()-ROW(#REF!),$A$4:$A$151,0)),\"\")","v":""},{"$f":"IFERROR(INDEX(D$4:D$151,MATCH(ROW()-ROW(#REF!),$A$4:$A$151,0)),\"\")","v":""},null,null,null,null,null,null,false]
[{"$f":"IF($T49=FALSE, \"\", MAX(A$4:A48)+1)","v":""},null,null,null,null,null,null,null,null,null,null,{"$f":"IFERROR(INDEX(C$4:C$151,MATCH(ROW()-ROW(#REF!),$A$4:$A$151,0)),\"\")","v":""},{"$f":"IFERROR(INDEX(D$4:D$151,MATCH(ROW()-ROW(#REF!),$A$4:$A$151,0)),\"\")","v":""},null,null,null,null,null,null,false]
[{"$f":"IF($T50=FALSE, \"\", MAX(A$4:A49)+1)","v":""},null,null,null,null,null,null,null,null,null,null,{"$f":"IFERROR(INDEX(C$4:C$151,MATCH(ROW()-ROW(#REF!),$A$4:$A$151,0)),\"\")","v":""},{"$f":"IFERROR(INDEX(D$4:D$151,MATCH(ROW()-ROW(#REF!),$A$4:$A$151,0)),\"\")","v":""},null,null,null,null,null,null,false]
[{"$f":"IF($T51=FALSE, \"\", MAX(A$4:A50)+1)","v":""},null,null,null,null,null,null,null,null,null,null,{"$f":"IFERROR(INDEX(C$4:C$151,MATCH(ROW()-ROW(#REF!),$A$4:$A$151,0)),\"\")","v":""},{"$f":"IFERROR(INDEX(D$4:D$151,MATCH(ROW()-ROW(#REF!),$A$4:$A$151,0)),\"\")","v":""},null,null,null,null,null,null,false]
[{"$f":"IF($T52=FALSE, \"\", MAX(A$4:A51)+1)","v":""},null,null,null,null,null,null,null,null,null,null,{"$f":"IFERROR(INDEX(C$4:C$151,MATCH(ROW()-ROW(#REF!),$A$4:$A$151,0)),\"\")","v":""},{"$f":"IFERROR(INDEX(D$4:D$151,MATCH(ROW()-ROW(#REF!),$A$4:$A$151,0)),\"\")","v":""},null,null,null,null,null,null,false]
[{"$f":"IF($T53=FALSE, \"\", MAX(A$4:A52)+1)","v":""},null,null,null,null,null,null,null,null,null,null,{"$f":"IFERROR(INDEX(C$4:C$151,MATCH(ROW()-ROW(#REF!),$A$4:$A$151,0)),\"\")","v":""},{"$f":"IFERROR(INDEX(D$4:D$151,MATCH(ROW()-ROW(#REF!),$A$4:$A$151,0)),\"\")","v":""},null,null,null,null,null,null,false]
[{"$f":"IF($T54=FALSE, \"\", MAX(A$4:A53)+1)","v":""},null,null,null,null,null,null,null,null,null,null,{"$f":"IFERROR(INDEX(C$4:C$151,MATCH(ROW()-ROW(#REF!),$A$4:$A$151,0)),\"\")","v":""},{"$f":"IFERROR(INDEX(D$4:D$151,MATCH(ROW()-ROW(#REF!),$A$4:$A$151,0)),\"\")","v":""},null,null,null,null,null,null,false]
[{"$f":"IF($T55=FALSE, \"\", MAX(A$4:A54)+1)","v":""},null,null,null,null,null,null,null,null,null,null,{"$f":"IFERROR(INDEX(C$4:C$151,MATCH(ROW()-ROW(#REF!),$A$4:$A$151,0)),\"\")","v":""},{"$f":"IFERROR(INDEX(D$4:D$151,MATCH(ROW()-ROW(#REF!),$A$4:$A$151,0)),\"\")","v":""},null,null,null,null,null,null,false]
[{"$f":"IF($T56=FALSE, \"\", MAX(A$4:A55)+1)","v":""},null,null,null,null,null,null,null,null,null,null,{"$f":"IFERROR(INDEX(C$4:C$151,MATCH(ROW()-ROW(#REF!),$A$4:$A$151,0)),\"\")","v":""},{"$f":"IFERROR(INDEX(D$4:D$151,MATCH(ROW()-ROW(#REF!),$A$4:$A$151,0)),\"\")","v":""},null,null,null,null,null,null,false]
[{"$f":"IF($T57=FALSE, \"\", MAX(A$4:A56)+1)","v":""},null,null,null,null,null,null,null,null,null,null,{"$f":"IFERROR(INDEX(C$4:C$151,MATCH(ROW()-ROW(#REF!),$A$4:$A$151,0)),\"\")","v":""},{"$f":"IFERROR(INDEX(D$4:D$151,MATCH(ROW()-ROW(#REF!),$A$4:$A$151,0)),\"\")","v":""},null,null,null,null,null,null,false]
[{"$f":"IF($T58=FALSE, \"\", MAX(A$4:A57)+1)","v":""},null,null,null,null,null,null,null,null,null,null,{"$f":"IFERROR(INDEX(C$4:C$151,MATCH(ROW()-ROW(#REF!),$A$4:$A$151,0)),\"\")","v":""},{"$f":"IFERROR(INDEX(D$4:D$151,MATCH(ROW()-ROW(#REF!),$A$4:$A$151,0)),\"\")","v":""},null,null,null,null,null,null,false]
[{"$f":"IF($T59=FALSE, \"\", MAX(A$4:A58)+1)","v":""},null,null,null,null,null,null,null,null,null,null,{"$f":"IFERROR(INDEX(C$4:C$151,MATCH(ROW()-ROW(#REF!),$A$4:$A$151,0)),\"\")","v":""},{"$f":"IFERROR(INDEX(D$4:D$151,MATCH(ROW()-ROW(#REF!),$A$4:$A$151,0)),\"\")","v":""},null,null,null,null,null,null,false]
[{"$f":"IF($T60=FALSE, \"\", MAX(A$4:A59)+1)","v":""},null,null,null,null,null,null,null,null,null,null,{"$f":"IFERROR(INDEX(C$4:C$151,MATCH(ROW()-ROW(#REF!),$A$4:$A$151,0)),\"\")","v":""},{"$f":"IFERROR(INDEX(D$4:D$151,MATCH(ROW()-ROW(#REF!),$A$4:$A$151,0)),\"\")","v":""},null,null,null,null,null,null,false]
[{"$f":"IF($T61=FALSE, \"\", MAX(A$4:A60)+1)","v":""},null,null,null,null,null,null,null,null,null,null,{"$f":"IFERROR(INDEX(C$4:C$151,MATCH(ROW()-ROW(#REF!),$A$4:$A$151,0)),\"\")","v":""},{"$f":"IFERROR(INDEX(D$4:D$151,MATCH(ROW()-ROW(#REF!),$A$4:$A$151,0)),\"\")","v":""},null,null,null,null,null,null,false]
[{"$f":"IF($T62=FALSE, \"\", MAX(A$4:A61)+1)","v":""},null,null,null,null,null,null,null,null,null,null,{"$f":"IFERROR(INDEX(C$4:C$151,MATCH(ROW()-ROW(#REF!),$A$4:$A$151,0)),\"\")","v":""},{"$f":"IFERROR(INDEX(D$4:D$151,MATCH(ROW()-ROW(#REF!),$A$4:$A$151,0)),\"\")","v":""},null,null,null,null,null,null,false]
[{"$f":"IF($T63=FALSE, \"\", MAX(A$4:A62)+1)","v":""},null,null,null,null,null,null,null,null,null,null,{"$f":"IFERROR(INDEX(C$4:C$151,MATCH(ROW()-ROW(#REF!),$A$4:$A$151,0)),\"\")","v":""},{"$f":"IFERROR(INDEX(D$4:D$151,MATCH(ROW()-ROW(#REF!),$A$4:$A$151,0)),\"\")","v":""},null,null,null,null,null,null,false]
[{"$f":"IF($T64=FALSE, \"\", MAX(A$4:A63)+1)","v":""},null,null,null,null,null,null,null,null,null,null,{"$f":"IFERROR(INDEX(C$4:C$151,MATCH(ROW()-ROW(#REF!),$A$4:$A$151,0)),\"\")","v":""},{"$f":"IFERROR(INDEX(D$4:D$151,MATCH(ROW()-ROW(#REF!),$A$4:$A$151,0)),\"\")","v":""},null,null,null,null,null,null,false]
[{"$f":"IF($T65=FALSE, \"\", MAX(A$4:A64)+1)","v":""},null,null,null,null,null,null,null,null,null,null,{"$f":"IFERROR(INDEX(C$4:C$151,MATCH(ROW()-ROW(#REF!),$A$4:$A$151,0)),\"\")","v":""},{"$f":"IFERROR(INDEX(D$4:D$151,MATCH(ROW()-ROW(#REF!),$A$4:$A$151,0)),\"\")","v":""},null,null,null,null,null,null,false]
[{"$f":"IF($T66=FALSE, \"\", MAX(A$4:A65)+1)","v":""},null,null,null,null,null,null,null,null,null,null,{"$f":"IFERROR(INDEX(C$4:C$151,MATCH(ROW()-ROW(#REF!),$A$4:$A$151,0)),\"\")","v":""},{"$f":"IFERROR(INDEX(D$4:D$151,MATCH(ROW()-ROW(#REF!),$A$4:$A$151,0)),\"\")","v":""},null,null,null,null,null,null,false]
[{"$f":"IF($T67=FALSE, \"\", MAX(A$4:A66)+1)","v":""},null,null,null,null,null,null,null,null,null,null,{"$f":"IFERROR(INDEX(C$4:C$151,MATCH(ROW()-ROW(#REF!),$A$4:$A$151,0)),\"\")","v":""},{"$f":"IFERROR(INDEX(D$4:D$151,MATCH(ROW()-ROW(#REF!),$A$4:$A$151,0)),\"\")","v":""},null,null,null,null,null,null,false]
[{"$f":"IF($T68=FALSE, \"\", MAX(A$4:A67)+1)","v":""},null,null,null,null,null,null,null,null,null,null,{"$f":"IFERROR(INDEX(C$4:C$151,MATCH(ROW()-ROW(#REF!),$A$4:$A$151,0)),\"\")","v":""},{"$f":"IFERROR(INDEX(D$4:D$151,MATCH(ROW()-ROW(#REF!),$A$4:$A$151,0)),\"\")","v":""},null,null,null,null,null,null,false]
[{"$f":"IF($T69=FALSE, \"\", MAX(A$4:A68)+1)","v":""},null,null,null,null,null,null,null,null,null,null,{"$f":"IFERROR(INDEX(C$4:C$151,MATCH(ROW()-ROW(#REF!),$A$4:$A$151,0)),\"\")","v":""},{"$f":"IFERROR(INDEX(D$4:D$151,MATCH(ROW()-ROW(#REF!),$A$4:$A$151,0)),\"\")","v":""},null,null,null,null,null,null,false]
[{"$f":"IF($T70=FALSE, \"\", MAX(A$4:A69)+1)","v":""},null,null,null,null,null,null,null,null,null,null,{"$f":"IFERROR(INDEX(C$4:C$151,MATCH(ROW()-ROW(#REF!),$A$4:$A$151,0)),\"\")","v":""},{"$f":"IFERROR(INDEX(D$4:D$151,MATCH(ROW()-ROW(#REF!),$A$4:$A$151,0)),\"\")","v":""},null,null,null,null,null,null,false]
[{"$f":"IF($T71=FALSE, \"\", MAX(A$4:A70)+1)","v":""},null,null,null,null,null,null,null,null,null,null,{"$f":"IFERROR(INDEX(C$4:C$151,MATCH(ROW()-ROW(#REF!),$A$4:$A$151,0)),\"\")","v":""},{"$f":"IFERROR(INDEX(D$4:D$151,MATCH(ROW()-ROW(#REF!),$A$4:$A$151,0)),\"\")","v":""},null,null,null,null,null,null,false]
[{"$f":"IF($T72=FALSE, \"\", MAX(A$4:A71)+1)","v":""},null,null,null,null,null,null,null,null,null,null,{"$f":"IFERROR(INDEX(C$4:C$151,MATCH(ROW()-ROW(#REF!),$A$4:$A$151,0)),\"\")","v":""},{"$f":"IFERROR(INDEX(D$4:D$151,MATCH(ROW()-ROW(#REF!),$A$4:$A$151,0)),\"\")","v":""},null,null,null,null,null,null,false]
[{"$f":"IF($T73=FALSE, \"\", MAX(A$4:A72)+1)","v":""},null,null,null,null,null,null,null,null,null,null,{"$f":"IFERROR(INDEX(C$4:C$151,MATCH(ROW()-ROW(#REF!),$A$4:$A$151,0)),\"\")","v":""},{"$f":"IFERROR(INDEX(D$4:D$151,MATCH(ROW()-ROW(#REF!),$A$4:$A$151,0)),\"\")","v":""},null,null,null,null,null,null,false]
[{"$f":"IF($T74=FALSE, \"\", MAX(A$4:A73)+1)","v":""},null,null,null,null,null,null,null,null,null,null,{"$f":"IFERROR(INDEX(C$4:C$151,MATCH(ROW()-ROW(#REF!),$A$4:$A$151,0)),\"\")","v":""},{"$f":"IFERROR(INDEX(D$4:D$151,MATCH(ROW()-ROW(#REF!),$A$4:$A$151,0)),\"\")","v":""},null,null,null,null,null,null,false]
[{"$f":"IF($T75=FALSE, \"\", MAX(A$4:A74)+1)","v":""},null,null,null,null,null,null,null,null,null,null,{"$f":"IFERROR(INDEX(C$4:C$151,MATCH(ROW()-ROW(#REF!),$A$4:$A$151,0)),\"\")","v":""},{"$f":"IFERROR(INDEX(D$4:D$151,MATCH(ROW()-ROW(#REF!),$A$4:$A$151,0)),\"\")","v":""},null,null,null,null,null,null,false]
[{"$f":"IF($T76=FALSE, \"\", MAX(A$4:A75)+1)","v":""},null,null,null,null,null,null,null,null,null,null,{"$f":"IFERROR(INDEX(C$4:C$151,MATCH(ROW()-ROW(#REF!),$A$4:$A$151,0)),\"\")","v":""},{"$f":"IFERROR(INDEX(D$4:D$151,MATCH(ROW()-ROW(#REF!),$A$4:$A$151,0)),\"\")","v":""},null,null,null,null,null,null,false]
[{"$f":"IF($T77=FALSE, \"\", MAX(A$4:A76)+1)","v":""},null,null,null,null,null,null,null,null,null,null,{"$f":"IFERROR(INDEX(C$4:C$151,MATCH(ROW()-ROW(#REF!),$A$4:$A$151,0)),\"\")","v":""},{"$f":"IFERROR(INDEX(D$4:D$151,MATCH(ROW()-ROW(#REF!),$A$4:$A$151,0)),\"\")","v":""},null,null,null,null,null,null,false]
[{"$f":"IF($T78=FALSE, \"\", MAX(A$4:A77)+1)","v":""},null,null,null,null,null,null,null,null,null,null,{"$f":"IFERROR(INDEX(C$4:C$151,MATCH(ROW()-ROW(#REF!),$A$4:$A$151,0)),\"\")","v":""},{"$f":"IFERROR(INDEX(D$4:D$151,MATCH(ROW()-ROW(#REF!),$A$4:$A$151,0)),\"\")","v":""},null,null,null,null,null,null,false]
[{"$f":"IF($T79=FALSE, \"\", MAX(A$4:A78)+1)","v":""},null,null,null,null,null,null,null,null,null,null,{"$f":"IFERROR(INDEX(C$4:C$151,MATCH(ROW()-ROW(#REF!),$A$4:$A$151,0)),\"\")","v":""},{"$f":"IFERROR(INDEX(D$4:D$151,MATCH(ROW()-ROW(#REF!),$A$4:$A$151,0)),\"\")","v":""},null,null,null,null,null,null,false]
[{"$f":"IF($T80=FALSE, \"\", MAX(A$4:A79)+1)","v":""},null,null,null,null,null,null,null,null,null,null,{"$f":"IFERROR(INDEX(C$4:C$151,MATCH(ROW()-ROW(#REF!),$A$4:$A$151,0)),\"\")","v":""},{"$f":"IFERROR(INDEX(D$4:D$151,MATCH(ROW()-ROW(#REF!),$A$4:$A$151,0)),\"\")","v":""},null,null,null,null,null,null,false]
[{"$f":"IF($T81=FALSE, \"\", MAX(A$4:A80)+1)","v":""},null,null,null,null,null,null,null,null,null,null,{"$f":"IFERROR(INDEX(C$4:C$151,MATCH(ROW()-ROW(#REF!),$A$4:$A$151,0)),\"\")","v":""},{"$f":"IFERROR(INDEX(D$4:D$151,MATCH(ROW()-ROW(#REF!),$A$4:$A$151,0)),\"\")","v":""},null,null,null,null,null,null,false]
[{"$f":"IF($T82=FALSE, \"\", MAX(A$4:A81)+1)","v":""},null,null,null,null,null,null,null,null,null,null,{"$f":"IFERROR(INDEX(C$4:C$151,MATCH(ROW()-ROW(#REF!),$A$4:$A$151,0)),\"\")","v":""},{"$f":"IFERROR(INDEX(D$4:D$151,MATCH(ROW()-ROW(#REF!),$A$4:$A$151,0)),\"\")","v":""},null,null,null,null,null,null,false]
[{"$f":"IF($T83=FALSE, \"\", MAX(A$4:A82)+1)","v":""},null,null,null,null,null,null,null,null,null,null,{"$f":"IFERROR(INDEX(C$4:C$151,MATCH(ROW()-ROW(#REF!),$A$4:$A$151,0)),\"\")","v":""},{"$f":"IFERROR(INDEX(D$4:D$151,MATCH(ROW()-ROW(#REF!),$A$4:$A$151,0)),\"\")","v":""},null,null,null,null,null,null,false]
[{"$f":"IF($T84=FALSE, \"\", MAX(A$4:A83)+1)","v":""},null,null,null,null,null,null,null,null,null,null,{"$f":"IFERROR(INDEX(C$4:C$151,MATCH(ROW()-ROW(#REF!),$A$4:$A$151,0)),\"\")","v":""},{"$f":"IFERROR(INDEX(D$4:D$151,MATCH(ROW()-ROW(#REF!),$A$4:$A$151,0)),\"\")","v":""},null,null,null,null,null,null,false]
[{"$f":"IF($T85=FALSE, \"\", MAX(A$4:A84)+1)","v":""},null,null,null,null,null,null,null,null,null,null,{"$f":"IFERROR(INDEX(C$4:C$151,MATCH(ROW()-ROW(#REF!),$A$4:$A$151,0)),\"\")","v":""},{"$f":"IFERROR(INDEX(D$4:D$151,MATCH(ROW()-ROW(#REF!),$A$4:$A$151,0)),\"\")","v":""},null,null,null,null,null,null,false]
[{"$f":"IF($T86=FALSE, \"\", MAX(A$4:A85)+1)","v":""},null,null,null,null,null,null,null,null,null,null,{"$f":"IFERROR(INDEX(C$4:C$151,MATCH(ROW()-ROW(#REF!),$A$4:$A$151,0)),\"\")","v":""},{"$f":"IFERROR(INDEX(D$4:D$151,MATCH(ROW()-ROW(#REF!),$A$4:$A$151,0)),\"\")","v":""},null,null,null,null,null,null,false]
[{"$f":"IF($T87=FALSE, \"\", MAX(A$4:A86)+1)","v":""},null,null,null,null,null,null,null,null,null,null,{"$f":"IFERROR(INDEX(C$4:C$151,MATCH(ROW()-ROW(#REF!),$A$4:$A$151,0)),\"\")","v":""},{"$f":"IFERROR(INDEX(D$4:D$151,MATCH(ROW()-ROW(#REF!),$A$4:$A$151,0)),\"\")","v":""},null,null,null,null,null,null,false]
[{"$f":"IF($T88=FALSE, \"\", MAX(A$4:A87)+1)","v":""},null,null,null,null,null,null,null,null,null,null,{"$f":"IFERROR(INDEX(C$4:C$151,MATCH(ROW()-ROW(#REF!),$A$4:$A$151,0)),\"\")","v":""},{"$f":"IFERROR(INDEX(D$4:D$151,MATCH(ROW()-ROW(#REF!),$A$4:$A$151,0)),\"\")","v":""},null,null,null,null,null,null,false]
[{"$f":"IF($T89=FALSE, \"\", MAX(A$4:A88)+1)","v":""},null,null,null,null,null,null,null,null,null,null,{"$f":"IFERROR(INDEX(C$4:C$151,MATCH(ROW()-ROW(#REF!),$A$4:$A$151,0)),\"\")","v":""},{"$f":"IFERROR(INDEX(D$4:D$151,MATCH(ROW()-ROW(#REF!),$A$4:$A$151,0)),\"\")","v":""},null,null,null,null,null,null,false]
[{"$f":"IF($T90=FALSE, \"\", MAX(A$4:A89)+1)","v":""},null,null,null,null,null,null,null,null,null,null,{"$f":"IFERROR(INDEX(C$4:C$151,MATCH(ROW()-ROW(#REF!),$A$4:$A$151,0)),\"\")","v":""},{"$f":"IFERROR(INDEX(D$4:D$151,MATCH(ROW()-ROW(#REF!),$A$4:$A$151,0)),\"\")","v":""},null,null,null,null,null,null,false]
[{"$f":"IF($T91=FALSE, \"\", MAX(A$4:A90)+1)","v":""},null,null,null,null,null,null,null,null,null,null,{"$f":"IFERROR(INDEX(C$4:C$151,MATCH(ROW()-ROW(#REF!),$A$4:$A$151,0)),\"\")","v":""},{"$f":"IFERROR(INDEX(D$4:D$151,MATCH(ROW()-ROW(#REF!),$A$4:$A$151,0)),\"\")","v":""},null,null,null,null,null,null,false]
[{"$f":"IF($T92=FALSE, \"\", MAX(A$4:A91)+1)","v":""},null,null,null,null,null,null,null,null,null,null,{"$f":"IFERROR(INDEX(C$4:C$151,MATCH(ROW()-ROW(#REF!),$A$4:$A$151,0)),\"\")","v":""},{"$f":"IFERROR(INDEX(D$4:D$151,MATCH(ROW()-ROW(#REF!),$A$4:$A$151,0)),\"\")","v":""},null,null,null,null,null,null,false]
[{"$f":"IF($T93=FALSE, \"\", MAX(A$4:A92)+1)","v":""},null,null,null,null,null,null,null,null,null,null,{"$f":"IFERROR(INDEX(C$4:C$151,MATCH(ROW()-ROW(#REF!),$A$4:$A$151,0)),\"\")","v":""},{"$f":"IFERROR(INDEX(D$4:D$151,MATCH(ROW()-ROW(#REF!),$A$4:$A$151,0)),\"\")","v":""},null,null,null,null,null,null,false]
[{"$f":"IF($T94=FALSE, \"\", MAX(A$4:A93)+1)","v":""},null,null,null,null,null,null,null,null,null,null,{"$f":"IFERROR(INDEX(C$4:C$151,MATCH(ROW()-ROW(#REF!),$A$4:$A$151,0)),\"\")","v":""},{"$f":"IFERROR(INDEX(D$4:D$151,MATCH(ROW()-ROW(#REF!),$A$4:$A$151,0)),\"\")","v":""},null,null,null,null,null,null,false]
[{"$f":"IF($T95=FALSE, \"\", MAX(A$4:A94)+1)","v":""},null,null,null,null,null,null,null,null,null,null,{"$f":"IFERROR(INDEX(C$4:C$151,MATCH(ROW()-ROW(#REF!),$A$4:$A$151,0)),\"\")","v":""},{"$f":"IFERROR(INDEX(D$4:D$151,MATCH(ROW()-ROW(#REF!),$A$4:$A$151,0)),\"\")","v":""},null,null,null,null,null,null,false]
[{"$f":"IF($T96=FALSE, \"\", MAX(A$4:A95)+1)","v":""},null,null,null,null,null,null,null,null,null,null,{"$f":"IFERROR(INDEX(C$4:C$151,MATCH(ROW()-ROW(#REF!),$A$4:$A$151,0)),\"\")","v":""},{"$f":"IFERROR(INDEX(D$4:D$151,MATCH(ROW()-ROW(#REF!),$A$4:$A$151,0)),\"\")","v":""},null,null,null,null,null,null,false]
[{"$f":"IF($T97=FALSE, \"\", MAX(A$4:A96)+1)","v":""},null,null,null,null,null,null,null,null,null,null,{"$f":"IFERROR(INDEX(C$4:C$151,MATCH(ROW()-ROW(#REF!),$A$4:$A$151,0)),\"\")","v":""},{"$f":"IFERROR(INDEX(D$4:D$151,MATCH(ROW()-ROW(#REF!),$A$4:$A$151,0)),\"\")","v":""},null,null,null,null,null,null,false]
[{"$f":"IF($T98=FALSE, \"\", MAX(A$4:A97)+1)","v":""},null,null,null,null,null,null,null,null,null,null,{"$f":"IFERROR(INDEX(C$4:C$151,MATCH(ROW()-ROW(#REF!),$A$4:$A$151,0)),\"\")","v":""},{"$f":"IFERROR(INDEX(D$4:D$151,MATCH(ROW()-ROW(#REF!),$A$4:$A$151,0)),\"\")","v":""},null,null,null,null,null,null,false]
[{"$f":"IF($T99=FALSE, \"\", MAX(A$4:A98)+1)","v":""},null,null,null,null,null,null,null,null,null,null,{"$f":"IFERROR(INDEX(C$4:C$151,MATCH(ROW()-ROW(#REF!),$A$4:$A$151,0)),\"\")","v":""},{"$f":"IFERROR(INDEX(D$4:D$151,MATCH(ROW()-ROW(#REF!),$A$4:$A$151,0)),\"\")","v":""},null,null,null,null,null,null,false]
[{"$f":"IF($T100=FALSE, \"\", MAX(A$4:A99)+1)","v":""},null,null,null,null,null,null,null,null,null,null,{"$f":"IFERROR(INDEX(C$4:C$151,MATCH(ROW()-ROW(#REF!),$A$4:$A$151,0)),\"\")","v":""},{"$f":"IFERROR(INDEX(D$4:D$151,MATCH(ROW()-ROW(#REF!),$A$4:$A$151,0)),\"\")","v":""},null,null,null,null,null,null,false]
[{"$f":"IF($T101=FALSE, \"\", MAX(A$4:A100)+1)","v":""},null,null,null,null,null,null,null,null,null,null,{"$f":"IFERROR(INDEX(C$4:C$151,MATCH(ROW()-ROW(#REF!),$A$4:$A$151,0)),\"\")","v":""},{"$f":"IFERROR(INDEX(D$4:D$151,MATCH(ROW()-ROW(#REF!),$A$4:$A$151,0)),\"\")","v":""},null,null,null,null,null,null,false]
[{"$f":"IF($T102=FALSE, \"\", MAX(A$4:A101)+1)","v":""},null,null,null,null,null,null,null,null,null,null,{"$f":"IFERROR(INDEX(C$4:C$151,MATCH(ROW()-ROW(#REF!),$A$4:$A$151,0)),\"\")","v":""},{"$f":"IFERROR(INDEX(D$4:D$151,MATCH(ROW()-ROW(#REF!),$A$4:$A$151,0)),\"\")","v":""},null,null,null,null,null,null,false]
[{"$f":"IF($T103=FALSE, \"\", MAX(A$4:A102)+1)","v":""},null,null,null,null,null,null,null,null,null,null,{"$f":"IFERROR(INDEX(C$4:C$151,MATCH(ROW()-ROW(#REF!),$A$4:$A$151,0)),\"\")","v":""},{"$f":"IFERROR(INDEX(D$4:D$151,MATCH(ROW()-ROW(#REF!),$A$4:$A$151,0)),\"\")","v":""},null,null,null,null,null,null,false]
[{"$f":"IF($T104=FALSE, \"\", MAX(A$4:A103)+1)","v":""},null,null,null,null,null,null,null,null,null,null,{"$f":"IFERROR(INDEX(C$4:C$151,MATCH(ROW()-ROW(#REF!),$A$4:$A$151,0)),\"\")","v":""},{"$f":"IFERROR(INDEX(D$4:D$151,MATCH(ROW()-ROW(#REF!),$A$4:$A$151,0)),\"\")","v":""},null,null,null,null,null,null,false]
[{"$f":"IF($T105=FALSE, \"\", MAX(A$4:A104)+1)","v":""},null,null,null,null,null,null,null,null,null,null,{"$f":"IFERROR(INDEX(C$4:C$151,MATCH(ROW()-ROW(#REF!),$A$4:$A$151,0)),\"\")","v":""},{"$f":"IFERROR(INDEX(D$4:D$151,MATCH(ROW()-ROW(#REF!),$A$4:$A$151,0)),\"\")","v":""},null,null,null,null,null,null,false]
[{"$f":"IF($T106=FALSE, \"\", MAX(A$4:A105)+1)","v":""},null,null,null,null,null,null,null,null,null,null,{"$f":"IFERROR(INDEX(C$4:C$151,MATCH(ROW()-ROW(#REF!),$A$4:$A$151,0)),\"\")","v":""},{"$f":"IFERROR(INDEX(D$4:D$151,MATCH(ROW()-ROW(#REF!),$A$4:$A$151,0)),\"\")","v":""},null,null,null,null,null,null,false]
[{"$f":"IF($T107=FALSE, \"\", MAX(A$4:A106)+1)","v":""},null,null,null,null,null,null,null,null,null,null,{"$f":"IFERROR(INDEX(C$4:C$151,MATCH(ROW()-ROW(#REF!),$A$4:$A$151,0)),\"\")","v":""},{"$f":"IFERROR(INDEX(D$4:D$151,MATCH(ROW()-ROW(#REF!),$A$4:$A$151,0)),\"\")","v":""},null,null,null,null,null,null,false]
[{"$f":"IF($T108=FALSE, \"\", MAX(A$4:A107)+1)","v":""},null,null,null,null,null,null,null,null,null,null,{"$f":"IFERROR(INDEX(C$4:C$151,MATCH(ROW()-ROW(#REF!),$A$4:$A$151,0)),\"\")","v":""},{"$f":"IFERROR(INDEX(D$4:D$151,MATCH(ROW()-ROW(#REF!),$A$4:$A$151,0)),\"\")","v":""},null,null,null,null,null,null,false]
[{"$f":"IF($T109=FALSE, \"\", MAX(A$4:A108)+1)","v":""},null,null,null,null,null,null,null,null,null,null,{"$f":"IFERROR(INDEX(C$4:C$151,MATCH(ROW()-ROW(#REF!),$A$4:$A$151,0)),\"\")","v":""},{"$f":"IFERROR(INDEX(D$4:D$151,MATCH(ROW()-ROW(#REF!),$A$4:$A$151,0)),\"\")","v":""},null,null,null,null,null,null,false]
[{"$f":"IF($T110=FALSE, \"\", MAX(A$4:A109)+1)","v":""},null,null,null,null,null,null,null,null,null,null,{"$f":"IFERROR(INDEX(C$4:C$151,MATCH(ROW()-ROW(#REF!),$A$4:$A$151,0)),\"\")","v":""},{"$f":"IFERROR(INDEX(D$4:D$151,MATCH(ROW()-ROW(#REF!),$A$4:$A$151,0)),\"\")","v":""},null,null,null,null,null,null,false]
[{"$f":"IF($T111=FALSE, \"\", MAX(A$4:A110)+1)","v":""},null,null,null,null,null,null,null,null,null,null,{"$f":"IFERROR(INDEX(C$4:C$151,MATCH(ROW()-ROW(#REF!),$A$4:$A$151,0)),\"\")","v":""},{"$f":"IFERROR(INDEX(D$4:D$151,MATCH(ROW()-ROW(#REF!),$A$4:$A$151,0)),\"\")","v":""},null,null,null,null,null,null,false]
[{"$f":"IF($T112=FALSE, \"\", MAX(A$4:A111)+1)","v":""},null,null,null,null,null,null,null,null,null,null,{"$f":"IFERROR(INDEX(C$4:C$151,MATCH(ROW()-ROW(#REF!),$A$4:$A$151,0)),\"\")","v":""},{"$f":"IFERROR(INDEX(D$4:D$151,MATCH(ROW()-ROW(#REF!),$A$4:$A$151,0)),\"\")","v":""},null,null,null,null,null,null,false]
[{"$f":"IF($T113=FALSE, \"\", MAX(A$4:A112)+1)","v":""},null,null,null,null,null,null,null,null,null,null,{"$f":"IFERROR(INDEX(C$4:C$151,MATCH(ROW()-ROW(#REF!),$A$4:$A$151,0)),\"\")","v":""},{"$f":"IFERROR(INDEX(D$4:D$151,MATCH(ROW()-ROW(#REF!),$A$4:$A$151,0)),\"\")","v":""},null,null,null,null,null,null,false]
[{"$f":"IF($T114=FALSE, \"\", MAX(A$4:A113)+1)","v":""},null,null,null,null,null,null,null,null,null,null,{"$f":"IFERROR(INDEX(C$4:C$151,MATCH(ROW()-ROW(#REF!),$A$4:$A$151,0)),\"\")","v":""},{"$f":"IFERROR(INDEX(D$4:D$151,MATCH(ROW()-ROW(#REF!),$A$4:$A$151,0)),\"\")","v":""},null,null,null,null,null,null,false]
[{"$f":"IF($T115=FALSE, \"\", MAX(A$4:A114)+1)","v":""},null,null,null,null,null,null,null,null,null,null,{"$f":"IFERROR(INDEX(C$4:C$151,MATCH(ROW()-ROW(#REF!),$A$4:$A$151,0)),\"\")","v":""},{"$f":"IFERROR(INDEX(D$4:D$151,MATCH(ROW()-ROW(#REF!),$A$4:$A$151,0)),\"\")","v":""},null,null,null,null,null,null,false]
[{"$f":"IF($T116=FALSE, \"\", MAX(A$4:A115)+1)","v":""},null,null,null,null,null,null,null,null,null,null,{"$f":"IFERROR(INDEX(C$4:C$151,MATCH(ROW()-ROW(#REF!),$A$4:$A$151,0)),\"\")","v":""},{"$f":"IFERROR(INDEX(D$4:D$151,MATCH(ROW()-ROW(#REF!),$A$4:$A$151,0)),\"\")","v":""},null,null,null,null,null,null,false]
[{"$f":"IF($T117=FALSE, \"\", MAX(A$4:A116)+1)","v":""},null,null,null,null,null,null,null,null,null,null,{"$f":"IFERROR(INDEX(C$4:C$151,MATCH(ROW()-ROW(#REF!),$A$4:$A$151,0)),\"\")","v":""},{"$f":"IFERROR(INDEX(D$4:D$151,MATCH(ROW()-ROW(#REF!),$A$4:$A$151,0)),\"\")","v":""},null,null,null,null,null,null,false]
[{"$f":"IF($T118=FALSE, \"\", MAX(A$4:A117)+1)","v":""},null,null,null,null,null,null,null,null,null,null,{"$f":"IFERROR(INDEX(C$4:C$151,MATCH(ROW()-ROW(#REF!),$A$4:$A$151,0)),\"\")","v":""},{"$f":"IFERROR(INDEX(D$4:D$151,MATCH(ROW()-ROW(#REF!),$A$4:$A$151,0)),\"\")","v":""},null,null,null,null,null,null,false]
[{"$f":"IF($T119=FALSE, \"\", MAX(A$4:A118)+1)","v":""},null,null,null,null,null,null,null,null,null,null,{"$f":"IFERROR(INDEX(C$4:C$151,MATCH(ROW()-ROW(#REF!),$A$4:$A$151,0)),\"\")","v":""},{"$f":"IFERROR(INDEX(D$4:D$151,MATCH(ROW()-ROW(#REF!),$A$4:$A$151,0)),\"\")","v":""},null,null,null,null,null,null,false]
[{"$f":"IF($T120=FALSE, \"\", MAX(A$4:A119)+1)","v":""},null,null,null,null,null,null,null,null,null,null,{"$f":"IFERROR(INDEX(C$4:C$151,MATCH(ROW()-ROW(#REF!),$A$4:$A$151,0)),\"\")","v":""},{"$f":"IFERROR(INDEX(D$4:D$151,MATCH(ROW()-ROW(#REF!),$A$4:$A$151,0)),\"\")","v":""},null,null,null,null,null,null,false]
[{"$f":"IF($T121=FALSE, \"\", MAX(A$4:A120)+1)","v":""},null,null,null,null,null,null,null,null,null,null,{"$f":"IFERROR(INDEX(C$4:C$151,MATCH(ROW()-ROW(#REF!),$A$4:$A$151,0)),\"\")","v":""},{"$f":"IFERROR(INDEX(D$4:D$151,MATCH(ROW()-ROW(#REF!),$A$4:$A$151,0)),\"\")","v":""},null,null,null,null,null,null,false]
[{"$f":"IF($T122=FALSE, \"\", MAX(A$4:A121)+1)","v":""},null,null,null,null,null,null,null,null,null,null,{"$f":"IFERROR(INDEX(C$4:C$151,MATCH(ROW()-ROW(#REF!),$A$4:$A$151,0)),\"\")","v":""},{"$f":"IFERROR(INDEX(D$4:D$151,MATCH(ROW()-ROW(#REF!),$A$4:$A$151,0)),\"\")","v":""},null,null,null,null,null,null,false]
[{"$f":"IF($T123=FALSE, \"\", MAX(A$4:A122)+1)","v":""},null,null,null,null,null,null,null,null,null,null,{"$f":"IFERROR(INDEX(C$4:C$151,MATCH(ROW()-ROW(#REF!),$A$4:$A$151,0)),\"\")","v":""},{"$f":"IFERROR(INDEX(D$4:D$151,MATCH(ROW()-ROW(#REF!),$A$4:$A$151,0)),\"\")","v":""},null,null,null,null,null,null,false]
[{"$f":"IF($T124=FALSE, \"\", MAX(A$4:A123)+1)","v":""},null,null,null,null,null,null,null,null,null,null,{"$f":"IFERROR(INDEX(C$4:C$151,MATCH(ROW()-ROW(#REF!),$A$4:$A$151,0)),\"\")","v":""},{"$f":"IFERROR(INDEX(D$4:D$151,MATCH(ROW()-ROW(#REF!),$A$4:$A$151,0)),\"\")","v":""},null,null,null,null,null,null,false]
[{"$f":"IF($T125=FALSE, \"\", MAX(A$4:A124)+1)","v":""},null,null,null,null,null,null,null,null,null,null,{"$f":"IFERROR(INDEX(C$4:C$151,MATCH(ROW()-ROW(#REF!),$A$4:$A$151,0)),\"\")","v":""},{"$f":"IFERROR(INDEX(D$4:D$151,MATCH(ROW()-ROW(#REF!),$A$4:$A$151,0)),\"\")","v":""},null,null,null,null,null,null,false]
[{"$f":"IF($T126=FALSE, \"\", MAX(A$4:A125)+1)","v":""},null,null,null,null,null,null,null,null,null,null,{"$f":"IFERROR(INDEX(C$4:C$151,MATCH(ROW()-ROW(#REF!),$A$4:$A$151,0)),\"\")","v":""},{"$f":"IFERROR(INDEX(D$4:D$151,MATCH(ROW()-ROW(#REF!),$A$4:$A$151,0)),\"\")","v":""},null,null,null,null,null,null,false]
[{"$f":"IF($T127=FALSE, \"\", MAX(A$4:A126)+1)","v":""},null,null,null,null,null,null,null,null,null,null,{"$f":"IFERROR(INDEX(C$4:C$151,MATCH(ROW()-ROW(#REF!),$A$4:$A$151,0)),\"\")","v":""},{"$f":"IFERROR(INDEX(D$4:D$151,MATCH(ROW()-ROW(#REF!),$A$4:$A$151,0)),\"\")","v":""},null,null,null,null,null,null,false]
[{"$f":"IF($T128=FALSE, \"\", MAX(A$4:A127)+1)","v":""},null,null,null,null,null,null,null,null,null,null,{"$f":"IFERROR(INDEX(C$4:C$151,MATCH(ROW()-ROW(#REF!),$A$4:$A$151,0)),\"\")","v":""},{"$f":"IFERROR(INDEX(D$4:D$151,MATCH(ROW()-ROW(#REF!),$A$4:$A$151,0)),\"\")","v":""},null,null,null,null,null,null,false]
[{"$f":"IF($T129=FALSE, \"\", MAX(A$4:A128)+1)","v":""},null,null,null,null,null,null,null,null,null,null,{"$f":"IFERROR(INDEX(C$4:C$151,MATCH(ROW()-ROW(#REF!),$A$4:$A$151,0)),\"\")","v":""},{"$f":"IFERROR(INDEX(D$4:D$151,MATCH(ROW()-ROW(#REF!),$A$4:$A$151,0)),\"\")","v":""},null,null,null,null,null,null,false]
[{"$f":"IF($T130=FALSE, \"\", MAX(A$4:A129)+1)","v":""},null,null,null,null,null,null,null,null,null,null,{"$f":"IFERROR(INDEX(C$4:C$151,MATCH(ROW()-ROW(#REF!),$A$4:$A$151,0)),\"\")","v":""},{"$f":"IFERROR(INDEX(D$4:D$151,MATCH(ROW()-ROW(#REF!),$A$4:$A$151,0)),\"\")","v":""},null,null,null,null,null,null,false]
[{"$f":"IF($T131=FALSE, \"\", MAX(A$4:A130)+1)","v":""},null,null,null,null,null,null,null,null,null,null,{"$f":"IFERROR(INDEX(C$4:C$151,MATCH(ROW()-ROW(#REF!),$A$4:$A$151,0)),\"\")","v":""},{"$f":"IFERROR(INDEX(D$4:D$151,MATCH(ROW()-ROW(#REF!),$A$4:$A$151,0)),\"\")","v":""},null,null,null,null,null,null,false]
[{"$f":"IF($T132=FALSE, \"\", MAX(A$4:A131)+1)","v":""},null,null,null,null,null,null,null,null,null,null,{"$f":"IFERROR(INDEX(C$4:C$151,MATCH(ROW()-ROW(#REF!),$A$4:$A$151,0)),\"\")","v":""},{"$f":"IFERROR(INDEX(D$4:D$151,MATCH(ROW()-ROW(#REF!),$A$4:$A$151,0)),\"\")","v":""},null,null,null,null,null,null,false]
[{"$f":"IF($T133=FALSE, \"\", MAX(A$4:A132)+1)","v":""},null,null,null,null,null,null,null,null,null,null,{"$f":"IFERROR(INDEX(C$4:C$151,MATCH(ROW()-ROW(#REF!),$A$4:$A$151,0)),\"\")","v":""},{"$f":"IFERROR(INDEX(D$4:D$151,MATCH(ROW()-ROW(#REF!),$A$4:$A$151,0)),\"\")","v":""},null,null,null,null,null,null,false]
[{"$f":"IF($T134=FALSE, \"\", MAX(A$4:A133)+1)","v":""},null,null,null,null,null,null,null,null,null,null,{"$f":"IFERROR(INDEX(C$4:C$151,MATCH(ROW()-ROW(#REF!),$A$4:$A$151,0)),\"\")","v":""},{"$f":"IFERROR(INDEX(D$4:D$151,MATCH(ROW()-ROW(#REF!),$A$4:$A$151,0)),\"\")","v":""},null,null,null,null,null,null,false]
[{"$f":"IF($T135=FALSE, \"\", MAX(A$4:A134)+1)","v":""},null,null,null,null,null,null,null,null,null,null,{"$f":"IFERROR(INDEX(C$4:C$151,MATCH(ROW()-ROW(#REF!),$A$4:$A$151,0)),\"\")","v":""},{"$f":"IFERROR(INDEX(D$4:D$151,MATCH(ROW()-ROW(#REF!),$A$4:$A$151,0)),\"\")","v":""},null,null,null,null,null,null,false]
[{"$f":"IF($T136=FALSE, \"\", MAX(A$4:A135)+1)","v":""},null,null,null,null,null,null,null,null,null,null,{"$f":"IFERROR(INDEX(C$4:C$151,MATCH(ROW()-ROW(#REF!),$A$4:$A$151,0)),\"\")","v":""},{"$f":"IFERROR(INDEX(D$4:D$151,MATCH(ROW()-ROW(#REF!),$A$4:$A$151,0)),\"\")","v":""},null,null,null,null,null,null,false]
[{"$f":"IF($T137=FALSE, \"\", MAX(A$4:A136)+1)","v":""},null,null,null,null,null,null,null,null,null,null,{"$f":"IFERROR(INDEX(C$4:C$151,MATCH(ROW()-ROW(#REF!),$A$4:$A$151,0)),\"\")","v":""},{"$f":"IFERROR(INDEX(D$4:D$151,MATCH(ROW()-ROW(#REF!),$A$4:$A$151,0)),\"\")","v":""},null,null,null,null,null,null,false]
[{"$f":"IF($T138=FALSE, \"\", MAX(A$4:A137)+1)","v":""},null,null,null,null,null,null,null,null,null,null,{"$f":"IFERROR(INDEX(C$4:C$151,MATCH(ROW()-ROW(#REF!),$A$4:$A$151,0)),\"\")","v":""},{"$f":"IFERROR(INDEX(D$4:D$151,MATCH(ROW()-ROW(#REF!),$A$4:$A$151,0)),\"\")","v":""},null,null,null,null,null,null,false]
[{"$f":"IF($T139=FALSE, \"\", MAX(A$4:A138)+1)","v":""},null,null,null,null,null,null,null,null,null,null,{"$f":"IFERROR(INDEX(C$4:C$151,MATCH(ROW()-ROW(#REF!),$A$4:$A$151,0)),\"\")","v":""},{"$f":"IFERROR(INDEX(D$4:D$151,MATCH(ROW()-ROW(#REF!),$A$4:$A$151,0)),\"\")","v":""},null,null,null,null,null,null,false]
[{"$f":"IF($T140=FALSE, \"\", MAX(A$4:A139)+1)","v":""},null,null,null,null,null,null,null,null,null,null,{"$f":"IFERROR(INDEX(C$4:C$151,MATCH(ROW()-ROW(#REF!),$A$4:$A$151,0)),\"\")","v":""},{"$f":"IFERROR(INDEX(D$4:D$151,MATCH(ROW()-ROW(#REF!),$A$4:$A$151,0)),\"\")","v":""},null,null,null,null,null,null,false]
[{"$f":"IF($T141=FALSE, \"\", MAX(A$4:A140)+1)","v":""},null,null,null,null,null,null,null,null,null,null,{"$f":"IFERROR(INDEX(C$4:C$151,MATCH(ROW()-ROW(#REF!),$A$4:$A$151,0)),\"\")","v":""},{"$f":"IFERROR(INDEX(D$4:D$151,MATCH(ROW()-ROW(#REF!),$A$4:$A$151,0)),\"\")","v":""},null,null,null,null,null,null,false]
[{"$f":"IF($T142=FALSE, \"\", MAX(A$4:A141)+1)","v":""},null,null,null,null,null,null,null,null,null,null,{"$f":"IFERROR(INDEX(C$4:C$151,MATCH(ROW()-ROW(#REF!),$A$4:$A$151,0)),\"\")","v":""},{"$f":"IFERROR(INDEX(D$4:D$151,MATCH(ROW()-ROW(#REF!),$A$4:$A$151,0)),\"\")","v":""},null,null,null,null,null,null,false]
[{"$f":"IF($T143=FALSE, \"\", MAX(A$4:A142)+1)","v":""},null,null,null,null,null,null,null,null,null,null,{"$f":"IFERROR(INDEX(C$4:C$151,MATCH(ROW()-ROW(#REF!),$A$4:$A$151,0)),\"\")","v":""},{"$f":"IFERROR(INDEX(D$4:D$151,MATCH(ROW()-ROW(#REF!),$A$4:$A$151,0)),\"\")","v":""},null,null,null,null,null,null,false]
[{"$f":"IF($T144=FALSE, \"\", MAX(A$4:A143)+1)","v":""},null,null,null,null,null,null,null,null,null,null,{"$f":"IFERROR(INDEX(C$4:C$151,MATCH(ROW()-ROW(#REF!),$A$4:$A$151,0)),\"\")","v":""},{"$f":"IFERROR(INDEX(D$4:D$151,MATCH(ROW()-ROW(#REF!),$A$4:$A$151,0)),\"\")","v":""},null,null,null,null,null,null,false]
[{"$f":"IF($T145=FALSE, \"\", MAX(A$4:A144)+1)","v":""},null,null,null,null,null,null,null,null,null,null,{"$f":"IFERROR(INDEX(C$4:C$151,MATCH(ROW()-ROW(#REF!),$A$4:$A$151,0)),\"\")","v":""},{"$f":"IFERROR(INDEX(D$4:D$151,MATCH(ROW()-ROW(#REF!),$A$4:$A$151,0)),\"\")","v":""},null,null,null,null,null,null,false]
[{"$f":"IF($T146=FALSE, \"\", MAX(A$4:A145)+1)","v":""},null,null,null,null,null,null,null,null,null,null,{"$f":"IFERROR(INDEX(C$4:C$151,MATCH(ROW()-ROW(#REF!),$A$4:$A$151,0)),\"\")","v":""},{"$f":"IFERROR(INDEX(D$4:D$151,MATCH(ROW()-ROW(#REF!),$A$4:$A$151,0)),\"\")","v":""},null,null,null,null,null,null,false]
[{"$f":"IF($T147=FALSE, \"\", MAX(A$4:A146)+1)","v":""},null,null,null,null,null,null,null,null,null,null,{"$f":"IFERROR(INDEX(C$4:C$151,MATCH(ROW()-ROW(#REF!),$A$4:$A$151,0)),\"\")","v":""},{"$f":"IFERROR(INDEX(D$4:D$151,MATCH(ROW()-ROW(#REF!),$A$4:$A$151,0)),\"\")","v":""},null,null,null,null,null,null,false]
[{"$f":"IF($T148=FALSE, \"\", MAX(A$4:A147)+1)","v":""},null,null,null,null,null,null,null,null,null,null,{"$f":"IFERROR(INDEX(C$4:C$151,MATCH(ROW()-ROW(#REF!),$A$4:$A$151,0)),\"\")","v":""},{"$f":"IFERROR(INDEX(D$4:D$151,MATCH(ROW()-ROW(#REF!),$A$4:$A$151,0)),\"\")","v":""},null,null,null,null,null,null,false]
[{"$f":"IF($T149=FALSE, \"\", MAX(A$4:A148)+1)","v":""},null,null,null,null,null,null,null,null,null,null,{"$f":"IFERROR(INDEX(C$4:C$151,MATCH(ROW()-ROW(#REF!),$A$4:$A$151,0)),\"\")","v":""},{"$f":"IFERROR(INDEX(D$4:D$151,MATCH(ROW()-ROW(#REF!),$A$4:$A$151,0)),\"\")","v":""},null,null,null,null,null,null,false]
[{"$f":"IF($T150=FALSE, \"\", MAX(A$4:A149)+1)","v":""},null,null,null,null,null,null,null,null,null,null,{"$f":"IFERROR(INDEX(C$4:C$151,MATCH(ROW()-ROW(#REF!),$A$4:$A$151,0)),\"\")","v":""},{"$f":"IFERROR(INDEX(D$4:D$151,MATCH(ROW()-ROW(#REF!),$A$4:$A$151,0)),\"\")","v":""},null,null,null,null,null,null,false]
[{"$f":"IF($T151=FALSE, \"\", MAX(A$4:A150)+1)","v":""},null,null,null,null,null,null,null,null,null,null,{"$f":"IFERROR(INDEX(C$4:C$151,MATCH(ROW()-ROW(#REF!),$A$4:$A$151,0)),\"\")","v":""},{"$f":"IFERROR(INDEX(D$4:D$151,MATCH(ROW()-ROW(#REF!),$A$4:$A$151,0)),\"\")","v":""},null,null,null,null,null,null,false]

{"sheet":"MFR_FOK","index":9,"n_rows":153,"n_cols":20,"rows_kept":153,"cut":false,"hidden":true,"merged":[]}
[null,null,null,"Registret över fosterskador och kromosomavvikelser"]
[]
["#","Val","Variabel","Klartext","Definition","Kommentar",null,null,null,null,null,"Variabel","Klartext",null,null,"Auto-kryssa:",null,null,null,false]
[{"$f":"IF($T4=FALSE, \"\", MAX(A$3:A3)+1)","v":""},null,"ANTAL_FOK","Antal fosterskador/kromosomavvikelser","Antal fosterskador/kromosomavvikelser",null,null,null,null,null,null,{"$f":"IFERROR(INDEX(C$4:C$26,MATCH(ROW()-ROW(L$3),$A$4:$A$26,0)),\"\")","v":""},{"$f":"IFERROR(INDEX(D$4:D$153,MATCH(ROW()-ROW(M$3),$A$4:$A$26,0)),\"\")","v":""},null,null,null,null,null,null,false]
[{"$f":"IF($T5=FALSE, \"\", MAX(A$4:A4)+1)","v":""},null,"AR","Barnets födelseår","Barnets födelseår",null,null,null,null,null,null,"","",null,null,null,null,null,null,false]
[{"$f":"IF($T6=FALSE, \"\", MAX(A$4:A5)+1)","v":""},null,"BDIAG_BK1 - BDIAG_BK8","Diagnos 1 - 8 enligt Bengt Källén","Diagnos 1 - 8 enligt Bengt Källén",null,null,null,null,null,null,"","",null,null,null,null,null,null,false]
[{"$f":"IF($T7=FALSE, \"\", MAX(A$4:A6)+1)","v":""},null,"BDIAG_FOK1 - BDIAG_FOK16 ","Diagnos 1 - 16 enligt ICD","Diagnos 1 - 16 enligt ICD",null,null,null,null,null,null,"","",null,null,null,null,null,null,false]
[{"$f":"IF($T8=FALSE, \"\", MAX(A$4:A7)+1)","v":""},null,"BFODDAT","Födelsedatum","Barnets födelsedatum",null,null,null,null,null,null,"","",null,null,null,null,null,null,false]
[{"$f":"IF($T9=FALSE, \"\", MAX(A$4:A8)+1)","v":""},null,"BFODDATN","Födelsedatum","Barnets födelsedatum, num",null,null,null,null,null,null,"","",null,null,null,null,null,null,false]
[{"$f":"IF($T10=FALSE, \"\", MAX(A$4:A9)+1)","v":""},null,"BLANGD_FOK","Födelselängd","Barnets födelselängd (cm)",null,null,null,null,null,null,"","",null,null,null,null,null,null,false]
[{"$f":"IF($T11=FALSE, \"\", MAX(A$4:A10)+1)","v":""},null,"BORD_FOK","Börd","Börd",null,null,null,null,null,null,"","",null,null,null,null,null,null,false]
[{"$f":"IF($T12=FALSE, \"\", MAX(A$4:A11)+1)","v":""},null,"BORDNR_FOK","Bördnummer","Bördnummer",null,null,null,null,null,null,"","",null,null,null,null,null,null,false]
[{"$f":"IF($T13=FALSE, \"\", MAX(A$4:A12)+1)","v":""},null,"BVIKT_FOK","Födelsevikt","Barnets födelsevikt (gram)",null,null,null,null,null,null,"","",null,null,null,null,null,null,false]
[{"$f":"IF($T14=FALSE, \"\", MAX(A$4:A13)+1)","v":""},null,"DKLASS_FOK","Överlevnad","Överlevnad",null,null,null,null,null,null,"","",null,null,null,null,null,null,false]
[{"$f":"IF($T15=FALSE, \"\", MAX(A$4:A14)+1)","v":""},null,"GRV_FOK","Graviditetslängd","Graviditetslängd, första hand enligt ultraljud och andra hand enligt sista mensdatum",null,null,null,null,null,null,"","",null,null,null,null,null,null,false]
[{"$f":"IF($T16=FALSE, \"\", MAX(A$4:A15)+1)","v":""},null,"GRVSM_FOK","Graviditetslängd, SM","Graviditetslängd enligt sista mens datum",null,null,null,null,null,null,"","",null,null,null,null,null,null,false]
[{"$f":"IF($T17=FALSE, \"\", MAX(A$4:A16)+1)","v":""},null,"GRVUL_FOK","Graviditetslängd, UL","Graviditetslängd enligt ultraljud",null,null,null,null,null,null,"","",null,null,null,null,null,null,false]
[{"$f":"IF($T18=FALSE, \"\", MAX(A$4:A17)+1)","v":""},null,"HOMF_FOK","Huvudomfång","Huvudomfång (cm)",null,null,null,null,null,null,"","",null,null,null,null,null,null,false]
[{"$f":"IF($T19=FALSE, \"\", MAX(A$4:A18)+1)","v":""},null,"ICD","ICD revision","ICD revision",null,null,null,null,null,null,"","",null,null,null,null,null,null,false]
[{"$f":"IF($T20=FALSE, \"\", MAX(A$4:A19)+1)","v":""},null,"KON","Kön","Kön",null,null,null,null,null,null,"","",null,null,null,null,null,null,false]
[{"$f":"IF($T21=FALSE, \"\", MAX(A$4:A20)+1)","v":""},null,"LIV","Livstatus","Livstatus",null,null,null,null,null,null,"","",null,null,null,null,null,null,false]
[{"$f":"IF($T22=FALSE, \"\", MAX(A$4:A21)+1)","v":""},null,"LOPNR_FOK","Löpnummer","Unikt löpnummer",null,null,null,null,null,null,"","",null,null,null,null,null,null,false]
[{"$f":"IF($T23=FALSE, \"\", MAX(A$4:A22)+1)","v":""},null,"MFODDAT","Moderns födelsedatum","Moderns födelsedatum",null,null,null,null,null,null,"","",null,null,null,null,null,null,false]
[{"$f":"IF($T24=FALSE, \"\", MAX(A$4:A23)+1)","v":""},null,"MFODDATN","Moderns födelsedatum","Moderns födelsedatum, num",null,null,null,null,null,null,"","",null,null,null,null,null,null,false]
[{"$f":"IF($T25=FALSE, \"\", MAX(A$4:A24)+1)","v":""},null,"OBDUKT_FOK","Obduktion","Obduktion",null,null,null,null,null,null,"","",null,null,null,null,null,null,false]
[{"$f":"IF($T26=FALSE, \"\", MAX(A$4:A25)+1)","v":""},null,"SJUKHUS_FOK","Sjukhus","Sjukhuskod",null,null,null,null,null,null,"","",null,null,null,null,null,null,false]
[{"$f":"IF($T27=FALSE, \"\", MAX(A$4:A26)+1)","v":""},null,null,null,null,null,null,null,null,null,null,null,"",null,null,null,null,null,null,false]
[{"$f":"IF($T28=FALSE, \"\", MAX(A$4:A27)+1)","v":""},null,null,null,null,null,null,null,null,null,null,{"$f":"IFERROR(INDEX(C$4:C$26,MATCH(ROW()-ROW(L$3),$A$4:$A$26,0)),\"\")","v":""},"",null,null,null,null,null,null,false]
[{"$f":"IF($T29=FALSE, \"\", MAX(A$4:A28)+1)","v":""},null,null,null,null,null,null,null,null,null,null,"","",null,null,null,null,null,null,false]
[{"$f":"IF($T30=FALSE, \"\", MAX(A$4:A29)+1)","v":""},null,null,null,null,null,null,null,null,null,null,"","",null,null,null,null,null,null,false]
[{"$f":"IF($T31=FALSE, \"\", MAX(A$4:A30)+1)","v":""},null,null,null,null,null,null,null,null,null,null,"","",null,null,null,null,null,null,false]
[{"$f":"IF($T32=FALSE, \"\", MAX(A$4:A31)+1)","v":""},null,null,null,null,null,null,null,null,null,null,"","",null,null,null,null,null,null,false]
[{"$f":"IF($T33=FALSE, \"\", MAX(A$4:A32)+1)","v":""},null,null,null,null,null,null,null,null,null,null,"","",null,null,null,null,null,null,false]
[{"$f":"IF($T34=FALSE, \"\", MAX(A$4:A33)+1)","v":""},null,null,null,null,null,null,null,null,null,null,"","",null,null,null,null,null,null,false]
[{"$f":"IF($T35=FALSE, \"\", MAX(A$4:A34)+1)","v":""},null,null,null,null,null,null,null,null,null,null,"","",null,null,null,null,null,null,false]
[{"$f":"IF($T36=FALSE, \"\", MAX(A$4:A35)+1)","v":""},null,null,null,null,null,null,null,null,null,null,"",{"$f":"IFERROR(INDEX(D$4:D$153,MATCH(ROW()-ROW(M$3),$A$4:$A$26,0)),\"\")","v":""},null,null,null,null,null,null,false]
[{"$f":"IF($T37=FALSE, \"\", MAX(A$4:A36)+1)","v":""},null,null,null,null,null,null,null,null,null,null,"","",null,null,null,null,null,null,false]
[{"$f":"IF($T38=FALSE, \"\", MAX(A$4:A37)+1)","v":""},null,null,null,null,null,null,null,null,null,null,"","",null,null,null,null,null,null,false]
[{"$f":"IF($T39=FALSE, \"\", MAX(A$4:A38)+1)","v":""},null,null,null,null,null,null,null,null,null,null,"","",null,null,null,null,null,null,false]
[{"$f":"IF($T40=FALSE, \"\", MAX(A$4:A39)+1)","v":""},null,null,null,null,null,null,null,null,null,null,"","",null,null,null,null,null,null,false]
[{"$f":"IF($T41=FALSE, \"\", MAX(A$4:A40)+1)","v":""},null,null,null,null,null,null,null,null,null,null,"","",null,null,null,null,null,null,false]
[{"$f":"IF($T42=FALSE, \"\", MAX(A$4:A41)+1)","v":""},null,null,null,null,null,null,null,null,null,null,"","",null,null,null,null,null,null,false]
[{"$f":"IF($T43=FALSE, \"\", MAX(A$4:A42)+1)","v":""},null,null,null,null,null,null,null,null,null,null,"","",null,null,null,null,null,null,false]
[{"$f":"IF($T44=FALSE, \"\", MAX(A$4:A43)+1)","v":""},null,null,null,null,null,null,null,null,null,null,"","",null,null,null,null,null,null,false]
[{"$f":"IF($T45=FALSE, \"\", MAX(A$4:A44)+1)","v":""},null,null,null,null,null,null,null,null,null,null,"","",null,null,null,null,null,null,false]
[{"$f":"IF($T46=FALSE, \"\", MAX(A$4:A45)+1)","v":""},null,null,null,null,null,null,null,null,null,null,"","",null,null,null,null,null,null,false]
[{"$f":"IF($T47=FALSE, \"\", MAX(A$4:A46)+1)","v":""},null,null,null,null,null,null,null,null,null,null,"","",null,null,null,null,null,null,false]
[{"$f":"IF($T48=FALSE, \"\", MAX(A$4:A47)+1)","v":""},null,null,null,null,null,null,null,null,null,null,"","",null,null,null,null,null,null,false]
[{"$f":"IF($T49=FALSE, \"\", MAX(A$4:A48)+1)","v":""},null,null,null,null,null,null,null,null,null,null,"","",null,null,null,null,null,null,false]
[{"$f":"IF($T50=FALSE, \"\", MAX(A$4:A49)+1)","v":""},null,null,null,null,null,null,null,null,null,null,"","",null,null,null,null,null,null,false]
[{"$f":"IF($T51=FALSE, \"\", MAX(A$4:A50)+1)","v":""},null,null,null,null,null,null,null,null,null,null,"","",null,null,null,null,null,null,false]
[{"$f":"IF($T52=FALSE, \"\", MAX(A$4:A51)+1)","v":""},null,null,null,null,null,null,null,null,null,null,"","",null,null,null,null,null,null,false]
[{"$f":"IF($T53=FALSE, \"\", MAX(A$4:A52)+1)","v":""},null,null,null,null,null,null,null,null,null,null,"","",null,null,null,null,null,null,false]
[{"$f":"IF($T54=FALSE, \"\", MAX(A$4:A53)+1)","v":""},null,null,null,null,null,null,null,null,null,null,"","",null,null,null,null,null,null,false]
[{"$f":"IF($T55=FALSE, \"\", MAX(A$4:A54)+1)","v":""},null,null,null,null,null,null,null,null,null,null,"","",null,null,null,null,null,null,false]
[{"$f":"IF($T56=FALSE, \"\", MAX(A$4:A55)+1)","v":""},null,null,null,null,null,null,null,null,null,null,"","",null,null,null,null,null,null,false]
[{"$f":"IF($T57=FALSE, \"\", MAX(A$4:A56)+1)","v":""},null,null,null,null,null,null,null,null,null,null,"","",null,null,null,null,null,null,false]
[{"$f":"IF($T58=FALSE, \"\", MAX(A$4:A57)+1)","v":""},null,null,null,null,null,null,null,null,null,null,"","",null,null,null,null,null,null,false]
[{"$f":"IF($T59=FALSE, \"\", MAX(A$4:A58)+1)","v":""},null,null,null,null,null,null,null,null,null,null,"","",null,null,null,null,null,null,false]
[{"$f":"IF($T60=FALSE, \"\", MAX(A$4:A59)+1)","v":""},null,null,null,null,null,null,null,null,null,null,{"$f":"IFERROR(INDEX(C$4:C$26,MATCH(ROW()-ROW(L$3),$A$4:$A$26,0)),\"\")","v":""},"",null,null,null,null,null,null,false]
[{"$f":"IF($T61=FALSE, \"\", MAX(A$4:A60)+1)","v":""},null,null,null,null,null,null,null,null,null,null,"","",null,null,null,null,null,null,false]
[{"$f":"IF($T62=FALSE, \"\", MAX(A$4:A61)+1)","v":""},null,null,null,null,null,null,null,null,null,null,"","",null,null,null,null,null,null,false]
[{"$f":"IF($T63=FALSE, \"\", MAX(A$4:A62)+1)","v":""},null,null,null,null,null,null,null,null,null,null,"","",null,null,null,null,null,null,false]
[{"$f":"IF($T64=FALSE, \"\", MAX(A$4:A63)+1)","v":""},null,null,null,null,null,null,null,null,null,null,"","",null,null,null,null,null,null,false]
[{"$f":"IF($T65=FALSE, \"\", MAX(A$4:A64)+1)","v":""},null,null,null,null,null,null,null,null,null,null,"","",null,null,null,null,null,null,false]
[{"$f":"IF($T66=FALSE, \"\", MAX(A$4:A65)+1)","v":""},null,null,null,null,null,null,null,null,null,null,"","",null,null,null,null,null,null,false]
[{"$f":"IF($T67=FALSE, \"\", MAX(A$4:A66)+1)","v":""},null,null,null,null,null,null,null,null,null,null,"","",null,null,null,null,null,null,false]
[{"$f":"IF($T68=FALSE, \"\", MAX(A$4:A67)+1)","v":""},null,null,null,null,null,null,null,null,null,null,"",{"$f":"IFERROR(INDEX(D$4:D$153,MATCH(ROW()-ROW(M$3),$A$4:$A$26,0)),\"\")","v":""},null,null,null,null,null,null,false]
[{"$f":"IF($T69=FALSE, \"\", MAX(A$4:A68)+1)","v":""},null,null,null,null,null,null,null,null,null,null,"","",null,null,null,null,null,null,false]
[{"$f":"IF($T70=FALSE, \"\", MAX(A$4:A69)+1)","v":""},null,null,null,null,null,null,null,null,null,null,"","",null,null,null,null,null,null,false]
[{"$f":"IF($T71=FALSE, \"\", MAX(A$4:A70)+1)","v":""},null,null,null,null,null,null,null,null,null,null,"","",null,null,null,null,null,null,false]
[{"$f":"IF($T72=FALSE, \"\", MAX(A$4:A71)+1)","v":""},null,null,null,null,null,null,null,null,null,null,"","",null,null,null,null,null,null,false]
[{"$f":"IF($T73=FALSE, \"\", MAX(A$4:A72)+1)","v":""},null,null,null,null,null,null,null,null,null,null,"","",null,null,null,null,null,null,false]
[{"$f":"IF($T74=FALSE, \"\", MAX(A$4:A73)+1)","v":""},null,null,null,null,null,null,null,null,null,null,"","",null,null,null,null,null,null,false]
[{"$f":"IF($T75=FALSE, \"\", MAX(A$4:A74)+1)","v":""},null,null,null,null,null,null,null,null,null,null,"","",null,null,null,null,null,null,false]
[{"$f":"IF($T76=FALSE, \"\", MAX(A$4:A75)+1)","v":""},null,null,null,null,null,null,null,null,null,null,"","",null,null,null,null,null,null,false]
[{"$f":"IF($T77=FALSE, \"\", MAX(A$4:A76)+1)","v":""},null,null,null,null,null,null,null,null,null,null,"","",null,null,null,null,null,null,false]
[{"$f":"IF($T78=FALSE, \"\", MAX(A$4:A77)+1)","v":""},null,null,null,null,null,null,null,null,null,null,"","",null,null,null,null,null,null,false]
[{"$f":"IF($T79=FALSE, \"\", MAX(A$4:A78)+1)","v":""},null,null,null,null,null,null,null,null,null,null,"","",null,null,null,null,null,null,false]
[{"$f":"IF($T80=FALSE, \"\", MAX(A$4:A79)+1)","v":""},null,null,null,null,null,null,null,null,null,null,"","",null,null,null,null,null,null,false]
[{"$f":"IF($T81=FALSE, \"\", MAX(A$4:A80)+1)","v":""},null,null,null,null,null,null,null,null,null,null,"","",null,null,null,null,null,null,false]
[{"$f":"IF($T82=FALSE, \"\", MAX(A$4:A81)+1)","v":""},null,null,null,null,null,null,null,null,null,null,"","",null,null,null,null,null,null,false]
[{"$f":"IF($T83=FALSE, \"\", MAX(A$4:A82)+1)","v":""},null,null,null,null,null,null,null,null,null,null,"","",null,null,null,null,null,null,false]
[{"$f":"IF($T84=FALSE, \"\", MAX(A$4:A83)+1)","v":""},null,null,null,null,null,null,null,null,null,null,"","",null,null,null,null,null,null,false]
[{"$f":"IF($T85=FALSE, \"\", MAX(A$4:A84)+1)","v":""},null,null,null,null,null,null,null,null,null,null,"","",null,null,null,null,null,null,false]
[{"$f":"IF($T86=FALSE, \"\", MAX(A$4:A85)+1)","v":""},null,null,null,null,null,null,null,null,null,null,"","",null,null,null,null,null,null,false]
[{"$f":"IF($T87=FALSE, \"\", MAX(A$4:A86)+1)","v":""},null,null,null,null,null,null,null,null,null,null,"","",null,null,null,null,null,null,false]
[{"$f":"IF($T88=FALSE, \"\", MAX(A$4:A87)+1)","v":""},null,null,null,null,null,null,null,null,null,null,"","",null,null,null,null,null,null,false]
[{"$f":"IF($T89=FALSE, \"\", MAX(A$4:A88)+1)","v":""},null,null,null,null,null,null,null,null,null,null,{"$f":"IFERROR(INDEX(C$4:C$153,MATCH(ROW()-ROW(#REF!),$A$4:$A$153,0)),\"\")","v":""},{"$f":"IFERROR(INDEX(D$4:D$153,MATCH(ROW()-ROW(#REF!),$A$4:$A$153,0)),\"\")","v":""},null,null,null,null,null,null,false]
[{"$f":"IF($T90=FALSE, \"\", MAX(A$4:A89)+1)","v":""},null,null,null,null,null,null,null,null,null,null,{"$f":"IFERROR(INDEX(C$4:C$153,MATCH(ROW()-ROW(#REF!),$A$4:$A$153,0)),\"\")","v":""},{"$f":"IFERROR(INDEX(D$4:D$153,MATCH(ROW()-ROW(#REF!),$A$4:$A$153,0)),\"\")","v":""},null,null,null,null,null,null,false]
[{"$f":"IF($T91=FALSE, \"\", MAX(A$4:A90)+1)","v":""},null,null,null,null,null,null,null,null,null,null,{"$f":"IFERROR(INDEX(C$4:C$153,MATCH(ROW()-ROW(#REF!),$A$4:$A$153,0)),\"\")","v":""},{"$f":"IFERROR(INDEX(D$4:D$153,MATCH(ROW()-ROW(#REF!),$A$4:$A$153,0)),\"\")","v":""},null,null,null,null,null,null,false]
[{"$f":"IF($T92=FALSE, \"\", MAX(A$4:A91)+1)","v":""},null,null,null,null,null,null,null,null,null,null,{"$f":"IFERROR(INDEX(C$4:C$153,MATCH(ROW()-ROW(#REF!),$A$4:$A$153,0)),\"\")","v":""},{"$f":"IFERROR(INDEX(D$4:D$153,MATCH(ROW()-ROW(#REF!),$A$4:$A$153,0)),\"\")","v":""},null,null,null,null,null,null,false]
[{"$f":"IF($T93=FALSE, \"\", MAX(A$4:A92)+1)","v":""},null,null,null,null,null,null,null,null,null,null,{"$f":"IFERROR(INDEX(C$4:C$153,MATCH(ROW()-ROW(#REF!),$A$4:$A$153,0)),\"\")","v":""},{"$f":"IFERROR(INDEX(D$4:D$153,MATCH(ROW()-ROW(#REF!),$A$4:$A$153,0)),\"\")","v":""},null,null,null,null,null,null,false]
[{"$f":"IF($T94=FALSE, \"\", MAX(A$4:A93)+1)","v":""},null,null,null,null,null,null,null,null,null,null,{"$f":"IFERROR(INDEX(C$4:C$153,MATCH(ROW()-ROW(#REF!),$A$4:$A$153,0)),\"\")","v":""},{"$f":"IFERROR(INDEX(D$4:D$153,MATCH(ROW()-ROW(#REF!),$A$4:$A$153,0)),\"\")","v":""},null,null,null,null,null,null,false]
[{"$f":"IF($T95=FALSE, \"\", MAX(A$4:A94)+1)","v":""},null,null,null,null,null,null,null,null,null,null,{"$f":"IFERROR(INDEX(C$4:C$153,MATCH(ROW()-ROW(#REF!),$A$4:$A$153,0)),\"\")","v":""},{"$f":"IFERROR(INDEX(D$4:D$153,MATCH(ROW()-ROW(#REF!),$A$4:$A$153,0)),\"\")","v":""},null,null,null,null,null,null,false]
[{"$f":"IF($T96=FALSE, \"\", MAX(A$4:A95)+1)","v":""},null,null,null,null,null,null,null,null,null,null,{"$f":"IFERROR(INDEX(C$4:C$153,MATCH(ROW()-ROW(#REF!),$A$4:$A$153,0)),\"\")","v":""},{"$f":"IFERROR(INDEX(D$4:D$153,MATCH(ROW()-ROW(#REF!),$A$4:$A$153,0)),\"\")","v":""},null,null,null,null,null,null,false]
[{"$f":"IF($T97=FALSE, \"\", MAX(A$4:A96)+1)","v":""},null,null,null,null,null,null,null,null,null,null,{"$f":"IFERROR(INDEX(C$4:C$153,MATCH(ROW()-ROW(#REF!),$A$4:$A$153,0)),\"\")","v":""},{"$f":"IFERROR(INDEX(D$4:D$153,MATCH(ROW()-ROW(#REF!),$A$4:$A$153,0)),\"\")","v":""},null,null,null,null,null,null,false]
[{"$f":"IF($T98=FALSE, \"\", MAX(A$4:A97)+1)","v":""},null,null,null,null,null,null,null,null,null,null,{"$f":"IFERROR(INDEX(C$4:C$153,MATCH(ROW()-ROW(#REF!),$A$4:$A$153,0)),\"\")","v":""},{"$f":"IFERROR(INDEX(D$4:D$153,MATCH(ROW()-ROW(#REF!),$A$4:$A$153,0)),\"\")","v":""},null,null,null,null,null,null,false]
[{"$f":"IF($T99=FALSE, \"\", MAX(A$4:A98)+1)","v":""},null,null,null,null,null,null,null,null,null,null,{"$f":"IFERROR(INDEX(C$4:C$153,MATCH(ROW()-ROW(#REF!),$A$4:$A$153,0)),\"\")","v":""},{"$f":"IFERROR(INDEX(D$4:D$153,MATCH(ROW()-ROW(#REF!),$A$4:$A$153,0)),\"\")","v":""},null,null,null,null,null,null,false]
[{"$f":"IF($T100=FALSE, \"\", MAX(A$4:A99)+1)","v":""},null,null,null,null,null,null,null,null,null,null,{"$f":"IFERROR(INDEX(C$4:C$153,MATCH(ROW()-ROW(#REF!),$A$4:$A$153,0)),\"\")","v":""},{"$f":"IFERROR(INDEX(D$4:D$153,MATCH(ROW()-ROW(#REF!),$A$4:$A$153,0)),\"\")","v":""},null,null,null,null,null,null,false]
[{"$f":"IF($T101=FALSE, \"\", MAX(A$4:A100)+1)","v":""},null,null,null,null,null,null,null,null,null,null,{"$f":"IFERROR(INDEX(C$4:C$153,MATCH(ROW()-ROW(#REF!),$A$4:$A$153,0)),\"\")","v":""},{"$f":"IFERROR(INDEX(D$4:D$153,MATCH(ROW()-ROW(#REF!),$A$4:$A$153,0)),\"\")","v":""},null,null,null,null,null,null,false]
[{"$f":"IF($T102=FALSE, \"\", MAX(A$4:A101)+1)","v":""},null,null,null,null,null,null,null,null,null,null,{"$f":"IFERROR(INDEX(C$4:C$153,MATCH(ROW()-ROW(#REF!),$A$4:$A$153,0)),\"\")","v":""},{"$f":"IFERROR(INDEX(D$4:D$153,MATCH(ROW()-ROW(#REF!),$A$4:$A$153,0)),\"\")","v":""},null,null,null,null,null,null,false]
[{"$f":"IF($T103=FALSE, \"\", MAX(A$4:A102)+1)","v":""},null,null,null,null,null,null,null,null,null,null,{"$f":"IFERROR(INDEX(C$4:C$153,MATCH(ROW()-ROW(#REF!),$A$4:$A$153,0)),\"\")","v":""},{"$f":"IFERROR(INDEX(D$4:D$153,MATCH(ROW()-ROW(#REF!),$A$4:$A$153,0)),\"\")","v":""},null,null,null,null,null,null,false]
[{"$f":"IF($T104=FALSE, \"\", MAX(A$4:A103)+1)","v":""},null,null,null,null,null,null,null,null,null,null,{"$f":"IFERROR(INDEX(C$4:C$153,MATCH(ROW()-ROW(#REF!),$A$4:$A$153,0)),\"\")","v":""},{"$f":"IFERROR(INDEX(D$4:D$153,MATCH(ROW()-ROW(#REF!),$A$4:$A$153,0)),\"\")","v":""},null,null,null,null,null,null,false]
[{"$f":"IF($T105=FALSE, \"\", MAX(A$4:A104)+1)","v":""},null,null,null,null,null,null,null,null,null,null,{"$f":"IFERROR(INDEX(C$4:C$153,MATCH(ROW()-ROW(#REF!),$A$4:$A$153,0)),\"\")","v":""},{"$f":"IFERROR(INDEX(D$4:D$153,MATCH(ROW()-ROW(#REF!),$A$4:$A$153,0)),\"\")","v":""},null,null,null,null,null,null,false]
[{"$f":"IF($T106=FALSE, \"\", MAX(A$4:A105)+1)","v":""},null,null,null,null,null,null,null,null,null,null,{"$f":"IFERROR(INDEX(C$4:C$153,MATCH(ROW()-ROW(#REF!),$A$4:$A$153,0)),\"\")","v":""},{"$f":"IFERROR(INDEX(D$4:D$153,MATCH(ROW()-ROW(#REF!),$A$4:$A$153,0)),\"\")","v":""},null,null,null,null,null,null,false]
[{"$f":"IF($T107=FALSE, \"\", MAX(A$4:A106)+1)","v":""},null,null,null,null,null,null,null,null,null,null,{"$f":"IFERROR(INDEX(C$4:C$153,MATCH(ROW()-ROW(#REF!),$A$4:$A$153,0)),\"\")","v":""},{"$f":"IFERROR(INDEX(D$4:D$153,MATCH(ROW()-ROW(#REF!),$A$4:$A$153,0)),\"\")","v":""},null,null,null,null,null,null,false]
[{"$f":"IF($T108=FALSE, \"\", MAX(A$4:A107)+1)","v":""},null,null,null,null,null,null,null,null,null,null,{"$f":"IFERROR(INDEX(C$4:C$153,MATCH(ROW()-ROW(#REF!),$A$4:$A$153,0)),\"\")","v":""},{"$f":"IFERROR(INDEX(D$4:D$153,MATCH(ROW()-ROW(#REF!),$A$4:$A$153,0)),\"\")","v":""},null,null,null,null,null,null,false]
[{"$f":"IF($T109=FALSE, \"\", MAX(A$4:A108)+1)","v":""},null,null,null,null,null,null,null,null,null,null,{"$f":"IFERROR(INDEX(C$4:C$153,MATCH(ROW()-ROW(#REF!),$A$4:$A$153,0)),\"\")","v":""},{"$f":"IFERROR(INDEX(D$4:D$153,MATCH(ROW()-ROW(#REF!),$A$4:$A$153,0)),\"\")","v":""},null,null,null,null,null,null,false]
[{"$f":"IF($T110=FALSE, \"\", MAX(A$4:A109)+1)","v":""},null,null,null,null,null,null,null,null,null,null,{"$f":"IFERROR(INDEX(C$4:C$153,MATCH(ROW()-ROW(#REF!),$A$4:$A$153,0)),\"\")","v":""},{"$f":"IFERROR(INDEX(D$4:D$153,MATCH(ROW()-ROW(#REF!),$A$4:$A$153,0)),\"\")","v":""},null,null,null,null,null,null,false]
[{"$f":"IF($T111=FALSE, \"\", MAX(A$4:A110)+1)","v":""},null,null,null,null,null,null,null,null,null,null,{"$f":"IFERROR(INDEX(C$4:C$153,MATCH(ROW()-ROW(#REF!),$A$4:$A$153,0)),\"\")","v":""},{"$f":"IFERROR(INDEX(D$4:D$153,MATCH(ROW()-ROW(#REF!),$A$4:$A$153,0)),\"\")","v":""},null,null,null,null,null,null,false]
[{"$f":"IF($T112=FALSE, \"\", MAX(A$4:A111)+1)","v":""},null,null,null,null,null,null,null,null,null,null,{"$f":"IFERROR(INDEX(C$4:C$153,MATCH(ROW()-ROW(#REF!),$A$4:$A$153,0)),\"\")","v":""},{"$f":"IFERROR(INDEX(D$4:D$153,MATCH(ROW()-ROW(#REF!),$A$4:$A$153,0)),\"\")","v":""},null,null,null,null,null,null,false]
[{"$f":"IF($T113=FALSE, \"\", MAX(A$4:A112)+1)","v":""},null,null,null,null,null,null,null,null,null,null,{"$f":"IFERROR(INDEX(C$4:C$153,MATCH(ROW()-ROW(#REF!),$A$4:$A$153,0)),\"\")","v":""},{"$f":"IFERROR(INDEX(D$4:D$153,MATCH(ROW()-ROW(#REF!),$A$4:$A$153,0)),\"\")","v":""},null,null,null,null,null,null,false]
[{"$f":"IF($T114=FALSE, \"\", MAX(A$4:A113)+1)","v":""},null,null,null,null,null,null,null,null,null,null,{"$f":"IFERROR(INDEX(C$4:C$153,MATCH(ROW()-ROW(#REF!),$A$4:$A$153,0)),\"\")","v":""},{"$f":"IFERROR(INDEX(D$4:D$153,MATCH(ROW()-ROW(#REF!),$A$4:$A$153,0)),\"\")","v":""},null,null,null,null,null,null,false]
[{"$f":"IF($T115=FALSE, \"\", MAX(A$4:A114)+1)","v":""},null,null,null,null,null,null,null,null,null,null,{"$f":"IFERROR(INDEX(C$4:C$153,MATCH(ROW()-ROW(#REF!),$A$4:$A$153,0)),\"\")","v":""},{"$f":"IFERROR(INDEX(D$4:D$153,MATCH(ROW()-ROW(#REF!),$A$4:$A$153,0)),\"\")","v":""},null,null,null,null,null,null,false]
[{"$f":"IF($T116=FALSE, \"\", MAX(A$4:A115)+1)","v":""},null,null,null,null,null,null,null,null,null,null,{"$f":"IFERROR(INDEX(C$4:C$153,MATCH(ROW()-ROW(#REF!),$A$4:$A$153,0)),\"\")","v":""},{"$f":"IFERROR(INDEX(D$4:D$153,MATCH(ROW()-ROW(#REF!),$A$4:$A$153,0)),\"\")","v":""},null,null,null,null,null,null,false]
[{"$f":"IF($T117=FALSE, \"\", MAX(A$4:A116)+1)","v":""},null,null,null,null,null,null,null,null,null,null,{"$f":"IFERROR(INDEX(C$4:C$153,MATCH(ROW()-ROW(#REF!),$A$4:$A$153,0)),\"\")","v":""},{"$f":"IFERROR(INDEX(D$4:D$153,MATCH(ROW()-ROW(#REF!),$A$4:$A$153,0)),\"\")","v":""},null,null,null,null,null,null,false]
[{"$f":"IF($T118=FALSE, \"\", MAX(A$4:A117)+1)","v":""},null,null,null,null,null,null,null,null,null,null,{"$f":"IFERROR(INDEX(C$4:C$153,MATCH(ROW()-ROW(#REF!),$A$4:$A$153,0)),\"\")","v":""},{"$f":"IFERROR(INDEX(D$4:D$153,MATCH(ROW()-ROW(#REF!),$A$4:$A$153,0)),\"\")","v":""},null,null,null,null,null,null,false]
[{"$f":"IF($T119=FALSE, \"\", MAX(A$4:A118)+1)","v":""},null,null,null,null,null,null,null,null,null,null,{"$f":"IFERROR(INDEX(C$4:C$153,MATCH(ROW()-ROW(#REF!),$A$4:$A$153,0)),\"\")","v":""},{"$f":"IFERROR(INDEX(D$4:D$153,MATCH(ROW()-ROW(#REF!),$A$4:$A$153,0)),\"\")","v":""},null,null,null,null,null,null,false]
[{"$f":"IF($T120=FALSE, \"\", MAX(A$4:A119)+1)","v":""},null,null,null,null,"Bör användas i kombination med SNUS0-2",null,null,null,null,null,{"$f":"IFERROR(INDEX(C$4:C$153,MATCH(ROW()-ROW(#REF!),$A$4:$A$153,0)),\"\")","v":""},{"$f":"IFERROR(INDEX(D$4:D$153,MATCH(ROW()-ROW(#REF!),$A$4:$A$153,0)),\"\")","v":""},null,null,null,null,null,null,false]
[{"$f":"IF($T121=FALSE, \"\", MAX(A$4:A120)+1)","v":""},null,null,null,null,null,null,null,null,null,null,{"$f":"IFERROR(INDEX(C$4:C$153,MATCH(ROW()-ROW(#REF!),$A$4:$A$153,0)),\"\")","v":""},{"$f":"IFERROR(INDEX(D$4:D$153,MATCH(ROW()-ROW(#REF!),$A$4:$A$153,0)),\"\")","v":""},null,null,null,null,null,null,false]
[{"$f":"IF($T122=FALSE, \"\", MAX(A$4:A121)+1)","v":""},null,null,null,null,null,null,null,null,null,null,{"$f":"IFERROR(INDEX(C$4:C$153,MATCH(ROW()-ROW(#REF!),$A$4:$A$153,0)),\"\")","v":""},{"$f":"IFERROR(INDEX(D$4:D$153,MATCH(ROW()-ROW(#REF!),$A$4:$A$153,0)),\"\")","v":""},null,null,null,null,null,null,false]
[{"$f":"IF($T123=FALSE, \"\", MAX(A$4:A122)+1)","v":""},null,null,null,null,null,null,null,null,null,null,{"$f":"IFERROR(INDEX(C$4:C$153,MATCH(ROW()-ROW(#REF!),$A$4:$A$153,0)),\"\")","v":""},{"$f":"IFERROR(INDEX(D$4:D$153,MATCH(ROW()-ROW(#REF!),$A$4:$A$153,0)),\"\")","v":""},null,null,null,null,null,null,false]
[{"$f":"IF($T124=FALSE, \"\", MAX(A$4:A123)+1)","v":""},null,null,null,null,null,null,null,null,null,null,{"$f":"IFERROR(INDEX(C$4:C$153,MATCH(ROW()-ROW(#REF!),$A$4:$A$153,0)),\"\")","v":""},{"$f":"IFERROR(INDEX(D$4:D$153,MATCH(ROW()-ROW(#REF!),$A$4:$A$153,0)),\"\")","v":""},null,null,null,null,null,null,false]
[{"$f":"IF($T125=FALSE, \"\", MAX(A$4:A124)+1)","v":""},null,null,null,null,null,null,null,null,null,null,{"$f":"IFERROR(INDEX(C$4:C$153,MATCH(ROW()-ROW(#REF!),$A$4:$A$153,0)),\"\")","v":""},{"$f":"IFERROR(INDEX(D$4:D$153,MATCH(ROW()-ROW(#REF!),$A$4:$A$153,0)),\"\")","v":""},null,null,null,null,null,null,false]
[{"$f":"IF($T126=FALSE, \"\", MAX(A$4:A125)+1)","v":""},null,null,null,null,null,null,null,null,null,null,{"$f":"IFERROR(INDEX(C$4:C$153,MATCH(ROW()-ROW(#REF!),$A$4:$A$153,0)),\"\")","v":""},{"$f":"IFERROR(INDEX(D$4:D$153,MATCH(ROW()-ROW(#REF!),$A$4:$A$153,0)),\"\")","v":""},null,null,null,null,null,null,false]
[{"$f":"IF($T127=FALSE, \"\", MAX(A$4:A126)+1)","v":""},null,null,null,null,null,null,null,null,null,null,{"$f":"IFERROR(INDEX(C$4:C$153,MATCH(ROW()-ROW(#REF!),$A$4:$A$153,0)),\"\")","v":""},{"$f":"IFERROR(INDEX(D$4:D$153,MATCH(ROW()-ROW(#REF!),$A$4:$A$153,0)),\"\")","v":""},null,null,null,null,null,null,false]
[{"$f":"IF($T128=FALSE, \"\", MAX(A$4:A127)+1)","v":""},null,null,null,null,null,null,null,null,null,null,{"$f":"IFERROR(INDEX(C$4:C$153,MATCH(ROW()-ROW(#REF!),$A$4:$A$153,0)),\"\")","v":""},{"$f":"IFERROR(INDEX(D$4:D$153,MATCH(ROW()-ROW(#REF!),$A$4:$A$153,0)),\"\")","v":""},null,null,null,null,null,null,false]
[{"$f":"IF($T129=FALSE, \"\", MAX(A$4:A128)+1)","v":""},null,null,null,null,null,null,null,null,null,null,{"$f":"IFERROR(INDEX(C$4:C$153,MATCH(ROW()-ROW(#REF!),$A$4:$A$153,0)),\"\")","v":""},{"$f":"IFERROR(INDEX(D$4:D$153,MATCH(ROW()-ROW(#REF!),$A$4:$A$153,0)),\"\")","v":""},null,null,null,null,null,null,false]
[{"$f":"IF($T130=FALSE, \"\", MAX(A$4:A129)+1)","v":""},null,null,null,null,null,null,null,null,null,null,{"$f":"IFERROR(INDEX(C$4:C$153,MATCH(ROW()-ROW(#REF!),$A$4:$A$153,0)),\"\")","v":""},{"$f":"IFERROR(INDEX(D$4:D$153,MATCH(ROW()-ROW(#REF!),$A$4:$A$153,0)),\"\")","v":""},null,null,null,null,null,null,false]
[{"$f":"IF($T131=FALSE, \"\", MAX(A$4:A130)+1)","v":""},null,null,null,null,"Bör användas i kombination med ROK0-2",null,null,null,null,null,{"$f":"IFERROR(INDEX(C$4:C$153,MATCH(ROW()-ROW(#REF!),$A$4:$A$153,0)),\"\")","v":""},{"$f":"IFERROR(INDEX(D$4:D$153,MATCH(ROW()-ROW(#REF!),$A$4:$A$153,0)),\"\")","v":""},null,null,null,null,null,null,false]
[{"$f":"IF($T132=FALSE, \"\", MAX(A$4:A131)+1)","v":""},null,null,null,null,null,null,null,null,null,null,{"$f":"IFERROR(INDEX(C$4:C$153,MATCH(ROW()-ROW(#REF!),$A$4:$A$153,0)),\"\")","v":""},{"$f":"IFERROR(INDEX(D$4:D$153,MATCH(ROW()-ROW(#REF!),$A$4:$A$153,0)),\"\")","v":""},null,null,null,null,null,null,false]
[{"$f":"IF($T133=FALSE, \"\", MAX(A$4:A132)+1)","v":""},null,null,null,null,null,null,null,null,null,null,{"$f":"IFERROR(INDEX(C$4:C$153,MATCH(ROW()-ROW(#REF!),$A$4:$A$153,0)),\"\")","v":""},{"$f":"IFERROR(INDEX(D$4:D$153,MATCH(ROW()-ROW(#REF!),$A$4:$A$153,0)),\"\")","v":""},null,null,null,null,null,null,false]
[{"$f":"IF($T134=FALSE, \"\", MAX(A$4:A133)+1)","v":""},null,null,null,null,null,null,null,null,null,null,{"$f":"IFERROR(INDEX(C$4:C$153,MATCH(ROW()-ROW(#REF!),$A$4:$A$153,0)),\"\")","v":""},{"$f":"IFERROR(INDEX(D$4:D$153,MATCH(ROW()-ROW(#REF!),$A$4:$A$153,0)),\"\")","v":""},null,null,null,null,null,null,false]
[{"$f":"IF($T135=FALSE, \"\", MAX(A$4:A134)+1)","v":""},null,null,null,null,null,null,null,null,null,null,{"$f":"IFERROR(INDEX(C$4:C$153,MATCH(ROW()-ROW(#REF!),$A$4:$A$153,0)),\"\")","v":""},{"$f":"IFERROR(INDEX(D$4:D$153,MATCH(ROW()-ROW(#REF!),$A$4:$A$153,0)),\"\")","v":""},null,null,null,null,null,null,false]
[{"$f":"IF($T136=FALSE, \"\", MAX(A$4:A135)+1)","v":""},null,null,null,null,null,null,null,null,null,null,{"$f":"IFERROR(INDEX(C$4:C$153,MATCH(ROW()-ROW(#REF!),$A$4:$A$153,0)),\"\")","v":""},{"$f":"IFERROR(INDEX(D$4:D$153,MATCH(ROW()-ROW(#REF!),$A$4:$A$153,0)),\"\")","v":""},null,null,null,null,null,null,false]
[{"$f":"IF($T137=FALSE, \"\", MAX(A$4:A136)+1)","v":""},null,null,null,null,null,null,null,null,null,null,{"$f":"IFERROR(INDEX(C$4:C$153,MATCH(ROW()-ROW(#REF!),$A$4:$A$153,0)),\"\")","v":""},{"$f":"IFERROR(INDEX(D$4:D$153,MATCH(ROW()-ROW(#REF!),$A$4:$A$153,0)),\"\")","v":""},null,null,null,null,null,null,false]
[{"$f":"IF($T138=FALSE, \"\", MAX(A$4:A137)+1)","v":""},null,null,null,null,null,null,null,null,null,null,{"$f":"IFERROR(INDEX(C$4:C$153,MATCH(ROW()-ROW(#REF!),$A$4:$A$153,0)),\"\")","v":""},{"$f":"IFERROR(INDEX(D$4:D$153,MATCH(ROW()-ROW(#REF!),$A$4:$A$153,0)),\"\")","v":""},null,null,null,null,null,null,false]
[{"$f":"IF($T139=FALSE, \"\", MAX(A$4:A138)+1)","v":""},null,null,null,null,null,null,null,null,null,null,{"$f":"IFERROR(INDEX(C$4:C$153,MATCH(ROW()-ROW(#REF!),$A$4:$A$153,0)),\"\")","v":""},{"$f":"IFERROR(INDEX(D$4:D$153,MATCH(ROW()-ROW(#REF!),$A$4:$A$153,0)),\"\")","v":""},null,null,null,null,null,null,false]
[{"$f":"IF($T140=FALSE, \"\", MAX(A$4:A139)+1)","v":""},null,null,null,null,null,null,null,null,null,null,{"$f":"IFERROR(INDEX(C$4:C$153,MATCH(ROW()-ROW(#REF!),$A$4:$A$153,0)),\"\")","v":""},{"$f":"IFERROR(INDEX(D$4:D$153,MATCH(ROW()-ROW(#REF!),$A$4:$A$153,0)),\"\")","v":""},null,null,null,null,null,null,false]
[{"$f":"IF($T141=FALSE, \"\", MAX(A$4:A140)+1)","v":""},null,null,null,null,null,null,null,null,null,null,{"$f":"IFERROR(INDEX(C$4:C$153,MATCH(ROW()-ROW(#REF!),$A$4:$A$153,0)),\"\")","v":""},{"$f":"IFERROR(INDEX(D$4:D$153,MATCH(ROW()-ROW(#REF!),$A$4:$A$153,0)),\"\")","v":""},null,null,null,null,null,null,false]
[{"$f":"IF($T142=FALSE, \"\", MAX(A$4:A141)+1)","v":""},null,null,null,null,null,null,null,null,null,null,{"$f":"IFERROR(INDEX(C$4:C$153,MATCH(ROW()-ROW(#REF!),$A$4:$A$153,0)),\"\")","v":""},{"$f":"IFERROR(INDEX(D$4:D$153,MATCH(ROW()-ROW(#REF!),$A$4:$A$153,0)),\"\")","v":""},null,null,null,null,null,null,false]
[{"$f":"IF($T143=FALSE, \"\", MAX(A$4:A142)+1)","v":""},null,null,null,null,null,null,null,null,null,null,{"$f":"IFERROR(INDEX(C$4:C$153,MATCH(ROW()-ROW(#REF!),$A$4:$A$153,0)),\"\")","v":""},{"$f":"IFERROR(INDEX(D$4:D$153,MATCH(ROW()-ROW(#REF!),$A$4:$A$153,0)),\"\")","v":""},null,null,null,null,null,null,false]
[{"$f":"IF($T144=FALSE, \"\", MAX(A$4:A143)+1)","v":""},null,null,null,null,null,null,null,null,null,null,{"$f":"IFERROR(INDEX(C$4:C$153,MATCH(ROW()-ROW(#REF!),$A$4:$A$153,0)),\"\")","v":""},{"$f":"IFERROR(INDEX(D$4:D$153,MATCH(ROW()-ROW(#REF!),$A$4:$A$153,0)),\"\")","v":""},null,null,null,null,null,null,false]
[{"$f":"IF($T145=FALSE, \"\", MAX(A$4:A144)+1)","v":""},null,null,null,null,null,null,null,null,null,null,{"$f":"IFERROR(INDEX(C$4:C$153,MATCH(ROW()-ROW(#REF!),$A$4:$A$153,0)),\"\")","v":""},{"$f":"IFERROR(INDEX(D$4:D$153,MATCH(ROW()-ROW(#REF!),$A$4:$A$153,0)),\"\")","v":""},null,null,null,null,null,null,false]
[{"$f":"IF($T146=FALSE, \"\", MAX(A$4:A145)+1)","v":""},null,null,null,null,null,null,null,null,null,null,{"$f":"IFERROR(INDEX(C$4:C$153,MATCH(ROW()-ROW(#REF!),$A$4:$A$153,0)),\"\")","v":""},{"$f":"IFERROR(INDEX(D$4:D$153,MATCH(ROW()-ROW(#REF!),$A$4:$A$153,0)),\"\")","v":""},null,null,null,null,null,null,false]
[{"$f":"IF($T147=FALSE, \"\", MAX(A$4:A146)+1)","v":""},null,null,null,null,null,null,null,null,null,null,{"$f":"IFERROR(INDEX(C$4:C$153,MATCH(ROW()-ROW(#REF!),$A$4:$A$153,0)),\"\")","v":""},{"$f":"IFERROR(INDEX(D$4:D$153,MATCH(ROW()-ROW(#REF!),$A$4:$A$153,0)),\"\")","v":""},null,null,null,null,null,null,false]
[{"$f":"IF($T148=FALSE, \"\", MAX(A$4:A147)+1)","v":""},null,null,null,null,null,null,null,null,null,null,{"$f":"IFERROR(INDEX(C$4:C$153,MATCH(ROW()-ROW(#REF!),$A$4:$A$153,0)),\"\")","v":""},{"$f":"IFERROR(INDEX(D$4:D$153,MATCH(ROW()-ROW(#REF!),$A$4:$A$153,0)),\"\")","v":""},null,null,null,null,null,null,false]
[{"$f":"IF($T149=FALSE, \"\", MAX(A$4:A148)+1)","v":""},null,null,null,null,null,null,null,null,null,null,{"$f":"IFERROR(INDEX(C$4:C$153,MATCH(ROW()-ROW(#REF!),$A$4:$A$153,0)),\"\")","v":""},{"$f":"IFERROR(INDEX(D$4:D$153,MATCH(ROW()-ROW(#REF!),$A$4:$A$153,0)),\"\")","v":""},null,null,null,null,null,null,false]
[{"$f":"IF($T150=FALSE, \"\", MAX(A$4:A149)+1)","v":""},null,null,null,null,null,null,null,null,null,null,{"$f":"IFERROR(INDEX(C$4:C$153,MATCH(ROW()-ROW(#REF!),$A$4:$A$153,0)),\"\")","v":""},{"$f":"IFERROR(INDEX(D$4:D$153,MATCH(ROW()-ROW(#REF!),$A$4:$A$153,0)),\"\")","v":""},null,null,null,null,null,null,false]
[{"$f":"IF($T151=FALSE, \"\", MAX(A$4:A150)+1)","v":""},null,null,null,null,null,null,null,null,null,null,{"$f":"IFERROR(INDEX(C$4:C$153,MATCH(ROW()-ROW(#REF!),$A$4:$A$153,0)),\"\")","v":""},{"$f":"IFERROR(INDEX(D$4:D$153,MATCH(ROW()-ROW(#REF!),$A$4:$A$153,0)),\"\")","v":""},null,null,null,null,null,null,false]
[{"$f":"IF($T152=FALSE, \"\", MAX(A$4:A151)+1)","v":""},null,null,null,null,null,null,null,null,null,null,{"$f":"IFERROR(INDEX(C$4:C$153,MATCH(ROW()-ROW(#REF!),$A$4:$A$153,0)),\"\")","v":""},{"$f":"IFERROR(INDEX(D$4:D$153,MATCH(ROW()-ROW(#REF!),$A$4:$A$153,0)),\"\")","v":""},null,null,null,null,null,null,false]
[{"$f":"IF($T153=FALSE, \"\", MAX(A$4:A152)+1)","v":""},null,null,null,null,null,null,null,null,null,null,{"$f":"IFERROR(INDEX(C$4:C$153,MATCH(ROW()-ROW(#REF!),$A$4:$A$153,0)),\"\")","v":""},{"$f":"IFERROR(INDEX(D$4:D$153,MATCH(ROW()-ROW(#REF!),$A$4:$A$153,0)),\"\")","v":""},null,null,null,null,null,null,false]

{"sheet":"CAN","index":10,"n_rows":52,"n_cols":20,"rows_kept":52,"cut":false,"hidden":true,"merged":[]}
[null,null,null,"Cancerregistret"]
[]
["#","Val","Variabel","Klartext","Definition","Kommentar",null,null,null,null,null,"Variabel","Klartext",null,null,"Auto-kryssa:"]
[{"$f":"IF($T4=FALSE, \"\", MAX(A$3:A3)+1)","v":""},null,"ALDER","Ålder vid diagnos","Patientens ålder vid diagnos",null,null,null,null,null,null,{"$f":"IFERROR(INDEX(C$3:C$52,MATCH(ROW()-ROW(L$3),$A$3:$A$52,0)),\"\")","v":""},{"$f":"IFERROR(INDEX(D$3:D$52,MATCH(ROW()-ROW(M$3),$A$3:$A$52,0)),\"\")","v":""},null,null,null,null,null,null,false]
[{"$f":"IF($T5=FALSE, \"\", MAX(A$4:A4)+1)","v":""},null,"AR","År","Diagnosår",null,null,null,null,null,null,"","",null,null,null,null,null,null,false]
[{"$f":"IF($T6=FALSE, \"\", MAX(A$4:A5)+1)","v":""},null,"BEN","Malign/Benign","Indikator för malign eller benign tumör enligt morfologi.","Rekommenderad variabel",null,null,null,null,null,"","",null,null,null,null,null,null,false]
[{"$f":"IF($T7=FALSE, \"\", MAX(A$4:A6)+1)","v":""},null,"DBGRUND1","Obduktion","Grund för dödsorsaksuppgiften. Om klinisk eller rättsmedicinsk obduktion. Se Bilaga CAN.doc kapitel 5",null,null,null,null,null,null,"","",null,null,null,null,null,null,false]
[{"$f":"IF($T8=FALSE, \"\", MAX(A$4:A7)+1)","v":""},null,"DIADAT","Diagnosdatum","Datum då diagnosen fastställdes","Rekommenderad variabel",null,null,null,null,null,"","",null,null,null,null,null,null,false]
[{"$f":"IF($T9=FALSE, \"\", MAX(A$4:A8)+1)","v":""},null,"DIGR","Diagnosgrund","Typ av undersökning som låg till grund för diagnosen. Se BilagaCAN4.doc",null,null,null,null,null,null,"","",null,null,null,null,null,null,false]
[{"$f":"IF($T10=FALSE, \"\", MAX(A$4:A9)+1)","v":""},null,"DODCA","Avliden i cancer","Avliden i cancer (enligt B-blankett)",null,null,null,null,null,null,"","",null,null,null,null,null,null,false]
[{"$f":"IF($T11=FALSE, \"\", MAX(A$4:A10)+1)","v":""},null,"DODSDAT","Dödsdatum","Datum då patienten avled, information från dödsorsaksregistret. Om variabeln beställs lämnas även DODSDATN ut",null,null,null,null,null,null,"","",null,null,null,null,null,null,false]
[{"$f":"IF($T12=FALSE, \"\", MAX(A$4:A11)+1)","v":""},null,"DODSDATN","Dödsdatum","Datum då patienten avled, information från dödsorsaksregistret","Numeriskt datum",null,null,null,null,null,"","",null,null,null,null,null,null,false]
[{"$f":"IF($T13=FALSE, \"\", MAX(A$4:A12)+1)","v":""},null,"FIGO","FIGO","Tumörutbredning vid diagnostillfället, gynekologiska tumörer.",null,null,null,null,null,null,"","",null,null,null,null,null,null,false]
[{"$f":"IF($T14=FALSE, \"\", MAX(A$4:A13)+1)","v":""},null,"FLAND","Födelseland (Grupperat på 11 kategorier)","Patientens födelseland","Variabeln finns inte i registret",null,null,null,null,null,"","",null,null,null,null,null,null,false]
[{"$f":"IF($T15=FALSE, \"\", MAX(A$4:A14)+1)","v":""},null,"FLANDFAR","Födelseland far (Grupperat på 11 kategorier)","Patientens fars födelseland","Variabeln finns inte i registret",null,null,null,null,null,"","",null,null,null,null,null,null,false]
[{"$f":"IF($T16=FALSE, \"\", MAX(A$4:A15)+1)","v":""},null,"FLANDMOR","Födelseland mor (Grupperat på 11 kategorier)","Patientens mors födelseland","Variabeln finns inte i registret",null,null,null,null,null,"","",null,null,null,null,null,null,false]
[{"$f":"IF($T17=FALSE, \"\", MAX(A$4:A16)+1)","v":""},null,"FODDAT","Födelsedatum (Endast år-mån)","Patientens födelsedatum","För fullständigt datum krävs särskild motivering ",null,null,null,null,null,"","",null,null,null,null,null,null,false]
[{"$f":"IF($T18=FALSE, \"\", MAX(A$4:A17)+1)","v":""},null,"HEMFR","LKF framsk till 20xx-01-01 (Endast län och kommun)","Patientens folkbokföringsort vid diagnostillfället, framskrivet till 1 januari senaste året",null,null,null,null,null,null,"","",null,null,null,null,null,null,false]
[{"$f":"IF($T19=FALSE, \"\", MAX(A$4:A18)+1)","v":""},null,"HEMFRF","Felkod för HEMFR","Felkod för framskrivning av patientens folkbokföringsort",null,null,null,null,null,null,"","",null,null,null,null,null,null,false]
[{"$f":"IF($T20=FALSE, \"\", MAX(A$4:A19)+1)","v":""},null,"ICD7","ICD-7","Tumörens lokalisation enligt ICD-7, se BilagaCAN1.doc. Koder för leukemier och lymfom enligt ICD-8 under hela perioden (1958-). ","Rekommenderad variabel",null,null,null,null,null,"","",null,null,null,null,null,null,false]
[{"$f":"IF($T21=FALSE, \"\", MAX(A$4:A20)+1)","v":""},null,"ICD9","ICD-9","Tumörens lokalisation enligt ICD-9","Rekommenderad variabel",null,null,null,null,null,"","",null,null,null,null,null,null,false]
[{"$f":"IF($T22=FALSE, \"\", MAX(A$4:A21)+1)","v":""},null,"ICDO10","ICD-O/2-10","Tumörens lokalisation enligt ICD-O/2 (med vissa inslag av ICD-10)","Rekommenderad variabel",null,null,null,null,null,"","",null,null,null,null,null,null,false]
[{"$f":"IF($T23=FALSE, \"\", MAX(A$4:A22)+1)","v":""},null,"ICDO3","ICD-O/3","Tumörens lokalisation enligt ICD-O/3","Rekommenderad variabel",null,null,null,null,null,"","",null,null,null,null,null,null,false]
[{"$f":"IF($T24=FALSE, \"\", MAX(A$4:A23)+1)","v":""},null,"JNR","Journalnummer","Uppgiften hämtades från den A-blankett som låg till grund för sjukhus och diagnoskodning. Den kan vara blank. ","Endast vid personnummer utlämnande",null,null,null,null,null,"","",null,null,null,null,null,null,false]
[{"$f":"IF($T25=FALSE, \"\", MAX(A$4:A24)+1)","v":""},null,"KLINIK","Klinik","Den klinik där patientens diagnos fastställdes",null,null,null,null,null,null,"","",null,null,null,null,null,null,false]
[{"$f":"IF($T26=FALSE, \"\", MAX(A$4:A25)+1)","v":""},null,"KON","Kön","Patientens kön",null,null,null,null,null,null,"","",null,null,null,null,null,null,false]
[{"$f":"IF($T27=FALSE, \"\", MAX(A$4:A26)+1)","v":""},null,"LKF","Folkbokföringsort (Endast län och kommun lämnas ut)","Patientens folkbokföringsort vid diagnostillfället","För församling krävs EPN godkännande",null,null,null,null,null,"","",null,null,null,null,null,null,false]
[{"$f":"IF($T28=FALSE, \"\", MAX(A$4:A27)+1)","v":""},null,"M","M-kategori","Tumörutbredning vid diagnostillfället, fjärrmetastaser.",null,null,null,null,null,null,"","",null,null,null,null,null,null,false]
[{"$f":"IF($T29=FALSE, \"\", MAX(A$4:A28)+1)","v":""},null,"N","N-kategori","Tumörutbredning vid diagnostillfället, lymfkörtlar.",null,null,null,null,null,null,"","",null,null,null,null,null,null,false]
[{"$f":"IF($T30=FALSE, \"\", MAX(A$4:A29)+1)","v":""},null,"NORDCAN","NORDCAN entitet","41 grupper av cancerlägen som används i NORDCAN. Eventuellt ett års eftersläpning på denna information beroende på när på året NORDCAN uppdateras",null,null,null,null,null,null,"","",null,null,null,null,null,null,false]
[{"$f":"IF($T31=FALSE, \"\", MAX(A$4:A30)+1)","v":""},null,"OBD1","Obduktionsfynd","Tumören identifierad vid obduktion",null,null,null,null,null,null,"","",null,null,null,null,null,null,false]
[{"$f":"IF($T32=FALSE, \"\", MAX(A$4:A31)+1)","v":""},null,"PAD","PAD","Tumörens histopatologiska diagnos enligt C24.1, se Bilaga CAN.doc kapitel 3","Rekommenderad variabel",null,null,null,null,null,"","",null,null,null,null,null,null,false]
[{"$f":"IF($T33=FALSE, \"\", MAX(A$4:A32)+1)","v":""},null,"PAT","Patolog/cytolog","Diagnostiserande patologi- och cytologiavdelning",null,null,null,null,null,null,"","",null,null,null,null,null,null,false]
[{"$f":"IF($T34=FALSE, \"\", MAX(A$4:A33)+1)","v":""},null,"PREP","Preparatnummer","Det histopatologiska preparatets nummer inkl. år","Endast vid personnummer utlämnande",null,null,null,null,null,"","",null,null,null,null,null,null,false]
[{"$f":"IF($T35=FALSE, \"\", MAX(A$4:A34)+1)","v":""},null,"REGION","Region","Sjukvårdsregion",null,null,null,null,null,null,"","",null,null,null,null,null,null,false]
[{"$f":"IF($T36=FALSE, \"\", MAX(A$4:A35)+1)","v":""},null,"RTBDATUM","Senaste träff mot RTB/FoB",null,null,null,null,null,null,null,{"$f":"IFERROR(INDEX(C$3:C$52,MATCH(ROW()-ROW(L$3),$A$3:$A$52,0)),\"\")","v":""},{"$f":"IFERROR(INDEX(D$3:D$52,MATCH(ROW()-ROW(M$3),$A$3:$A$52,0)),\"\")","v":""},null,null,null,null,null,null,false]
[{"$f":"IF($T37=FALSE, \"\", MAX(A$4:A36)+1)","v":""},null,"SENINV","Datum för senaste invandring","T o m 1997 registrerades den vecka då flyttningen aviserades; SCB har översatt år och vecka till första dagen i respektive vecka. Fr o m 1998 avser datumet den dag personen uppgivit till Skattemyndigheten att flyttning sker.",null,null,null,null,null,null,"","",null,null,null,null,null,null,false]
[{"$f":"IF($T38=FALSE, \"\", MAX(A$4:A37)+1)","v":""},null,"SENUTV","Datum för senaste utvandring","T o m 1997 registrerades den vecka då flyttningen aviserades; SCB har översatt år och vecka till första dagen i respektive vecka. Fr o m 1998 avser datumet den dag personen uppgivit till Skattemyndigheten att flyttning sker.",null,null,null,null,null,null,"","",null,null,null,null,null,null,false]
[{"$f":"IF($T39=FALSE, \"\", MAX(A$4:A38)+1)","v":""},null,"SIDA","Sida","Sidoangivelse vid pariga organ",null,null,null,null,null,null,"","",null,null,null,null,null,null,false]
[{"$f":"IF($T40=FALSE, \"\", MAX(A$4:A39)+1)","v":""},null,"SJUKHUS","Sjukhus","Den sjukvårdsinrättning där diagnosen fastställdes",null,null,null,null,null,null,"","",null,null,null,null,null,null,false]
[{"$f":"IF($T41=FALSE, \"\", MAX(A$4:A40)+1)","v":""},null,"SNOMED3","SNOMED-O/3","Tumörens morfologiska diagnos enligt ICD-O/3","Rekommenderad variabel",null,null,null,null,null,"","",null,null,null,null,null,null,false]
[{"$f":"IF($T42=FALSE, \"\", MAX(A$4:A41)+1)","v":""},null,"SNOMEDO10","SNOMED-O/2-10","Tumörens morfologiska diagnos enligt ICD-O/2","Rekommenderad variabel",null,null,null,null,null,"","",null,null,null,null,null,null,false]
[{"$f":"IF($T43=FALSE, \"\", MAX(A$4:A42)+1)","v":""},null,"T","T-kategori","Tumörutbredning vid diagnostillfället, tumörens storlek.",null,null,null,null,null,null,"","",null,null,null,null,null,null,false]
[{"$f":"IF($T44=FALSE, \"\", MAX(A$4:A43)+1)","v":""},null,"TIDINV","Datum för tidigaste invandring","T o m 1997 registrerades den vecka då flyttningen aviserades; SCB har översatt år och vecka till första dagen i respektive vecka. Fr o m 1998 avser datumet den dag personen uppgivit till Skattemyndigheten att flyttning sker.",null,null,null,null,null,null,"","",null,null,null,null,null,null,false]
[{"$f":"IF($T45=FALSE, \"\", MAX(A$4:A44)+1)","v":""},null,"TIDUTV","Datum för tidigaste utvandring","T o m 1997 registrerades den vecka då flyttningen aviserades; SCB har översatt år och vecka till första dagen i respektive vecka. Fr o m 1998 avser datumet den dag personen uppgivit till Skattemyndigheten att flyttning sker.",null,null,null,null,null,null,"","",null,null,null,null,null,null,false]
[{"$f":"IF($T46=FALSE, \"\", MAX(A$4:A45)+1)","v":""},null,"TNMGRUND","TNM-grund","Undersökning som låg till grund för TNM. Patologisk anges om någon av T, N eller M grundas på morfologisk undersökning. Klinisk anges då endast klinisk utredning legat till grund och morfologisk undersökning saknas.",null,null,null,null,null,null,"","",null,null,null,null,null,null,false]
[{"$f":"IF($T47=FALSE, \"\", MAX(A$4:A46)+1)","v":""},null,"TNR","Tumörnummer","Tumörnummer i kronologisk ordning, samtliga rapporteringspliktiga tumörer. (Om patienten diagnostiserats med flera tumörer)",null,null,null,null,null,null,"","",null,null,null,null,null,null,false]
[{"$f":"IF($T48=FALSE, \"\", MAX(A$4:A47)+1)","v":""},null,"TNRMAL","Tumörnummer, maligna","Tumörnummer i kronologisk ordning, enbart maligna tumörer. (Om patienten diagnostiserats med flera tumörer)",null,null,null,null,null,null,"","",null,null,null,null,null,null,false]
[{"$f":"IF($T49=FALSE, \"\", MAX(A$4:A48)+1)","v":""},null,"ULORSAK","Underliggande dödsorsak","Den sjukdom/skada som inledde den kedja av händelser som slutligen ledde fram till döden",null,null,null,null,null,null,"","",null,null,null,null,null,null,false]
[null,null,null,null,null,null,null,null,null,null,null,"","",null,null,null,null,null,null,false]
[null,null,null,null,null,null,null,null,null,null,null,"","",null,null,null,null,null,null,false]
[null,null,null,null,null,null,null,null,null,null,null,"","",null,null,null,null,null,null,false]

{"sheet":"CAN_BC","index":11,"n_rows":55,"n_cols":20,"rows_kept":55,"cut":false,"hidden":true,"merged":[]}
[null,null,null,"Basalcellscancerregistret"]
[]
["#","Val","Variabel","Klartext","Definition","Kommentar",null,null,null,null,null,"Variabel","Klartext"]
[{"$f":"IF($T4=FALSE, \"\", MAX(A$3:A3)+1)","v":""},null,"ALDER","Ålder vid diagnos","Ålder vid  preparatets ankomst till patologavdelningen",null,null,null,null,null,null,{"$f":"IFERROR(INDEX(C$3:C$14,MATCH(ROW()-ROW(L$3),$A$3:$A$14,0)),\"\")","v":""},{"$f":"IFERROR(INDEX(D$3:D$14,MATCH(ROW()-ROW(M$3),$A$3:$A$14,0)),\"\")","v":""},null,null,null,null,null,null,false]
[{"$f":"IF($T5=FALSE, \"\", MAX(A$4:A4)+1)","v":""},null,"AR","År","Diagnosår. År för preparatets ankomst till patologavdelningen",null,null,null,null,null,null,"","",null,null,null,null,null,null,false]
[{"$f":"IF($T6=FALSE, \"\", MAX(A$4:A5)+1)","v":""},null,"DIADAT","Preparatets ankomstdatum","Datum för preparatets ankomst till patologavdelningen",null,null,null,null,null,null,"","",null,null,null,null,null,null,false]
[{"$f":"IF($T7=FALSE, \"\", MAX(A$4:A6)+1)","v":""},null,"DIADATN","Preparatets ankomstdatum, numerisk","Datum för preparatets ankomst till patologavdelningen, numerisk",null,null,null,null,null,null,"","",null,null,null,null,null,null,false]
[{"$f":"IF($T8=FALSE, \"\", MAX(A$4:A7)+1)","v":""},null,"FODDATN","Födelsedatum","Patientens födelsedatum",null,null,null,null,null,null,"","",null,null,null,null,null,null,false]
[{"$f":"IF($T9=FALSE, \"\", MAX(A$4:A8)+1)","v":""},null,"KON","Kön","Kön",null,null,null,null,null,null,"","",null,null,null,null,null,null,false]
[{"$f":"IF($T10=FALSE, \"\", MAX(A$4:A9)+1)","v":""},null,"MORF","Morfologisk typ (M-kod)","Morfologisk typ. Koden skall anges utifrån förväntad aggressivt växtsätt",null,null,null,null,null,null,"","",null,null,null,null,null,null,false]
[{"$f":"IF($T11=FALSE, \"\", MAX(A$4:A10)+1)","v":""},null,"PAT","Diagnostiserande patologiavdelning","Diagnostiserande patologiavdelning",null,null,null,null,null,null,"","",null,null,null,null,null,null,false]
[{"$f":"IF($T12=FALSE, \"\", MAX(A$4:A11)+1)","v":""},null,"PREP","Preparatnummer inkl. år","Preparatnummer. Histopatologiska preparatets nummer inklusive det år preparatet fick numret. Årtal anges med 4 siffror.",null,null,null,null,null,null,"","",null,null,null,null,null,null,false]
[{"$f":"IF($T13=FALSE, \"\", MAX(A$4:A12)+1)","v":""},null,"SIDA","Sida","Sida. Vid pariga kroppsdelar skall sida anges.",null,null,null,null,null,null,"","",null,null,null,null,null,null,false]
[{"$f":"IF($T14=FALSE, \"\", MAX(A$4:A13)+1)","v":""},null,"TOPO","Topografisk kod (T-kod)","Topografisk kod (T-kod)",null,null,null,null,null,null,"","",null,null,null,null,null,null,false]
[{"$f":"IF($T15=FALSE, \"\", MAX(A$4:A14)+1)","v":""},null,null,null,null,null,null,null,null,null,null,{"$f":"IFERROR(INDEX(C$4:C$55,MATCH(ROW()-ROW(#REF!),$A$4:$A$55,0)),\"\")","v":""},{"$f":"IFERROR(INDEX(D$4:D$55,MATCH(ROW()-ROW(#REF!),$A$4:$A$55,0)),\"\")","v":""},null,null,null,null,null,null,false]
[{"$f":"IF($T16=FALSE, \"\", MAX(A$4:A15)+1)","v":""},null,null,null,null,null,null,null,null,null,null,{"$f":"IFERROR(INDEX(C$4:C$55,MATCH(ROW()-ROW(#REF!),$A$4:$A$55,0)),\"\")","v":""},{"$f":"IFERROR(INDEX(D$4:D$55,MATCH(ROW()-ROW(#REF!),$A$4:$A$55,0)),\"\")","v":""},null,null,null,null,null,null,false]
[{"$f":"IF($T17=FALSE, \"\", MAX(A$4:A16)+1)","v":""},null,null,null,null,null,null,null,null,null,null,{"$f":"IFERROR(INDEX(C$4:C$55,MATCH(ROW()-ROW(#REF!),$A$4:$A$55,0)),\"\")","v":""},{"$f":"IFERROR(INDEX(D$4:D$55,MATCH(ROW()-ROW(#REF!),$A$4:$A$55,0)),\"\")","v":""},null,null,null,null,null,null,false]
[{"$f":"IF($T18=FALSE, \"\", MAX(A$4:A17)+1)","v":""},null,null,null,null,null,null,null,null,null,null,{"$f":"IFERROR(INDEX(C$4:C$55,MATCH(ROW()-ROW(#REF!),$A$4:$A$55,0)),\"\")","v":""},{"$f":"IFERROR(INDEX(D$4:D$55,MATCH(ROW()-ROW(#REF!),$A$4:$A$55,0)),\"\")","v":""},null,null,null,null,null,null,false]
[{"$f":"IF($T19=FALSE, \"\", MAX(A$4:A18)+1)","v":""},null,null,null,null,null,null,null,null,null,null,{"$f":"IFERROR(INDEX(C$4:C$55,MATCH(ROW()-ROW(#REF!),$A$4:$A$55,0)),\"\")","v":""},{"$f":"IFERROR(INDEX(D$4:D$55,MATCH(ROW()-ROW(#REF!),$A$4:$A$55,0)),\"\")","v":""},null,null,null,null,null,null,false]
[{"$f":"IF($T20=FALSE, \"\", MAX(A$4:A19)+1)","v":""},null,null,null,null,null,null,null,null,null,null,{"$f":"IFERROR(INDEX(C$4:C$55,MATCH(ROW()-ROW(#REF!),$A$4:$A$55,0)),\"\")","v":""},{"$f":"IFERROR(INDEX(D$4:D$55,MATCH(ROW()-ROW(#REF!),$A$4:$A$55,0)),\"\")","v":""},null,null,null,null,null,null,false]
[{"$f":"IF($T21=FALSE, \"\", MAX(A$4:A20)+1)","v":""},null,null,null,null,null,null,null,null,null,null,{"$f":"IFERROR(INDEX(C$4:C$55,MATCH(ROW()-ROW(#REF!),$A$4:$A$55,0)),\"\")","v":""},{"$f":"IFERROR(INDEX(D$4:D$55,MATCH(ROW()-ROW(#REF!),$A$4:$A$55,0)),\"\")","v":""},null,null,null,null,null,null,false]
[{"$f":"IF($T22=FALSE, \"\", MAX(A$4:A21)+1)","v":""},null,null,null,null,null,null,null,null,null,null,{"$f":"IFERROR(INDEX(C$4:C$55,MATCH(ROW()-ROW(#REF!),$A$4:$A$55,0)),\"\")","v":""},{"$f":"IFERROR(INDEX(D$4:D$55,MATCH(ROW()-ROW(#REF!),$A$4:$A$55,0)),\"\")","v":""},null,null,null,null,null,null,false]
[{"$f":"IF($T23=FALSE, \"\", MAX(A$4:A22)+1)","v":""},null,null,null,null,null,null,null,null,null,null,{"$f":"IFERROR(INDEX(C$4:C$55,MATCH(ROW()-ROW(#REF!),$A$4:$A$55,0)),\"\")","v":""},{"$f":"IFERROR(INDEX(D$4:D$55,MATCH(ROW()-ROW(#REF!),$A$4:$A$55,0)),\"\")","v":""},null,null,null,null,null,null,false]
[{"$f":"IF($T24=FALSE, \"\", MAX(A$4:A23)+1)","v":""},null,null,null,null,"?",null,null,null,null,null,{"$f":"IFERROR(INDEX(C$4:C$55,MATCH(ROW()-ROW(#REF!),$A$4:$A$55,0)),\"\")","v":""},{"$f":"IFERROR(INDEX(D$4:D$55,MATCH(ROW()-ROW(#REF!),$A$4:$A$55,0)),\"\")","v":""},null,null,null,null,null,null,false]
[{"$f":"IF($T25=FALSE, \"\", MAX(A$4:A24)+1)","v":""},null,null,null,null,null,null,null,null,null,null,{"$f":"IFERROR(INDEX(C$4:C$55,MATCH(ROW()-ROW(#REF!),$A$4:$A$55,0)),\"\")","v":""},{"$f":"IFERROR(INDEX(D$4:D$55,MATCH(ROW()-ROW(#REF!),$A$4:$A$55,0)),\"\")","v":""},null,null,null,null,null,null,false]
[{"$f":"IF($T26=FALSE, \"\", MAX(A$4:A25)+1)","v":""},null,null,null,null,null,null,null,null,null,null,{"$f":"IFERROR(INDEX(C$4:C$55,MATCH(ROW()-ROW(#REF!),$A$4:$A$55,0)),\"\")","v":""},{"$f":"IFERROR(INDEX(D$4:D$55,MATCH(ROW()-ROW(#REF!),$A$4:$A$55,0)),\"\")","v":""},null,null,null,null,null,null,false]
[{"$f":"IF($T27=FALSE, \"\", MAX(A$4:A26)+1)","v":""},null,null,null,null,null,null,null,null,null,null,{"$f":"IFERROR(INDEX(C$4:C$55,MATCH(ROW()-ROW(#REF!),$A$4:$A$55,0)),\"\")","v":""},{"$f":"IFERROR(INDEX(D$4:D$55,MATCH(ROW()-ROW(#REF!),$A$4:$A$55,0)),\"\")","v":""},null,null,null,null,null,null,false]
[{"$f":"IF($T28=FALSE, \"\", MAX(A$4:A27)+1)","v":""},null,null,null,null,null,null,null,null,null,null,{"$f":"IFERROR(INDEX(C$4:C$55,MATCH(ROW()-ROW(#REF!),$A$4:$A$55,0)),\"\")","v":""},{"$f":"IFERROR(INDEX(D$4:D$55,MATCH(ROW()-ROW(#REF!),$A$4:$A$55,0)),\"\")","v":""},null,null,null,null,null,null,false]
[{"$f":"IF($T29=FALSE, \"\", MAX(A$4:A28)+1)","v":""},null,null,null,null,null,null,null,null,null,null,{"$f":"IFERROR(INDEX(C$4:C$55,MATCH(ROW()-ROW(#REF!),$A$4:$A$55,0)),\"\")","v":""},{"$f":"IFERROR(INDEX(D$4:D$55,MATCH(ROW()-ROW(#REF!),$A$4:$A$55,0)),\"\")","v":""},null,null,null,null,null,null,false]
[{"$f":"IF($T30=FALSE, \"\", MAX(A$4:A29)+1)","v":""},null,null,null,null,null,null,null,null,null,null,{"$f":"IFERROR(INDEX(C$4:C$55,MATCH(ROW()-ROW(#REF!),$A$4:$A$55,0)),\"\")","v":""},{"$f":"IFERROR(INDEX(D$4:D$55,MATCH(ROW()-ROW(#REF!),$A$4:$A$55,0)),\"\")","v":""},null,null,null,null,null,null,false]
[{"$f":"IF($T31=FALSE, \"\", MAX(A$4:A30)+1)","v":""},null,null,null,null,null,null,null,null,null,null,{"$f":"IFERROR(INDEX(C$4:C$55,MATCH(ROW()-ROW(#REF!),$A$4:$A$55,0)),\"\")","v":""},{"$f":"IFERROR(INDEX(D$4:D$55,MATCH(ROW()-ROW(#REF!),$A$4:$A$55,0)),\"\")","v":""},null,null,null,null,null,null,false]
[{"$f":"IF($T32=FALSE, \"\", MAX(A$4:A31)+1)","v":""},null,null,null,null,null,null,null,null,null,null,{"$f":"IFERROR(INDEX(C$4:C$55,MATCH(ROW()-ROW(#REF!),$A$4:$A$55,0)),\"\")","v":""},{"$f":"IFERROR(INDEX(D$4:D$55,MATCH(ROW()-ROW(#REF!),$A$4:$A$55,0)),\"\")","v":""},null,null,null,null,null,null,false]
[{"$f":"IF($T33=FALSE, \"\", MAX(A$4:A32)+1)","v":""},null,null,null,null,null,null,null,null,null,null,{"$f":"IFERROR(INDEX(C$4:C$55,MATCH(ROW()-ROW(#REF!),$A$4:$A$55,0)),\"\")","v":""},{"$f":"IFERROR(INDEX(D$4:D$55,MATCH(ROW()-ROW(#REF!),$A$4:$A$55,0)),\"\")","v":""},null,null,null,null,null,null,false]
[{"$f":"IF($T34=FALSE, \"\", MAX(A$4:A33)+1)","v":""},null,null,null,null,null,null,null,null,null,null,{"$f":"IFERROR(INDEX(C$4:C$55,MATCH(ROW()-ROW(#REF!),$A$4:$A$55,0)),\"\")","v":""},{"$f":"IFERROR(INDEX(D$4:D$55,MATCH(ROW()-ROW(#REF!),$A$4:$A$55,0)),\"\")","v":""},null,null,null,null,null,null,false]
[{"$f":"IF($T35=FALSE, \"\", MAX(A$4:A34)+1)","v":""},null,null,null,null,null,null,null,null,null,null,{"$f":"IFERROR(INDEX(C$4:C$55,MATCH(ROW()-ROW(#REF!),$A$4:$A$55,0)),\"\")","v":""},{"$f":"IFERROR(INDEX(D$4:D$55,MATCH(ROW()-ROW(#REF!),$A$4:$A$55,0)),\"\")","v":""},null,null,null,null,null,null,false]
[{"$f":"IF($T36=FALSE, \"\", MAX(A$4:A35)+1)","v":""},null,null,null,null,null,null,null,null,null,null,{"$f":"IFERROR(INDEX(C$4:C$55,MATCH(ROW()-ROW(#REF!),$A$4:$A$55,0)),\"\")","v":""},{"$f":"IFERROR(INDEX(D$4:D$55,MATCH(ROW()-ROW(#REF!),$A$4:$A$55,0)),\"\")","v":""},null,null,null,null,null,null,false]
[{"$f":"IF($T37=FALSE, \"\", MAX(A$4:A36)+1)","v":""},null,null,null,null,null,null,null,null,null,null,{"$f":"IFERROR(INDEX(C$4:C$55,MATCH(ROW()-ROW(#REF!),$A$4:$A$55,0)),\"\")","v":""},{"$f":"IFERROR(INDEX(D$4:D$55,MATCH(ROW()-ROW(#REF!),$A$4:$A$55,0)),\"\")","v":""},null,null,null,null,null,null,false]
[{"$f":"IF($T38=FALSE, \"\", MAX(A$4:A37)+1)","v":""},null,null,null,null,null,null,null,null,null,null,{"$f":"IFERROR(INDEX(C$4:C$55,MATCH(ROW()-ROW(#REF!),$A$4:$A$55,0)),\"\")","v":""},{"$f":"IFERROR(INDEX(D$4:D$55,MATCH(ROW()-ROW(#REF!),$A$4:$A$55,0)),\"\")","v":""},null,null,null,null,null,null,false]
[{"$f":"IF($T39=FALSE, \"\", MAX(A$4:A38)+1)","v":""},null,null,null,null,null,null,null,null,null,null,{"$f":"IFERROR(INDEX(C$4:C$55,MATCH(ROW()-ROW(#REF!),$A$4:$A$55,0)),\"\")","v":""},{"$f":"IFERROR(INDEX(D$4:D$55,MATCH(ROW()-ROW(#REF!),$A$4:$A$55,0)),\"\")","v":""},null,null,null,null,null,null,false]
[{"$f":"IF($T40=FALSE, \"\", MAX(A$4:A39)+1)","v":""},null,null,null,null,null,null,null,null,null,null,{"$f":"IFERROR(INDEX(C$4:C$55,MATCH(ROW()-ROW(#REF!),$A$4:$A$55,0)),\"\")","v":""},{"$f":"IFERROR(INDEX(D$4:D$55,MATCH(ROW()-ROW(#REF!),$A$4:$A$55,0)),\"\")","v":""},null,null,null,null,null,null,false]
[{"$f":"IF($T41=FALSE, \"\", MAX(A$4:A40)+1)","v":""},null,null,null,null,null,null,null,null,null,null,{"$f":"IFERROR(INDEX(C$4:C$55,MATCH(ROW()-ROW(#REF!),$A$4:$A$55,0)),\"\")","v":""},{"$f":"IFERROR(INDEX(D$4:D$55,MATCH(ROW()-ROW(#REF!),$A$4:$A$55,0)),\"\")","v":""},null,null,null,null,null,null,false]
[{"$f":"IF($T42=FALSE, \"\", MAX(A$4:A41)+1)","v":""},null,null,null,null,null,null,null,null,null,null,{"$f":"IFERROR(INDEX(C$4:C$55,MATCH(ROW()-ROW(#REF!),$A$4:$A$55,0)),\"\")","v":""},{"$f":"IFERROR(INDEX(D$4:D$55,MATCH(ROW()-ROW(#REF!),$A$4:$A$55,0)),\"\")","v":""},null,null,null,null,null,null,false]
[{"$f":"IF($T43=FALSE, \"\", MAX(A$4:A42)+1)","v":""},null,null,null,null,null,null,null,null,null,null,{"$f":"IFERROR(INDEX(C$4:C$55,MATCH(ROW()-ROW(#REF!),$A$4:$A$55,0)),\"\")","v":""},{"$f":"IFERROR(INDEX(D$4:D$55,MATCH(ROW()-ROW(#REF!),$A$4:$A$55,0)),\"\")","v":""},null,null,null,null,null,null,false]
[{"$f":"IF($T44=FALSE, \"\", MAX(A$4:A43)+1)","v":""},null,null,null,null,null,null,null,null,null,null,{"$f":"IFERROR(INDEX(C$4:C$55,MATCH(ROW()-ROW(#REF!),$A$4:$A$55,0)),\"\")","v":""},{"$f":"IFERROR(INDEX(D$4:D$55,MATCH(ROW()-ROW(#REF!),$A$4:$A$55,0)),\"\")","v":""},null,null,null,null,null,null,false]
[{"$f":"IF($T45=FALSE, \"\", MAX(A$4:A44)+1)","v":""},null,null,null,null,null,null,null,null,null,null,{"$f":"IFERROR(INDEX(C$4:C$55,MATCH(ROW()-ROW(#REF!),$A$4:$A$55,0)),\"\")","v":""},{"$f":"IFERROR(INDEX(D$4:D$55,MATCH(ROW()-ROW(#REF!),$A$4:$A$55,0)),\"\")","v":""},null,null,null,null,null,null,false]
[{"$f":"IF($T46=FALSE, \"\", MAX(A$4:A45)+1)","v":""},null,null,null,null,null,null,null,null,null,null,{"$f":"IFERROR(INDEX(C$4:C$55,MATCH(ROW()-ROW(#REF!),$A$4:$A$55,0)),\"\")","v":""},{"$f":"IFERROR(INDEX(D$4:D$55,MATCH(ROW()-ROW(#REF!),$A$4:$A$55,0)),\"\")","v":""},null,null,null,null,null,null,false]
[{"$f":"IF($T47=FALSE, \"\", MAX(A$4:A46)+1)","v":""},null,null,null,null,null,null,null,null,null,null,{"$f":"IFERROR(INDEX(C$4:C$55,MATCH(ROW()-ROW(#REF!),$A$4:$A$55,0)),\"\")","v":""},{"$f":"IFERROR(INDEX(D$4:D$55,MATCH(ROW()-ROW(#REF!),$A$4:$A$55,0)),\"\")","v":""},null,null,null,null,null,null,false]
[{"$f":"IF($T48=FALSE, \"\", MAX(A$4:A47)+1)","v":""},null,null,null,null,null,null,null,null,null,null,{"$f":"IFERROR(INDEX(C$4:C$55,MATCH(ROW()-ROW(#REF!),$A$4:$A$55,0)),\"\")","v":""},{"$f":"IFERROR(INDEX(D$4:D$55,MATCH(ROW()-ROW(#REF!),$A$4:$A$55,0)),\"\")","v":""},null,null,null,null,null,null,false]
[{"$f":"IF($T49=FALSE, \"\", MAX(A$4:A48)+1)","v":""},null,null,null,null,null,null,null,null,null,null,{"$f":"IFERROR(INDEX(C$4:C$55,MATCH(ROW()-ROW(#REF!),$A$4:$A$55,0)),\"\")","v":""},{"$f":"IFERROR(INDEX(D$4:D$55,MATCH(ROW()-ROW(#REF!),$A$4:$A$55,0)),\"\")","v":""},null,null,null,null,null,null,false]
[{"$f":"IF($T50=FALSE, \"\", MAX(A$4:A49)+1)","v":""},null,null,null,null,null,null,null,null,null,null,{"$f":"IFERROR(INDEX(C$4:C$55,MATCH(ROW()-ROW(#REF!),$A$4:$A$55,0)),\"\")","v":""},{"$f":"IFERROR(INDEX(D$4:D$55,MATCH(ROW()-ROW(#REF!),$A$4:$A$55,0)),\"\")","v":""},null,null,null,null,null,null,false]
[{"$f":"IF($T51=FALSE, \"\", MAX(A$4:A50)+1)","v":""},null,null,null,null,null,null,null,null,null,null,{"$f":"IFERROR(INDEX(C$4:C$55,MATCH(ROW()-ROW(#REF!),$A$4:$A$55,0)),\"\")","v":""},{"$f":"IFERROR(INDEX(D$4:D$55,MATCH(ROW()-ROW(#REF!),$A$4:$A$55,0)),\"\")","v":""},null,null,null,null,null,null,false]
[{"$f":"IF($T52=FALSE, \"\", MAX(A$4:A51)+1)","v":""},null,null,null,null,null,null,null,null,null,null,{"$f":"IFERROR(INDEX(C$4:C$55,MATCH(ROW()-ROW(#REF!),$A$4:$A$55,0)),\"\")","v":""},{"$f":"IFERROR(INDEX(D$4:D$55,MATCH(ROW()-ROW(#REF!),$A$4:$A$55,0)),\"\")","v":""},null,null,null,null,null,null,false]
[{"$f":"IF($T53=FALSE, \"\", MAX(A$4:A52)+1)","v":""},null,null,null,null,null,null,null,null,null,null,{"$f":"IFERROR(INDEX(C$4:C$55,MATCH(ROW()-ROW(#REF!),$A$4:$A$55,0)),\"\")","v":""},{"$f":"IFERROR(INDEX(D$4:D$55,MATCH(ROW()-ROW(#REF!),$A$4:$A$55,0)),\"\")","v":""},null,null,null,null,null,null,false]
[{"$f":"IF($T54=FALSE, \"\", MAX(A$4:A53)+1)","v":""},null,null,null,null,null,null,null,null,null,null,{"$f":"IFERROR(INDEX(C$4:C$55,MATCH(ROW()-ROW(#REF!),$A$4:$A$55,0)),\"\")","v":""},{"$f":"IFERROR(INDEX(D$4:D$55,MATCH(ROW()-ROW(#REF!),$A$4:$A$55,0)),\"\")","v":""},null,null,null,null,null,null,false]
[{"$f":"IF($T55=FALSE, \"\", MAX(A$4:A54)+1)","v":""},null,null,null,null,null,null,null,null,null,null,{"$f":"IFERROR(INDEX(C$4:C$55,MATCH(ROW()-ROW(#REF!),$A$4:$A$55,0)),\"\")","v":""},{"$f":"IFERROR(INDEX(D$4:D$55,MATCH(ROW()-ROW(#REF!),$A$4:$A$55,0)),\"\")","v":""},null,null,null,null,null,null,false]

{"sheet":"DORS","index":12,"n_rows":50,"n_cols":20,"rows_kept":50,"cut":false,"hidden":true,"merged":[]}
[null,null,null,"Dödsorsaksregistret"]
[]
["#","Val","Variabel","Klartext","Definition","Kommentar",null,null,null,null,null,"Variabel","Klartext",null,null,"Auto-kryssa:",null,null,null,false]
[{"$f":"IF($T4=FALSE, \"\", MAX(A$3:A3)+1)","v":""},null,"ALDER","Ålder vid dödsfall","Ålder i år vid själva dödsfallet",null,null,null,null,null,null,{"$f":"IFERROR(INDEX(C$3:C$50,MATCH(ROW()-ROW(L$3),$A$3:$A$50,0)),\"\")","v":""},{"$f":"IFERROR(INDEX(D$3:D$50,MATCH(ROW()-ROW(M$3),$A$3:$A$50,0)),\"\")","v":""},null,null,null,null,null,null,false]
[{"$f":"IF($T5=FALSE, \"\", MAX(A$4:A4)+1)","v":""},null,"ALKOHOL","Alkoholrelaterad diagnos ","Alkoholrelaterad diagnos omnämnd på intyget. Markering för samtliga poster som har en alkoholrelaterad diagnos antingen som underliggande eller bidragande dödsorsak\n",null,null,null,null,null,null,"","",null,null,null,null,null,null,false]
[{"$f":"IF($T6=FALSE, \"\", MAX(A$4:A5)+1)","v":""},null,"ANTORS","Antal bidragande dödsorsaker",null,null,null,null,null,null,null,"","",null,null,null,null,null,null,false]
[{"$f":"IF($T7=FALSE, \"\", MAX(A$4:A6)+1)","v":""},null,"AOLYCKA","Arbetsolycka","Registrering av ev. markering om olycka under förvärvsarbete förelegat",null,null,null,null,null,null,"","",null,null,null,null,null,null,false]
[{"$f":"IF($T8=FALSE, \"\", MAX(A$4:A7)+1)","v":""},null,"AR","År","År för dödsfall",null,null,null,null,null,null,"","",null,null,null,null,null,null,false]
[{"$f":"IF($T9=FALSE, \"\", MAX(A$4:A8)+1)","v":""},null,"DALDDAG","Ålder vid dödsfall i dagar om < 1 månad","Dödsålder i dagar om personen ifråga har avlidit innan hon/han har fyllt 1 månad ",null,null,null,null,null,null,"","",null,null,null,null,null,null,false]
[{"$f":"IF($T10=FALSE, \"\", MAX(A$4:A9)+1)","v":""},null,"DALDKL5","Ålder vid dödsfall i femårsklasser","Dödsålder vid själva dödsfallet i femårsåldersklasser",null,null,null,null,null,null,"","",null,null,null,null,null,null,false]
[{"$f":"IF($T11=FALSE, \"\", MAX(A$4:A10)+1)","v":""},null,"DALDMAN","Ålder vid dödsfall i månader om < 1 år","Dödsålder i månader om personen ifråga har avlidit efter hon/han har fyllt 1 månad men innan hon/han har fyllt 1 år",null,null,null,null,null,null,"","",null,null,null,null,null,null,false]
[{"$f":"IF($T12=FALSE, \"\", MAX(A$4:A11)+1)","v":""},null,"DBAVSER","Dödsbeviset avser vuxen/barn","Registrering av ev. markering på blanketten beträffande den avlidnes ålder",null,null,null,null,null,null,"","",null,null,null,null,null,null,false]
[{"$f":"IF($T13=FALSE, \"\", MAX(A$4:A12)+1)","v":""},null,"DBGRUND1","Obduktion","Om klinisk eller rättsmedicinsk obduktion",null,null,null,null,null,null,"","",null,null,null,null,null,null,false]
[{"$f":"IF($T14=FALSE, \"\", MAX(A$4:A13)+1)","v":""},null,"DBGRUND5","Undersökning före dödsfallet på sjukhus","Om undersökning före döden ",null,null,null,null,null,null,"","",null,null,null,null,null,null,false]
[{"$f":"IF($T15=FALSE, \"\", MAX(A$4:A14)+1)","v":""},null,"DBGRUND6","Undersökning före dödsfallet utanför sjukhus","Om undersökning före döden utanför sjukhus",null,null,null,null,null,null,"","",null,null,null,null,null,null,false]
[{"$f":"IF($T16=FALSE, \"\", MAX(A$4:A15)+1)","v":""},null,"DBGRUND7","Yttre likbesiktning","Om yttre likbesiktning",null,null,null,null,null,null,"","",null,null,null,null,null,null,false]
[{"$f":"IF($T17=FALSE, \"\", MAX(A$4:A16)+1)","v":""},null,"DBGRUND8","Annan eller okänd källa som grund för intyget","Om \"annan källa\"",null,null,null,null,null,null,"","",null,null,null,null,null,null,false]
[{"$f":"IF($T18=FALSE, \"\", MAX(A$4:A17)+1)","v":""},null,"DIABETES","Diabeteskod","Diabetes som antingen underliggande eller bidragande dödsorsak",null,null,null,null,null,null,"","",null,null,null,null,null,null,false]
[{"$f":"IF($T19=FALSE, \"\", MAX(A$4:A18)+1)","v":""},null,"DOD_KOMMUN","Kommun där dödsfall inträffade","Fyrasiffrig kommunkod för den kommun döden inträffade i\n",null,null,null,null,null,null,"","",null,null,null,null,null,null,false]
[{"$f":"IF($T20=FALSE, \"\", MAX(A$4:A19)+1)","v":""},null,"DODSDAT","Datum för dödsfall","Den avlidnes dödsdatum","Rekommenderad variabel",null,null,null,null,null,"","",null,null,null,null,null,null,false]
[{"$f":"IF($T21=FALSE, \"\", MAX(A$4:A20)+1)","v":""},null,"DODSKRIT","Dödskriterier","Om döden fastställts med hjälp av direkta eller indirekta kriterier",null,null,null,null,null,null,"","",null,null,null,null,null,null,false]
[{"$f":"IF($T22=FALSE, \"\", MAX(A$4:A21)+1)","v":""},null,"DODSPL","Plats för dödsfall","Dödsplats",null,null,null,null,null,null,"","",null,null,null,null,null,null,false]
[{"$f":"IF($T23=FALSE, \"\", MAX(A$4:A22)+1)","v":""},null,"DODUTL","Dödfall utomlands","Död utomlands",null,null,null,null,null,null,"","",null,null,null,null,null,null,false]
[{"$f":"IF($T24=FALSE, \"\", MAX(A$4:A23)+1)","v":""},null,"FASTNR","Fastighetsnummer",null,"Tillför sällan relevant information.",null,null,null,null,null,"","",null,null,null,null,null,null,false]
[{"$f":"IF($T25=FALSE, \"\", MAX(A$4:A24)+1)","v":""},null,"FCIV","Föregående civilstånd","Föregående civilstånd",null,null,null,null,null,null,"","",null,null,null,null,null,null,false]
[{"$f":"IF($T26=FALSE, \"\", MAX(A$4:A25)+1)","v":""},null,"FLAND","Födelseland (Grupperat på 11 kategorier)","Det land den avlidne föddes i",null,null,null,null,null,null,"","",null,null,null,null,null,null,false]
[{"$f":"IF($T27=FALSE, \"\", MAX(A$4:A26)+1)","v":""},null,"FOBUTL","Ej folkbokförd i Sverige","Anger att den avlidne inte var folkbokförda i Sverige vid dödstillfället",null,null,null,null,null,null,"","",null,null,null,null,null,null,false]
[{"$f":"IF($T28=FALSE, \"\", MAX(A$4:A27)+1)","v":""},null,"FOD_LAN","Födelselän","Födelselän för personer födda i Sverige",null,null,null,null,null,null,"","",null,null,null,null,null,null,false]
[{"$f":"IF($T29=FALSE, \"\", MAX(A$4:A28)+1)","v":""},null,"FODDAT","Födelsedatum (Endast år-mån)","Den avlidnes födelsedatum",null,null,null,null,null,null,"","",null,null,null,null,null,null,false]
[{"$f":"IF($T30=FALSE, \"\", MAX(A$4:A29)+1)","v":""},null,"FODDATN","Födelsedatum","Den avlidnes födelsedatum",null,null,null,null,null,null,"","",null,null,null,null,null,null,false]
[{"$f":"IF($T31=FALSE, \"\", MAX(A$4:A30)+1)","v":""},null,"FODLAND","Födelseland (Grupperat på 11 kategorier)","Det land den avlidne föddes i",null,null,null,null,null,null,"","",null,null,null,null,null,null,false]
[{"$f":"IF($T32=FALSE, \"\", MAX(A$4:A31)+1)","v":""},null,"ICD","ICD-version","Dödsorsakerna kodade enligt denna internationella ICD-version",null,null,null,null,null,null,"","",null,null,null,null,null,null,false]
[{"$f":"IF($T33=FALSE, \"\", MAX(A$4:A32)+1)","v":""},null,"KAP17","Huvudsaklig skada eller förgiftning","När den underliggande dödsorsaken är en yttre orsak finns en kod från kapitel 17 (ICD-7, ICD-8, ICD-9) med i denna varibel. För ICD-10 finns denna uppgift i kapitel 19 (KAP19) istället. ","Rekommenderad variabel",null,null,null,null,null,"","",null,null,null,null,null,null,false]
[{"$f":"IF($T34=FALSE, \"\", MAX(A$4:A33)+1)","v":""},null,"KAP19","Huvudsaklig skada eller förgiftning","När den underliggande dödsorsaken är en yttre orsak finns en kod från kapitel 19 (ICD-10) med i denna varibel. För ICD 7, ICD 8 och ICD 9 finns denna uppgift i kapitel 17 (KAP17) istället. ","Rekommenderad variabel",null,null,null,null,null,"","",null,null,null,null,null,null,false]
[{"$f":"IF($T35=FALSE, \"\", MAX(A$4:A34)+1)","v":""},null,"KBASIC","Basic list-kod för KAP17",null,null,null,null,null,null,null,"","",null,null,null,null,null,null,false]
[{"$f":"IF($T36=FALSE, \"\", MAX(A$4:A35)+1)","v":""},null,"KLINIK","Klinik där dödsbeviset utfärdats",null,null,null,null,null,null,null,"","",null,null,null,null,null,null,false]
[{"$f":"IF($T37=FALSE, \"\", MAX(A$4:A36)+1)","v":""},null,"KON","Kön ","Kön",null,null,null,null,null,null,"","",null,null,null,null,null,null,false]
[{"$f":"IF($T38=FALSE, \"\", MAX(A$4:A37)+1)","v":""},null,"LKF LK","Folkbokföringsort (Endast län och kommun)","Län, kommun, församling där den avlidne var folkbokförd vid tidpunkten för dödsfallet",null,null,null,null,null,null,"","",null,null,null,null,null,null,false]
[{"$f":"IF($T39=FALSE, \"\", MAX(A$4:A38)+1)","v":""},null,"MORSAK1-MORSAK48","Multipla dödsorsaker","Inkluderar bidragande dödsorsaker och i de flesta fall även underliggande dödsorsak. I vissa fall kan en kombination av två bidragande dödsorsaker leda till att en tredje dödsorsak, som inte finns med i morsak1-morsak48, kodas som underliggande dödsorsak.","Rekommenderad variabel",null,null,null,null,null,"","",null,null,null,null,null,null,false]
[{"$f":"IF($T40=FALSE, \"\", MAX(A$4:A39)+1)","v":""},null,"NARKOTIK","Narkotikarelaterad diagnos","Narkotikarelaterad diagnos omnämnd på intyget. Markering för samtliga poster som har en drogrelaterad diagnos antingen som underliggande eller bidragande dödsorsak\n",null,null,null,null,null,null,"","",null,null,null,null,null,null,false]
[{"$f":"IF($T41=FALSE, \"\", MAX(A$4:A40)+1)","v":""},null,"NATION","Land för medborgarskap (Grupperat på 11 kategorier)","Nationalitet",null,null,null,null,null,null,"","",null,null,null,null,null,null,false]
[{"$f":"IF($T42=FALSE, \"\", MAX(A$4:A41)+1)","v":""},null,"NATION_FOBUTL","Land för ej folkbokförda i Sverige (Grupperat på 11 kategorier)","Nationstillhörighet/folkbokföringsland för avlidna som vid dödstillfället inte var folkbokförda i Sverige",null,null,null,null,null,null,"","",null,null,null,null,null,null,false]
[{"$f":"IF($T43=FALSE, \"\", MAX(A$4:A42)+1)","v":""},null,"OFULLST","Fler än 12 multipla dödsorsaker finns",null,null,null,null,null,null,null,"","",null,null,null,null,null,null,false]
[{"$f":"IF($T44=FALSE, \"\", MAX(A$4:A43)+1)","v":""},null,"OPDAT","Operationsdatum","Datum för eventuell operation",null,null,null,null,null,null,"","",null,null,null,null,null,null,false]
[{"$f":"IF($T45=FALSE, \"\", MAX(A$4:A44)+1)","v":""},null,"OPERERAD","Opererad inom 4 veckor före dödsfallet","Om operation företagits inom 4 veckor innan dödsfallet",null,null,null,null,null,null,"","",null,null,null,null,null,null,false]
[{"$f":"IF($T46=FALSE, \"\", MAX(A$4:A45)+1)","v":""},null,"RO1-RO48","Position på intyget för MORSAK01-MORSAK48","Vilken rad och vilken plats på intyget som diagnosen stod",null,null,null,null,null,null,"","",null,null,null,null,null,null,false]
[{"$f":"IF($T47=FALSE, \"\", MAX(A$4:A46)+1)","v":""},null,"STORSTAD","Storstadsområde","Anger var den avlidne var folkbokförd ",null,null,null,null,null,null,"","",null,null,null,null,null,null,false]
[{"$f":"IF($T48=FALSE, \"\", MAX(A$4:A47)+1)","v":""},null,"UBASIC","Basic list-kod för ULORSAK","Baslista",null,null,null,null,null,null,"","",null,null,null,null,null,null,false]
[{"$f":"IF($T49=FALSE, \"\", MAX(A$4:A48)+1)","v":""},null,"ULORSAK","Underliggande dödsorsak","Den sjukdom/skada som inledde den kjedja av händelser som slutligen ledde fram till döden","Rekommenderad variabel",null,null,null,null,null,"","",null,null,null,null,null,null,false]
[{"$f":"IF($T50=FALSE, \"\", MAX(A$4:A49)+1)","v":""},null,"UNORDL","Kod i nordisk lista för ULORSAK","Nordisk lista",null,null,null,null,null,null,"","",null,null,null,null,null,null,false]

{"sheet":"Register","index":13,"n_rows":37,"n_cols":21,"rows_kept":37,"cut":false,"hidden":false,"merged":[[0,2,0,6],[7,6,8,6],[10,6,11,6]]}
[null,null,"Skapa variabellista med SIV, Socialstyrelsens interaktiva variabelväljare"]
["v 5.3"]
[]
[null,"Register",null,"Årtal"]
[null,null,null,"Från","Till"]
[null,"Hälsodataregister",null,null,null,null,"Välkommen till SIV, Socialstyrelsens Interaktiva Variabelväljare!"]
[null,null,"Patientregistret Öppenvård",null,null,null,"Välj dina register och ange tidsperiod",null,null,null,null,null,"Hushåll",null,null,null,null,null,null,false]
[null,null,"Patientregistret Slutenvård",null,null,null,"Klicka i registrets kryssruta och ange tidsperiod i till och från kolumnerna genom ange år. \nGlöm inte att trycka Enter efteråt.",null,null,null,null,null,"Individ",null,null,null,null,null,null,false]
[null,null,"Läkemedelsregistret",null,null,null,null,null,null,null,null,null,"Båda",null,null,null,null,null,null,false]
[null,null,"Dödsorsaksregistret (inkl. avi)",null,null,null,"Välj variabler för respektive register ",null,null,null,null,null,null,null,null,null,null,null,null,false]
[null," ","Cancerregistret",null,null,null,"Klicka på knappen \"Välj variabler\". När du valt dina variabler för ett register klickar du på \"Nästa register\" för att komma till nästa register.",null,null,null,null,null,null,null,null,null,null,null,null,false]
[null,null,"Medicinska Födelseregistret",null,null,1,null,null,null,null,null,null,"Mamma",null,null,null,null,null,null,false]
[null,null,null,null,null,null,"Se över din beställning, spara och skicka in",null,null,null,null,null,"Barn"]
[null,"Socialtjänstregister",null,null,null,null,"Klicka på \"Se din variabellista\" för att få en översikt. Är du nöjd sparar du excelfilen som en xls fil.  Bifoga filen tillsammans med din  beställning av registeruppgifter.",null,null,null,null,null,"Båda"]
[null,null,"Ekonomiskt bistånd EKB, År",null,null,1,null,null,null,null,null,null,null,null,null,null,null,null,null,false]
[null,null,"Ekonomiskt bistånd EKB, Månad",null,null,2,null,null,null,null,null,null,null,null,null,null,null,null,null,false]
[null,null,"Registret över insatser för barn och unga BU",null,null,null,null,null,null,null,null,null,null,null,null,null,null,null,null,false]
[null,null,"Registret över socialtjänstinsatser till \näldre och personer med funktionsnedsättning SOL",null,null,null,null,null,null,null,null,null,null,null,null,null,null,null,null,false]
[null,null,"Registret över insatser enligt lagen om stöd och service till\n vissa funktionshindrade LSS",null,null,null,null,null,null,null,null,null,null,null,null,null,null,null,null,false]
[null,null,"Registret över tvångsvård enligt lagen om vård av missbrukare LVM",null,null,null,null,null,null,null,null,null,null,null,null,null,null,null,null,false]
[]
[null,"Övriga hälsodataregister",null,null,null,null,null,null,null,null,null,null,null,null,null,null,null,null,null,false]
[null,null,"Tandhälsoregistret THR",null,null,null,null,null,null,null,null,null,null,null,null,null,null,null,null,false]
[null,null,"Olycksfallsregistret IDB",null,null,null,null,null,null,null,null,null,null,null,null,null,null,null,null,false]
[null,null,"Basalcellscancerregistret",null,null,null,null,null,null,null,null,null,null,null,null,null,null,null,null,false]
[null,null,"Medicinska Födelseregistret Läkemedel",null,null,null,null,null,null,null,null,null,null,null,null,null,null,null,null,false]
[null,null,"Medicinska Födelseregistret IVF",null,null,3,null,null,null,null,null,null,null,null,null,null,null,null,null,false]
[null,null,"Registret över fosterskador och kromosomavvikelser",null,null,null,null,null,null,null,null,null,null,null,null,null,null,null,null,false]
[null,null,"Registret över insatser i kommunal hälso- och sjukvård HSL",null,null,null,null,null,null,null,null,null,null,null,null,null,null,null,null,false]
[null,null,null,null,null,null,null,null,null,null,null,null,null,null,null,null,null,null,null,false,false]
[null,null,null,null,null,null,null,null,null,null,null,null,null,null,null,null,null,null,null,false,false]
[null,null,null,null,null,null,null,null,null,null,null,null,null,null,null,null,null,null,null,false,false]
[null,null,null,null,null,null,null,null,null,null,null,null,null,null,null,null,null,null,null,false,false]
[null,null,null,null,null,null,null,null,null,null,null,null,null,null,null,null,null,null,null,false,false]
[null,null,null,null,null,null,null,null,null,null,null,null,null,null,null,null,null,null,null,false,false]
[null,null,null,null,null,null,null,null,null,null,null,null,null,null,null,null,null,null,null,false,false]
[null,null,null,null,null,null,null,null,null,null,null,null,null,null,null,null,null,null,null,false,false]

{"sheet":"Variabellista","index":14,"n_rows":9,"n_cols":3,"rows_kept":9,"cut":false,"hidden":false,"merged":[[2,2,4,2],[9,2,31,2]]}
[null,"Din variabellista"]
[]
[null,null,"Är du nöjd med din variabellista sparar du excelfilen som en xls fil.  Bifoga filen tillsammans med din  beställning av registeruppgifter."]
["Nedanstående tabeller innehåller de register med respektive variabler och år som beställts."]
["Register","År"]
["Det finns inga valda register",null,"Vill du lägga till eller ta bort variabler så klickar du \"Välj fler variabler\""]
[null,null,"Vill du lägga till eller ta bort register så klickar du \"Välj register\""]
[]
[null,null,"Övrig information till handläggaren. Här kan du fritt skriva in eventuell information du vill förmedla till handläggaren"]

{"sheet":"LMED","index":15,"n_rows":63,"n_cols":20,"rows_kept":63,"cut":false,"hidden":true,"merged":[]}
[null,null,null,"Läkemedelsregistret"]
[]
["#","Val","Variabel","Klartext","Definition","Kommentar",null,null,null,null,null,"Variabel","Klartext",null,null,"Auto-kryssa:",null,null,null,false]
[{"$f":"IF($T4=FALSE, \"\", MAX(A$3:A3)+1)","v":""},null,"AFORM","Ägarform","Ägarform, enligt Arbetsplatskodregistret",null,null,null,null,null,null,{"$f":"IFERROR(INDEX(C$4:C$63,MATCH(ROW()-ROW(L$3),$A$4:$A$63,0)),\"\")","v":""},{"$f":"IFERROR(INDEX(D$4:D$63,MATCH(ROW()-ROW(M$3),$A$4:$A$63,0)),\"\")","v":""},null,null,null,null,null,null,false]
[{"$f":"IF($T5=FALSE, \"\", MAX(A$3:A4)+1)","v":""},null,"ALDER","Ålder","Ålder vid årets slut (Expeditionsår minus födelseår)",null,null,null,null,null,null,"","",null,null,null,null,null,null,false]
[{"$f":"IF($T6=FALSE, \"\", MAX(A$3:A5)+1)","v":""},null,"ANTAL","Antal förpackningar","Antal förpackningar som har hämtats ut. Vid dosdispenserade läkemedel kan antal förpackningar vara ett decimaltal. Negativa värden förekommer om information har korrigerats. Då krediteras den felaktiga raden genom att en ny rad med negativt värde registreras.  ","Rekommenderad variabel",null,null,null,null,null,"","",null,null,null,null,null,null,false]
[{"$f":"IF($T7=FALSE, \"\", MAX(A$3:A6)+1)","v":""},null,"ANTNUM","Förpackningsstorlek, numerisk","Förpackningsstorlek i numeriskform (utan enhet)",null,null,null,null,null,null,"","",null,null,null,null,null,null,false]
[{"$f":"IF($T8=FALSE, \"\", MAX(A$3:A7)+1)","v":""},null,"ATC","ATC-kod","ATC-kod enligt WHO. ATC-koden klassificerar läkemedlen efter användningsområde och kemisk substans. ","Rekommenderad variabel",null,null,null,null,null,"","",null,null,null,null,null,null,false]
[{"$f":"IF($T9=FALSE, \"\", MAX(A$3:A8)+1)","v":""},null,"ARBETSPL","Arbetsplatskod","Arbetsplatskod. Kod för unik identifiering av förskrivarens organisatoriska tillhörighet vid förskrivningstillfället. Koden definieras och administreras av respektive landsting. ","Tillför sällan relevant information. Löpnumreras normalt vid utlämnande. Om originalkod lämnas ut måste kodnyckel inhämtas från regionerna. ",null,null,null,null,null,"","",null,null,null,null,null,null,false]
[{"$f":"IF($T10=FALSE, \"\", MAX(A$3:A9)+1)","v":""},null,"ARBLAN","Arbetsplatsens län","Länskod för förskrivande arbetsplats. De två första positionerna i arbetsplatskoden.",null,null,null,null,null,null,"","",null,null,null,null,null,null,false]
[{"$f":"IF($T11=FALSE, \"\", MAX(A$3:A10)+1)","v":""},null,"BYTESK","Byteskod","Anledning till att den förskrivna varan har bytts ut på apotek. Fylls endast i om byte har skett.","Aktualitet: 2005-07-01 – 2009",null,null,null,null,null,"","",null,null,null,null,null,null,false]
[{"$f":"IF($T12=FALSE, \"\", MAX(A$3:A11)+1)","v":""},null,"BYTET","Bytet tillåtet","En flagga som anger om byte av den förskrivna varan, till ett medicinskt likvärdigt alternativ, på apoteket är tillåtet eller inte. Det är bara om periodens vara inte expedierats som skäl till nekat utbyte anges. För ej tillåtet byte förekommer tre varianter.",null,null,null,null,null,null,"","",null,null,null,null,null,null,false]
[{"$f":"IF($T13=FALSE, \"\", MAX(A$3:A12)+1)","v":""},null,"DDD","DDD-värde","DDD-värde (Definierad DygnsDos) för aktuellt läkemedel. DDD är den genomsnittliga dygnsdosen då läkemedlet används av en vuxen vid medlets huvudindikation. Uppgift om DDD saknas för licensläkemedel sedan hösten 2013.",null,null,null,null,null,null,null,null,null,null,null,null,null,null,false]
[{"$f":"IF($T14=FALSE, \"\", MAX(A$3:A13)+1)","v":""},null,"DDDENHET","Enhet DDD","Enhet på DDD, t.ex. mg eller ml",null,null,null,null,null,null,null,null,null,null,null,null,null,null,false]
[{"$f":"IF($T15=FALSE, \"\", MAX(A$3:A14)+1)","v":""},null,"DOSER","Doseringstext","Doseringstext. Fritext som innehåller uppgifter om dosering, användning och ändamål. ","För att lämna ut variabeln vill vi vet hur den kommer att hanteras statistiskt.",null,null,null,null,null,{"$f":"IFERROR(INDEX(C$4:C$63,MATCH(ROW()-ROW(L$3),$A$4:$A$63,0)),\"\")","v":""},{"$f":"IFERROR(INDEX(D$4:D$63,MATCH(ROW()-ROW(M$3),$A$4:$A$63,0)),\"\")","v":""},null,null,null,null,null,null,false]
[{"$f":"IF($T16=FALSE, \"\", MAX(A$3:A15)+1)","v":""},null,"EDATUM","Expeditionsdatum","Expeditionsdatum. Datum när patienten köpte varan","Rekommenderad variabel",null,null,null,null,null,"","",null,null,null,null,null,null,false]
[{"$f":"IF($T17=FALSE, \"\", MAX(A$3:A16)+1)","v":""},null,"EXPLAN","Expeditionslän","Länskod för expedierande apotek",null,null,{"$f":"IFERROR(INDEX(D$4:D$63,MATCH(ROW()-ROW(M$3),$A$4:$A$63,0)),\"\")","v":""},null,null,null,"","",null,null,null,null,null,null,false]
[{"$f":"IF($T18=FALSE, \"\", MAX(A$3:A17)+1)","v":""},null,"FDATUM","Förskrivningsdatum","Förskrivningsdatum. Datum när receptet är utfärdat.",null,null,null,null,null,null,"","",null,null,null,null,null,null,false]
[{"$f":"IF($T19=FALSE, \"\", MAX(A$3:A18)+1)","v":""},null,"FDDD","Förskrivningens DDD","Förskrivningens DDD. Anger hur många Definierade DygnsDoser (antal dagar) uttaget innehåller (förpackningens DDD * antal). DDD är den genomsnittliga dygnsdosen då läkemedlet används av en vuxen vid medlets huvudindikation",null,null,null,null,null,null,"","",null,null,null,null,null,null,false]
[{"$f":"IF($T20=FALSE, \"\", MAX(A$3:A19)+1)","v":""},null,"FNPLPACKID","NPLpackID förskrivet ","Förskrivet NPLpackID, om annat än det expedierade. Nationell Produktregister för Läkemedel. Finns för alla läkemedel men ej handelsvaror, hjälpmedel mm.","Variabeln leder till stora filer",null,null,null,null,null,"","",null,null,null,null,null,null,false]
[{"$f":"IF($T21=FALSE, \"\", MAX(A$3:A20)+1)","v":""},null,"FORMAN","Förmån","Anger om artikeln ingår i förmånen",null,null,null,null,null,null,"","",null,null,null,null,null,null,false]
[{"$f":"IF($T22=FALSE, \"\", MAX(A$3:A21)+1)","v":""},null,"FORPDDD","Förpackningens DDD","Förpackningens DDD. Anger hur många Definierade DygnsDoser förpackningen innehåller (antal dagar). DDD är den genomsnittliga dygnsdosen då läkemedlet används av en vuxen vid medlets huvudindikation","Rekommenderad variabel",null,null,null,null,null,"","",null,null,null,null,null,null,false]
[{"$f":"IF($T23=FALSE, \"\", MAX(A$3:A22)+1)","v":""},null,"FORPS","Förpackningsstorlek ","Förpackningsstorlek. En sammansatt beskrivning av förpackningsstorleken.",null,null,null,null,null,null,"","",null,null,null,null,null,null,false]
[{"$f":"IF($T24=FALSE, \"\", MAX(A$3:A23)+1)","v":""},null,"FTYP","Förmånstyp","Typ av förmån inom ramen för läkemedelsförmånen. Varor som är definierade \"inom förmånen\" blir rabatterade enligt förmånstrappan. De som är definierade \"utom förmånen\" blir inte rabatterade. Avser förmånstypen vid expedieringstillfället (förmånstyper kan förändras över tid).",null,null,null,null,null,null,"","",null,null,null,null,null,null,false]
[{"$f":"IF($T25=FALSE, \"\", MAX(A$3:A24)+1)","v":""},null,"FVARUID","Varuidentitet förskrivet","Förskriven varuidentitet, om annan än den expedierade. Apoteket AB:s varuidentitet på en expedierad vara. Id-begreppet användes fram till oktober 2010. ","Variabeln FVARUNR rekommenderas ",null,null,null,null,null,"","",null,null,null,null,null,null,false]
[{"$f":"IF($T26=FALSE, \"\", MAX(A$3:A25)+1)","v":""},null,"FVARUNR","Varunummer förskrivet","Förskrivet varunummer, om annat än det expedierade. Det nordiska varunumret är en sexsiffrig kod som är unik för en viss vara (en viss styrka, läkemedelsform, förpackningsstorlek etc.).",null,null,null,null,null,null,"","",null,null,null,null,null,null,false]
[{"$f":"IF($T27=FALSE, \"\", MAX(A$3:A26)+1)","v":""},null,"HFORPS","Förpackningsstorlek för handelsvaror.","Förpackningsstorlek för handelsvaror.",null,null,null,null,null,null,"","",null,null,null,null,null,null,false]
[{"$f":"IF($T28=FALSE, \"\", MAX(A$3:A27)+1)","v":""},null,"HGRUPP","Handelsvarugrupp (endast för handelsvaror)","Handelsvarugrupp (endast för handelsvaror)",null,null,null,null,null,null,"","",null,null,null,null,null,null,false]
[{"$f":"IF($T29=FALSE, \"\", MAX(A$3:A28)+1)","v":""},null,"INGAVG","Ingående egenavgift","Ackumulerad egenavgift innan expeditionen.",null,null,null,null,null,null,"","",null,null,null,null,null,null,false]
[{"$f":"IF($T30=FALSE, \"\", MAX(A$3:A29)+1)","v":""},null,"KON","Kön","Kön",null,null,null,null,null,null,"","",null,null,null,null,null,null,false]
[{"$f":"IF($T31=FALSE, \"\", MAX(A$3:A30)+1)","v":""},null,"LANKOST","Förmånskostnad/Landstingskostnad, exkl. moms ","Förmånskostnad/Landstingskostnad (exklusive moms). Belopp som landstinget betalar för varor som ingår i läkemedelsförmånen.\n",null,null,null,null,null,null,"","",null,null,null,null,null,null,false]
[{"$f":"IF($T32=FALSE, \"\", MAX(A$3:A31)+1)","v":""},null,"LFORM","Läkemedelsform","Läkemedelsform/beredningsform. ",null,null,null,null,null,null,"","",null,null,null,null,null,null,false]
[{"$f":"IF($T33=FALSE, \"\", MAX(A$3:A32)+1)","v":""},null,"LKF LK","Folkbokföringsort (Endast län och kommun)","Patientens folkbokföringsort. Län, kommun och församling. Endast län och kommun från och med 2016.","Ej församling",null,null,null,null,null,"","",null,null,null,null,null,null,false]
[{"$f":"IF($T34=FALSE, \"\", MAX(A$3:A33)+1)","v":""},null,"LNMN","Läkemedelsnamn","Innehåller produktnamn kompletterat med tillverkarens/ombudets namn, beredningsform och styrka",null,null,null,null,null,null,"","",null,null,null,null,null,null,false]
[{"$f":"IF($T35=FALSE, \"\", MAX(A$3:A34)+1)","v":""},null,"MERKOST","Merkostnad","Merkostnad (exklusive moms). Belopp som patienten får betala om han/hon väljer ett annat läkemedel än det billigaste likvärdiga alternativet.",null,null,null,null,null,null,"","",null,null,null,null,null,null,false]
[{"$f":"IF($T36=FALSE, \"\", MAX(A$3:A35)+1)","v":""},null,"MOMS","Moms","Handelsvaror mm 25%\nLivsmedel 12%\nLäkemedel 0%",null,null,null,null,null,null,"","",null,null,null,null,null,null,false]
[{"$f":"IF($T37=FALSE, \"\", MAX(A$3:A36)+1)","v":""},null,"NARKKLASS","Narkotikaklass","Narkotikaklass",null,null,null,null,null,null,"","",null,null,null,null,null,null,false]
[{"$f":"IF($T38=FALSE, \"\", MAX(A$3:A37)+1)","v":""},null,"NPLID","NPLID","NPLID. (NPL=Nationell Produktregister för Läkemedel). Finns för alla läkemedel men ej handelsvaror, hjälpmedel mm.",null,null,null,null,null,null,"","",null,null,null,null,null,null,false]
[{"$f":"IF($T39=FALSE, \"\", MAX(A$3:A38)+1)","v":""},null,"NPLPACKID","NPLpackID expedierat","Expedierat NPLpackID. Nationell Produktregister för Läkemedel. Finns för alla läkemedel men ej handelsvaror, hjälpmedel mm.","Variabeln leder till stora filer",null,null,null,null,null,"","",null,null,null,null,null,null,false]
[{"$f":"IF($T40=FALSE, \"\", MAX(A$3:A39)+1)","v":""},null,"OTYP","Ordinationstyp/försäljningssätt","Ordinationstyp/försäljningssätt. Anger hur varan har ordinerats (jmf transaktionstyp).",null,null,null,null,null,null,"","",null,null,null,null,null,null,false]
[{"$f":"IF($T41=FALSE, \"\", MAX(A$3:A40)+1)","v":""},null,"PATKOST","Egenavgift/Patientens avgift, exkl. moms ","Patientens kostnad (exklusive moms). Den del som patienten betalar beräknas som totalkostnad minus förmånskostnad.",null,null,null,null,null,null,"","",null,null,null,null,null,null,false]
[{"$f":"IF($T42=FALSE, \"\", MAX(A$3:A41)+1)","v":""},null,"PERIOD","Faktureringsperiod","Faktureringsperiod. År och månad som expedieringen fakturerats.",null,null,null,null,null,null,"","",null,null,null,null,null,null,false]
[{"$f":"IF($T43=FALSE, \"\", MAX(A$3:A42)+1)","v":""},null,"PRISTYP","Pristyp","Pristyp.",null,null,null,null,null,null,"","",null,null,null,null,null,null,false]
[{"$f":"IF($T44=FALSE, \"\", MAX(A$3:A43)+1)","v":""},null,"PRODUKT","Läkemedelsprodukt","Läkemedlets eller varans produktnamn.",null,null,null,null,null,null,"","",null,null,null,null,null,null,false]
[{"$f":"IF($T45=FALSE, \"\", MAX(A$3:A44)+1)","v":""},null,"RECB","Receptbelagd","Anger om produkten är receptbelagd eller receptfri. ",null,null,null,null,null,null,"","",null,null,null,null,null,null,false]
[{"$f":"IF($T46=FALSE, \"\", MAX(A$3:A45)+1)","v":""},null,"SDATUM","Startdatum för aktuell förmånsperiod","Startdatum för aktuell högkostnadsperiod.",null,null,null,null,null,null,"","",null,null,null,null,null,null,false]
[{"$f":"IF($T47=FALSE, \"\", MAX(A$3:A46)+1)","v":""},null,"SPKOD1-SPKOD3","Specialistutbildningskod 1-3","Specialistutbildningskod 1. Kod från registret över legitimerad hälso- och sjukvårdspersonal (HOSP), som anger förskrivarens specialistkompetens. Förskrivarens tre senaste genomförda specialistutbildningar.",null,null,null,null,null,null,{"$f":"IFERROR(INDEX(C$4:C$63,MATCH(ROW()-ROW(L$3),$A$4:$A$63,0)),\"\")","v":""},{"$f":"IFERROR(INDEX(D$4:D$63,MATCH(ROW()-ROW(M$3),$A$4:$A$63,0)),\"\")","v":""},null,null,null,null,null,null,false]
[{"$f":"IF($T48=FALSE, \"\", MAX(A$3:A47)+1)","v":""},null,"STARTFP","Startförpackning","Startförpackning. Anger om patienten har fått en startförpackning eller inte. En startförpackning är den minsta förpackningsstorleken av en viss läkemedelsprodukt, som en patient får för att prova ett läkemedel.",null,null,null,null,null,null,"","",null,null,null,null,null,null,false]
[{"$f":"IF($T49=FALSE, \"\", MAX(A$3:A48)+1)","v":""},null,"STYRKAENHET","Styrka enhet","Anger enheten på styrkan för produkten.",null,null,null,null,null,null,"","",null,null,null,null,null,null,false]
[{"$f":"IF($T50=FALSE, \"\", MAX(A$3:A49)+1)","v":""},null,"STYRKALF","Styrka","Anger styrkan för produkten i alfanumerisk form.",null,null,null,null,null,null,"","",null,null,null,null,null,null,false]
[{"$f":"IF($T51=FALSE, \"\", MAX(A$3:A50)+1)","v":""},null,"STYRKNUM","Styrka, numerisk","Anger styrkan för produkten i numerisk form (utan enhet). ",null,null,null,null,null,null,"","",null,null,null,null,null,null,false]
[{"$f":"IF($T52=FALSE, \"\", MAX(A$3:A51)+1)","v":""},null,"SUBNAMN","Substansnamn","Anger ATC-koden eller handelsvaran i klartext.",null,null,null,null,null,null,"","",null,null,null,null,null,null,false]
[{"$f":"IF($T53=FALSE, \"\", MAX(A$3:A52)+1)","v":""},null,"TKOST","Totalkostnad, exkl. moms ","Totalkostnad (exklusive moms). Beloppet inkluderar både den del som patienten själv betalar och den del som landstinget betalar.",null,null,null,null,null,null,"","",null,null,null,null,null,null,false]
[{"$f":"IF($T54=FALSE, \"\", MAX(A$3:A53)+1)","v":""},null,"TRANSTYP","Transaktionstyp","Transaktionstyp. Anger hur varan har ordinerats (grövre kategorier av otyp). ",null,null,null,null,null,null,"","",null,null,null,null,null,null,false]
[{"$f":"IF($T55=FALSE, \"\", MAX(A$3:A54)+1)","v":""},null,"URSPR","Ursprung","Receptets ursprung (hur receptet kom in till apoteket)",null,null,null,null,null,null,"","",null,null,null,null,null,null,false]
[{"$f":"IF($T56=FALSE, \"\", MAX(A$3:A55)+1)","v":""},null,"UTBK","Utbildningskod","Utbildningskod. SCB:s SUN-kod",null,null,null,null,null,null,"","",null,null,null,null,null,null,false]
[{"$f":"IF($T57=FALSE, \"\", MAX(A$3:A56)+1)","v":""},null,"UTFKAT","Utfärdarkategori","Apotekens kod för yrkeskategori som har rätt att utfärda förskrivning.  ",null,null,null,null,null,null,"","",null,null,null,null,null,null,false]
[{"$f":"IF($T58=FALSE, \"\", MAX(A$3:A57)+1)","v":""},null,"VARUID","Varuidentitet expedierad","Expedierad varuidentitet. Apoteket AB:s varuidentitet på en expedierad vara. Id-begreppet användes fram till oktober 2010.","Variabeln VARUNR rekommenderas istället för VARUID ",null,null,null,null,null,"","",null,null,null,null,null,null,false]
[{"$f":"IF($T59=FALSE, \"\", MAX(A$3:A58)+1)","v":""},null,"VARUNR","Varunummer expedierad","Expedierat varunummer. Det nordiska varunumret är en sexsiffrig kod som är unik för en viss vara (en viss styrka, läkemedelsform, förpackningsstorlek etc.).",null,null,null,null,null,null,"","",null,null,null,null,null,null,false]
[{"$f":"IF($T60=FALSE, \"\", MAX(A$3:A59)+1)","v":""},null,"VARUTYP","Varutyp","Varutyp",null,null,null,null,null,null,"","",null,null,null,null,null,null,false]
[{"$f":"IF($T61=FALSE, \"\", MAX(A$3:A60)+1)","v":""},null,"VERKS","Verksamhetsinriktning","Verksamhetsinriktning. Medicinska verksamhetsområden klassificeras efter specialitet och inriktning",null,null,null,null,null,null,"","",null,null,null,null,null,null,false]
[{"$f":"IF($T62=FALSE, \"\", MAX(A$3:A61)+1)","v":""},null,"VFORM","Vårdform","Vårdform, enligt Arbetsplatskodsregistret","Variabeln VERKS rekomenderas istället för VFORM",null,null,null,null,null,"","",null,null,null,null,null,null,false]
[{"$f":"IF($T63=FALSE, \"\", MAX(A$3:A62)+1)","v":""},null,"YRKE","Yrke","Kod för yrkeskategori från registret över legitimerad hälso- och sjukvårdspersonal (HOSP).",null,null,null,null,null,null,"","",null,null,null,null,null,null,false]

{"sheet":"MFR","index":16,"n_rows":149,"n_cols":20,"rows_kept":149,"cut":false,"hidden":true,"merged":[]}
[null,null,null,"Medicinska Födelseregistret"]
[]
["#","Val","Variabel","Klartext","Definition","Kommentar",null,null,null,null,null,"Variabel","Klartext",null,null,"Auto-kryssa:",null,null,null,false]
[{"$f":"IF($T4=FALSE, \"\", MAX(A$3:A3)+1)","v":""},null,"ACIDOS","Acidoskorrektion","Upplivningsåtgärder - Acidoskorrektion, minuter ",null,null,null,null,null,null,{"$f":"IFERROR(INDEX(C$3:C$149,MATCH(ROW()-ROW(L$3),$A$3:$A$149,0)),\"\")","v":""},{"$f":"IFERROR(INDEX(D$3:D$149,MATCH(ROW()-ROW(M$3),$A$3:$A$149,0)),\"\")","v":""},null,null,null,null,null,null,false]
[{"$f":"IF($T5=FALSE, \"\", MAX(A$4:A4)+1)","v":""},null,"AKUPUNKT","Akupunktur","Smärtlindring - Akupunktur",null,null,null,null,null,null,"","",null,null,null,null,null,null,false]
[{"$f":"IF($T6=FALSE, \"\", MAX(A$4:A5)+1)","v":""},null,"AMNIO","Fosterdiagnostik  amniocentes","Fosterdiagnostik, amniocentes (fostervattensprov)",null,null,null,null,null,null,"","",null,null,null,null,null,null,false]
[{"$f":"IF($T7=FALSE, \"\", MAX(A$4:A6)+1)","v":""},null,"AMNIOANM","Amniocentes anmärkning","Fosterdiagnostik, amniocentes (fostervattensprov), anmärkning",null,null,null,null,null,null,"","",null,null,null,null,null,null,false]
[{"$f":"IF($T8=FALSE, \"\", MAX(A$4:A7)+1)","v":""},null,"AMNIODAT","Amniocentes datum","Fosterdiagnostik, amniocentes (fostervattensprov), datum för provtagning",null,null,null,null,null,null,"","",null,null,null,null,null,null,false]
[{"$f":"IF($T9=FALSE, \"\", MAX(A$4:A8)+1)","v":""},null,"ANNANSML","Annan smärtlindring","Smärtlindring - Annan. Farmakologisk kod för denna smärtlindring skall anges i SMLKOD.",null,null,null,null,null,null,"","",null,null,null,null,null,null,false]
[{"$f":"IF($T10=FALSE, \"\", MAX(A$4:A9)+1)","v":""},null,"APGAR1","Apgarbedömning vid 1 minut","Apgarbedömning vid 1 minut",null,null,null,null,null,null,"","",null,null,null,null,null,null,false]
[{"$f":"IF($T11=FALSE, \"\", MAX(A$4:A10)+1)","v":""},null,"APGAR10","Apgarbedömning vid 10 minuter","Apgarbedömning vid 10 minuter ",null,null,null,null,null,null,"","",null,null,null,null,null,null,false]
[{"$f":"IF($T12=FALSE, \"\", MAX(A$4:A11)+1)","v":""},null,"APGAR5","Apgarbedömning vid 5 minuter","Apgarbedömning vid 5 minuter ",null,null,null,null,null,null,"","",null,null,null,null,null,null,false]
[{"$f":"IF($T13=FALSE, \"\", MAX(A$4:A12)+1)","v":""},null,"AR","År","Barnets födelseår ",null,null,null,null,null,null,"","",null,null,null,null,null,null,false]
[{"$f":"IF($T14=FALSE, \"\", MAX(A$4:A13)+1)","v":""},null,"ARBETE","Arbete","Omfattning av arbetstid vid inskrivning till mödrahälsovården  ",null,null,null,null,null,null,"","",null,null,null,null,null,null,false]
[{"$f":"IF($T15=FALSE, \"\", MAX(A$4:A14)+1)","v":""},null,"ASTMA","Lungsjukdom/astma","Moderns sjukdomar, lungsjukdom/astma (självrapporterad uppgift)",null,null,null,null,null,null,"","",null,null,null,null,null,null,false]
[{"$f":"IF($T16=FALSE, \"\", MAX(A$4:A15)+1)","v":""},null,"BAD","Bad","Smärtlindring - Bad ",null,null,null,null,null,null,"","",null,null,null,null,null,null,false]
[{"$f":"IF($T17=FALSE, \"\", MAX(A$4:A16)+1)","v":""},null,"BDIAG1-BDIAG12","Barnets diagnos 1-12","Barnets diagnos 1-12 (ICD-kod)",null,null,null,null,null,null,"","",null,null,null,null,null,null,false]
[{"$f":"IF($T18=FALSE, \"\", MAX(A$4:A17)+1)","v":""},null,"BDIAGNOS","Barnets diagnoser ","Barnets diagnos 1-12 (ICD-koder)",null,null,null,null,null,null,"","",null,null,null,null,null,null,false]
[{"$f":"IF($T19=FALSE, \"\", MAX(A$4:A18)+1)","v":""},null,"BESOK","Antal mödravårdsbesök","Antal mödravårdsbesök (summerat)",null,null,null,null,null,null,"","",null,null,null,null,null,null,false]
[{"$f":"IF($T20=FALSE, \"\", MAX(A$4:A19)+1)","v":""},null,"BFLOP","Barnets operationer och åtgärder","Barnets operationer eller vårdåtgärder 1-12  (KVÅ-koder)",null,null,null,null,null,null,"","",null,null,null,null,null,null,false]
[{"$f":"IF($T21=FALSE, \"\", MAX(A$4:A20)+1)","v":""},null,"BFLOP1-BFLOP12","Barnets operationer och åtgärder 1-12","Barnets operation eller vårdåtgärd 1-12  (KVÅ-kod)",null,null,null,null,null,null,"","",null,null,null,null,null,null,false]
[{"$f":"IF($T22=FALSE, \"\", MAX(A$4:A21)+1)","v":""},null,"BFODDAT","Barnets födelsedatum  (Endast år-mån)","Barnets födelsedatum ","För fullständigt datum krävs särskild motivering ",null,null,null,null,null,"","",null,null,null,null,null,null,false]
[{"$f":"IF($T23=FALSE, \"\", MAX(A$4:A22)+1)","v":""},null,"BJUDNING","Bjudning eller läge oavsett förlossningssätt. ","Bjudning eller fosterläge oavsett förlossningssätt",null,null,null,null,null,null,"","",null,null,null,null,null,null,false]
[{"$f":"IF($T24=FALSE, \"\", MAX(A$4:A23)+1)","v":""},null,"BLANGDF2","Barnets längd","Barnets längd, cm ",null,null,null,null,null,null,"","",null,null,null,null,null,null,false]
[{"$f":"IF($T25=FALSE, \"\", MAX(A$4:A24)+1)","v":""},null,"BORDF2","Börd ","Börduppgift enligt journaluppgift",null,null,null,null,null,null,"","",null,null,null,null,null,null,false]
[{"$f":"IF($T26=FALSE, \"\", MAX(A$4:A25)+1)","v":""},null,"BORDNRF2","Bördnummer och antal vid flerbörd","Bördnummer och antal vid flerbörd enligt journaluppgift",null,null,null,null,null,null,"","",null,null,null,null,null,null,false]
[{"$f":"IF($T27=FALSE, \"\", MAX(A$4:A26)+1)","v":""},null,"BPSMDAT","Beräknad förlossning utifrån första dagen i senaste menstruationen\n","Beräknad förlossning utifrån  senaste menstruationens första dag. Not. Går att beräkna utifrån variabeln SMDATför perioden 1973-81.","Trunkeras till ÅÅ-MM. För fullständigt datum krävs särskild motivering. ",null,null,null,null,null,"","",null,null,null,null,null,null,false]
[{"$f":"IF($T28=FALSE, \"\", MAX(A$4:A27)+1)","v":""},null,"BPULDAT","Beräknad förlossning enl. ultraljudsundersökning","Beräknad förlossning enl. ultraljuds-          undersökning","Trunkeras till ÅÅ-MM. För fullständigt datum krävs särskild motivering. ",null,null,null,null,null,"","",null,null,null,null,null,null,false]
[{"$f":"IF($T29=FALSE, \"\", MAX(A$4:A28)+1)","v":""},null,"BUTDAT","Barnets utskrivningsdatum","Barnets utskrivningsdatum från sjukhuset. 1973-1981/1982: utskrivningsdatum från förlossning/BB. 1982-1998 :definitivt utskrivningsdatum från sjukhuset i samband med förlossningstillfället. 1999 och framåt: hemskrivningsdatum",null,null,null,null,null,null,"","",null,null,null,null,null,null,false]
[{"$f":"IF($T30=FALSE, \"\", MAX(A$4:A29)+1)","v":""},null,"BUTSATT","Barnets utskrivningssätt","Barnets utskrivningssätt",null,null,null,null,null,null,"","",null,null,null,null,null,null,false]
[{"$f":"IF($T31=FALSE, \"\", MAX(A$4:A30)+1)","v":""},null,"BVIKT","Barnets födelsevikt","Barnets födelsevikt,  gram. Not. Fram tom 2011 blankades vikter <300 g för levandefödda. From 2012 blankas vikter <270 g för levande födda barn. Vikter >6999 blankas för alla födda barn. ",null,null,null,null,null,null,"","",null,null,null,null,null,null,false]
[{"$f":"IF($T32=FALSE, \"\", MAX(A$4:A31)+1)","v":""},null,"CERVIX","Bristningar - cervix","Bristningar - Cervix. Not. Uppgift noterad i kryssruta i journalen. Kompletteras med fördel med ICD-kod (moderns diagnoser vid förlossning)",null,null,null,null,null,null,"","",null,null,null,null,null,null,false]
[{"$f":"IF($T33=FALSE, \"\", MAX(A$4:A32)+1)","v":""},null,"CIVIL","Moderns civilstånd","Moderns civilstånd. Not. From 1982 finns uppgift om moderns familjesituation i variabeln FAMSIT ",null,null,null,null,null,null,"","",null,null,null,null,null,null,false]
[{"$f":"IF($T34=FALSE, \"\", MAX(A$4:A33)+1)","v":""},null,"CVB","Fosterdiagnostik CVB","Fosterdiagnostik, CVB chorionvillibiopsi (moderkaksprov) ",null,null,null,null,null,null,"","",null,null,null,null,null,null,false]
[{"$f":"IF($T35=FALSE, \"\", MAX(A$4:A34)+1)","v":""},null,"CVBANM","CVB anmärkning","Fosterdiagnostik,  CVB chorionvillibiopsi (moderkaksprov), anmärkning",null,null,null,null,null,null,"","",null,null,null,null,null,null,false]
[{"$f":"IF($T36=FALSE, \"\", MAX(A$4:A35)+1)","v":""},null,"CVBDAT","CVB datum","Fosterdiagnostik,  CVB chorionvillibiopsi (moderkaksprov), datum för provtagning",null,null,null,null,null,null,{"$f":"IFERROR(INDEX(C$3:C$149,MATCH(ROW()-ROW(L$3),$A$3:$A$149,0)),\"\")","v":""},{"$f":"IFERROR(INDEX(D$3:D$149,MATCH(ROW()-ROW(M$3),$A$3:$A$149,0)),\"\")","v":""},null,null,null,null,null,null,false]
[{"$f":"IF($T37=FALSE, \"\", MAX(A$4:A36)+1)","v":""},null,"DDAGAR","Dödsålder i dagar, endast nyföddhetsperioden","Dödsålder, dagar. Uppgift hämtad från Dödsorsaksregistret/AVI. Endast nyföddhetsperioden.",null,null,null,null,null,null,"","",null,null,null,null,null,null,false]
[{"$f":"IF($T38=FALSE, \"\", MAX(A$4:A37)+1)","v":""},null,"DIABETES","Diabetes mellitus","Moderns sjukdomar, diabetes mellitus (självrapporterad uppgift). Ej graviditetsdiabetes.",null,null,null,null,null,null,"","",null,null,null,null,null,null,false]
[{"$f":"IF($T39=FALSE, \"\", MAX(A$4:A38)+1)","v":""},null,"DKLASS","Överlevnad, nyföddhetsperioden ","Överlevnad, nyföddhetsperioden ",null,null,null,null,null,null,"","",null,null,null,null,null,null,false]
[{"$f":"IF($T40=FALSE, \"\", MAX(A$4:A39)+1)","v":""},null,"DODFOD","Dödfödd enl. FV2","Dödfödd enligt journaluppgift",null,null,null,null,null,null,"","",null,null,null,null,null,null,false]
[{"$f":"IF($T41=FALSE, \"\", MAX(A$4:A40)+1)","v":""},null,"DODKL","Dödsklockslag, barnet","Dödsklockslag, barnet",null,null,null,null,null,null,"","",null,null,null,null,null,null,false]
[{"$f":"IF($T42=FALSE, \"\", MAX(A$4:A41)+1)","v":""},null,"ELEKAKUT","Elektiv eller akut sectio","Elektivt/planerat eller akut sectio/kejsarsnitt. Uppgift där förlossning startat med kejsarsnitt före värkdebut. ",null,null,null,null,null,null,"","",null,null,null,null,null,null,false]
[{"$f":"IF($T43=FALSE, \"\", MAX(A$4:A42)+1)","v":""},null,"EPIBL","Epiduralblockad","Smärtlindring - Epiduralblockad/epiduralbedövning (EDA)",null,null,null,null,null,null,"","",null,null,null,null,null,null,false]
[{"$f":"IF($T44=FALSE, \"\", MAX(A$4:A43)+1)","v":""},null,"EPILEPSI","Epilepsi","Moderns sjukdomar, epilepsi (självrapporterad uppgift)",null,null,null,null,null,null,"","",null,null,null,null,null,null,false]
[{"$f":"IF($T45=FALSE, \"\", MAX(A$4:A44)+1)","v":""},null,"FAMSIT","Familjesituation","Familjesituation. Not. För år 1973-1982 kan variabeln CIVIL användas.",null,null,null,null,null,null,"","",null,null,null,null,null,null,false]
[{"$f":"IF($T46=FALSE, \"\", MAX(A$4:A45)+1)","v":""},null,"FBARN","Friskt barn","Friskt barn undersökt på BB. Not. Även om denna är ifylld kan barnen ha ICD-koder i BDIAGNOS.",null,null,null,null,null,null,"","",null,null,null,null,null,null,false]
[{"$f":"IF($T47=FALSE, \"\", MAX(A$4:A46)+1)","v":""},null,"FLINDUKT","Förlossningen startar med induktion","Förlossningen har startat med induktion",null,null,null,null,null,null,"","",null,null,null,null,null,null,false]
[{"$f":"IF($T48=FALSE, \"\", MAX(A$4:A47)+1)","v":""},null,"FLOP","Förlossningsoperation ","Förlossningsoperation (annan än kejsarsnitt, sugklocka, tång)",null,null,null,null,null,null,"","",null,null,null,null,null,null,false]
[{"$f":"IF($T49=FALSE, \"\", MAX(A$4:A48)+1)","v":""},null,"FLOP1-FLOP12","Moderns operation eller åtgärd 1-12","Moderns operation eller vårdåtgärd 1-12 vid förlossning  (KVÅ-kod)",null,null,null,null,null,null,"","",null,null,null,null,null,null,false]
[{"$f":"IF($T50=FALSE, \"\", MAX(A$4:A49)+1)","v":""},null,"FLSPONT","Förlossningen startar spontant","Förlossningen har startat spontant",null,null,null,null,null,null,"","",null,null,null,null,null,null,false]
[{"$f":"IF($T51=FALSE, \"\", MAX(A$4:A50)+1)","v":""},null,"FNAT","Medborgarskap, fadern (Grupperat på 11 kategorier)","Medborgarskap,  fadern (uppgift från Registret över totalbefolkningen, (RTB))","För enskilda länder krävs EPN godkännande",null,null,null,null,null,"","",null,null,null,null,null,null,false]
[{"$f":"IF($T52=FALSE, \"\", MAX(A$4:A51)+1)","v":""},null,"FODKL","Födelseklockslag","Födelseklockslag",null,null,null,null,null,null,"","",null,null,null,null,null,null,false]
[{"$f":"IF($T53=FALSE, \"\", MAX(A$4:A52)+1)","v":""},null,"GDIAG1-GDIAG4","Diagnos/åtgärd 1-4 under graviditet ","Moderns diagnos/operation alt. vårdåtgärd under graviditet (ICD- eller KVÅ-kod) ",null,null,null,null,null,null,"","",null,null,null,null,null,null,false]
[{"$f":"IF($T54=FALSE, \"\", MAX(A$4:A53)+1)","v":""},null,"GRDBS","Graviditetslängd bästa skattning, dagar","Graviditetslängd/gestationsålder bästa skattning i dagar. Not. Graviditetslängden är beräknad utifrån fördefinierade villkor med hänsyn till bl.a.  datering utifrån primärt ultraljud, sekundärt senaste menstruation osv. (se variabeln GRMETOD).",null,null,null,null,null,null,"","",null,null,null,null,null,null,false]
[{"$f":"IF($T55=FALSE, \"\", MAX(A$4:A54)+1)","v":""},null,"GRDFV","Graviditetslängd, dagar utöver fullb. veckor","Graviditetslängd/gestationsålder i dagar utöver fullbordade veckor enligt journaluppgift. Not. För att avgöra graviditetslängd i dagar rekommenderas att använda beräknade variabeln GRDBS.",null,null,null,null,null,null,"","",null,null,null,null,null,null,false]
[{"$f":"IF($T56=FALSE, \"\", MAX(A$4:A55)+1)","v":""},null,"GRMETOD","Graviditetslängd, metod för skattning","Graviditetslängd, metod för skattning (underlag för de beräknade variablerna GRVBS och GRDBS). ",null,null,null,null,null,null,"","",null,null,null,null,null,null,false]
[{"$f":"IF($T57=FALSE, \"\", MAX(A$4:A56)+1)","v":""},null,"GRVBS","Graviditetslängd bästa skattning, veckor","Graviditetslängd/gestationsålder bästa skattning i fullbordade veckor. Not. Graviditetslängden är beräknad utifrån fördefinierade villkor med hänsyn till bl.a.  datering utifrån primärt ultraljud, sekundärt senaste menstruation osv. (se variabeln GRMETOD).",null,null,null,null,null,null,"","",null,null,null,null,null,null,false]
[{"$f":"IF($T58=FALSE, \"\", MAX(A$4:A57)+1)","v":""},null,"GRVFV","Graviditetslängd, fullb. veckor ","Graviditetslängd/gestationsålder i fullbordade veckor enligt journaluppgift. Not. För att avgöra graviditetslängd i veckor rekommenderas att använda beräknade variabeln GRVBS.",null,null,null,null,null,null,"","",null,null,null,null,null,null,false]
[{"$f":"IF($T59=FALSE, \"\", MAX(A$4:A58)+1)","v":""},null,"HINNANT","Hinnor i skiljeväggen vid  tvillingbörd. ","Hinnor i skiljeväggen vid  tvillingbörd. Not. Andra värden förekommer.",null,null,null,null,null,null,"","",null,null,null,null,null,null,false]
[{"$f":"IF($T60=FALSE, \"\", MAX(A$4:A59)+1)","v":""},null,"HJMASS","Hjärtmassage (minuter)","Upplivningsåtgärder - Hjärtmassage,  minuter",null,null,null,null,null,null,"","",null,null,null,null,null,null,false]
[{"$f":"IF($T61=FALSE, \"\", MAX(A$4:A60)+1)","v":""},null,"HOMF","Huvudomfång (cm), pediatriskt","Huvudomfång, pediatriskt, cm",null,null,null,null,null,null,"","",null,null,null,null,null,null,false]
[{"$f":"IF($T62=FALSE, \"\", MAX(A$4:A61)+1)","v":""},null,"HYPERTON","Kronisk hypertoni ","Moderns sjukdomar, kronisk hypertoni (självrapporterad uppgift)",null,null,null,null,null,null,"","",null,null,null,null,null,null,false]
[{"$f":"IF($T63=FALSE, \"\", MAX(A$4:A62)+1)","v":""},null,"HYPNOS","Hypnos/suggestion","Smärtlindring - Hypnos/suggestion ",null,null,null,null,null,null,"","",null,null,null,null,null,null,false]
[{"$f":"IF($T64=FALSE, \"\", MAX(A$4:A63)+1)","v":""},null,"ICD","ICD version","ICD-version",null,null,null,null,null,null,"","",null,null,null,null,null,null,false]
[{"$f":"IF($T65=FALSE, \"\", MAX(A$4:A64)+1)","v":""},null,"IFSML","Ingen farmakologisk smärtlindring","Smärtlindring - Ingen farmakologisk smärtlindring",null,null,null,null,null,null,"","",null,null,null,null,null,null,false]
[{"$f":"IF($T66=FALSE, \"\", MAX(A$4:A65)+1)","v":""},null,"INDATFV","Inskrivningsdatum till förlossning","Inskrivningsdatum till förlossning. Not. vid beräkning av vårdtid används barnets födelsedatum/förlossningsdatum och utskrivningsdatum.",null,null,null,null,null,null,"","",null,null,null,null,null,null,false]
[{"$f":"IF($T67=FALSE, \"\", MAX(A$4:A66)+1)","v":""},null,"INDATMHV","Inskrivningsdatum vid MHV","Inskrivningsdatum. Första besöket på mödravårdcentralen",null,null,null,null,null,null,"","",null,null,null,null,null,null,false]
[{"$f":"IF($T68=FALSE, \"\", MAX(A$4:A67)+1)","v":""},null,"INFILT","Infiltration","Smärtlindring - Infiltration",null,null,null,null,null,null,{"$f":"IFERROR(INDEX(C$3:C$149,MATCH(ROW()-ROW(L$3),$A$3:$A$149,0)),\"\")","v":""},{"$f":"IFERROR(INDEX(D$3:D$149,MATCH(ROW()-ROW(M$3),$A$3:$A$149,0)),\"\")","v":""},null,null,null,null,null,null,false]
[{"$f":"IF($T69=FALSE, \"\", MAX(A$4:A68)+1)","v":""},null,"INTUB","Intubation ventilation (minuter)","Upplivningsåtgärder - Intubation ventilation, minuter",null,null,null,null,null,null,"","",null,null,null,null,null,null,false]
[{"$f":"IF($T70=FALSE, \"\", MAX(A$4:A69)+1)","v":""},null,"ISML","Ingen smärtlindring överhuvudtaget","Smärtlindring - Ingen smärtlindring överhuvudtaget",null,null,null,null,null,null,"","",null,null,null,null,null,null,false]
[{"$f":"IF($T71=FALSE, \"\", MAX(A$4:A70)+1)","v":""},null,"KLINIK","Klinikkod","Klinik/MVO/verksamhetsområde",null,null,null,null,null,null,"","",null,null,null,null,null,null,false]
[{"$f":"IF($T72=FALSE, \"\", MAX(A$4:A71)+1)","v":""},null,"KLIPP","Klipp","Klipp (perinealklipp, episiotomi) ",null,null,null,null,null,null,"","",null,null,null,null,null,null,false]
[{"$f":"IF($T73=FALSE, \"\", MAX(A$4:A72)+1)","v":""},null,"KLITORIS","Bristningar - klitoris","Bristningar - Klitoris. Not. Uppgift noterad i kryssruta i journalen. Kompletteras med fördel med ICD-kod (moderns diagnoser vid förlossning)",null,null,null,null,null,null,"","",null,null,null,null,null,null,false]
[{"$f":"IF($T74=FALSE, \"\", MAX(A$4:A73)+1)","v":""},null,"KON","Barnets kön","Barnets kön",null,null,null,null,null,null,"","",null,null,null,null,null,null,false]
[{"$f":"IF($T75=FALSE, \"\", MAX(A$4:A74)+1)","v":""},null,"KVADDLAR","Sterila kvaddlar","Smärtlindring - Kvaddlar",null,null,null,null,null,null,"","",null,null,null,null,null,null,false]
[{"$f":"IF($T76=FALSE, \"\", MAX(A$4:A75)+1)","v":""},null,"KVITAMIN","K-vitamin","K-vitamin",null,null,null,null,null,null,"","",null,null,null,null,null,null,false]
[{"$f":"IF($T77=FALSE, \"\", MAX(A$4:A76)+1)","v":""},null,"LKF LK","Moderns folkbokföringsort (Endast län och kommun)","Län-kommun-församling enligt SCB (då gällande indelning). Där modern är skriven vid förlossningsdatumet. ",null,null,null,null,null,null,"","",null,null,null,null,null,null,false]
[{"$f":"IF($T78=FALSE, \"\", MAX(A$4:A77)+1)","v":""},null,"LOKREG","Lokal registrering","Lokal registrering. Möjlighet för registrering av uppgifter som man vill studera närmare på regional eller lokal nivå.",null,null,null,null,null,null,"","",null,null,null,null,null,null,false]
[{"$f":"IF($T79=FALSE, \"\", MAX(A$4:A78)+1)","v":""},null,"LUSTGAS","Lustgas","Smärtlindring - Lustgas",null,null,null,null,null,null,"","",null,null,null,null,null,null,false]
[{"$f":"IF($T80=FALSE, \"\", MAX(A$4:A79)+1)","v":""},null,"MALDER","Moderns ålder ","Moderns ålder vid förlossning. Not. Beräknas primärt utifrån personnummer. Där enbart födelsedatum finns beräknas ålder utifrån år och månad och där enbart födelseår finns beräknas åldern utifrån denna uppgift.",null,null,null,null,null,null,"","",null,null,null,null,null,null,false]
[{"$f":"IF($T81=FALSE, \"\", MAX(A$4:A80)+1)","v":""},null,"MDIAG1-MDIAG12","Moderns diagnos 1-12","Moderns diagnos 1-12 vid förlossning (ICD-kod)",null,null,null,null,null,null,"","",null,null,null,null,null,null,false]
[{"$f":"IF($T82=FALSE, \"\", MAX(A$4:A81)+1)","v":""},null,"MDIAGNOS","Moderns diagnoser","Moderns diagnos 1-12 vid förlossning (ICD-koder)",null,null,null,null,null,null,"","",null,null,null,null,null,null,false]
[{"$f":"IF($T83=FALSE, \"\", MAX(A$4:A82)+1)","v":""},null,"MFLOP","Moderns operationer eller åtgärder. Ihopslagning av Flop1-Flop12","Moderns operationer eller vårdåtgärder 1-12 vid förlossning (KVÅ-koder)",null,null,null,null,null,null,"","",null,null,null,null,null,null,false]
[{"$f":"IF($T84=FALSE, \"\", MAX(A$4:A83)+1)","v":""},null,"MFODDAT","Moderns födelsedatum (Endast år-mån)","Moderns födelsedatum","För fullständigt datum krävs särskild motivering ",null,null,null,null,null,"","",null,null,null,null,null,null,false]
[{"$f":"IF($T85=FALSE, \"\", MAX(A$4:A84)+1)","v":""},null,"MFODLAND","Moderns födelseland (Grupperat på 11 kategorier)","Moderns födelseland (uppgift från Registret över totalbefolkningen, (RTB))","För enskilda länder krävs EPN godkännande",null,null,null,null,null,"","",null,null,null,null,null,null,false]
[{"$f":"IF($T86=FALSE, \"\", MAX(A$4:A85)+1)","v":""},null,"MHVNR","Mödrahälsovårdsnummer","Mödrahälsovårdsnummer enl. förteckning",null,null,null,null,null,null,"","",null,null,null,null,null,null,false]
[{"$f":"IF($T87=FALSE, \"\", MAX(A$4:A86)+1)","v":""},null,"MISSB","Finns missbildningsdiagnos","Missbildningsdiagnos. Not. Om barnet har ICD8- eller ICD9-diagnos i intervallet 740-759 eller ICD10-diagnos Q00-Q99. ",null,null,null,null,null,null,"","",null,null,null,null,null,null,false]
[{"$f":"IF($T88=FALSE, \"\", MAX(A$4:A87)+1)","v":""},null,"MLANGD","Moderns längd (cm)","Moderns längd i cm. För perioden 1982/83-1989/90 är uppgiften hämtad från FV1.",null,null,null,null,null,null,"","",null,null,null,null,null,null,false]
[{"$f":"IF($T89=FALSE, \"\", MAX(A$4:A88)+1)","v":""},null,"MLGA","Tung för tiden, LGA ","Tung för tiden, LGA. Not. Skattningen har baserats på Marsal et als metod. Endast enkelbörder.",null,null,null,null,null,null,"","",null,null,null,null,null,null,false]
[{"$f":"IF($T90=FALSE, \"\", MAX(A$4:A89)+1)","v":""},null,"MNAT","Medborgarskap, modern (Grupperat på 11 kategorier)","Medborgarskap modern (uppgift från Registret över totalbefolkningen, (RTB))","För enskilda länder krävs EPN godkännande",null,null,null,null,null,"","",null,null,null,null,null,null,false]
[{"$f":"IF($T91=FALSE, \"\", MAX(A$4:A90)+1)","v":""},null,"MSGA","Lätt för tiden, SGA ","Lätt för tiden, SGA. Not. Skattningen har baserats på Marsal et als metod. Endast enkelbörder.",null,null,null,null,null,null,"","",null,null,null,null,null,null,false]
[{"$f":"IF($T92=FALSE, \"\", MAX(A$4:A91)+1)","v":""},null,"MUTDAT","Moderns utskrivningsdatum från förlossning","Moderns utskrivningsdatum från förlossningsavdelning/BB",null,null,null,null,null,null,"","",null,null,null,null,null,null,false]
[{"$f":"IF($T93=FALSE, \"\", MAX(A$4:A92)+1)","v":""},null,"MUTSATT","Moderns utskrivningssätt","Moderns utskrivningssätt",null,null,null,null,null,null,"","",null,null,null,null,null,null,false]
[{"$f":"IF($T94=FALSE, \"\", MAX(A$4:A93)+1)","v":""},null,"MVIKT","Vikt (kg) vid inskrivning till MHV","Moderns vikt i kg vid inskrivning till MHV. För åren 1982-1989 har uppgiften beräknats utifrån information om vikt vid inskrivning till förlossning (MVIKTFV) och viktökning (MVIKTOKN). För år 1990-1991 saknas viktuppgifter helt.",null,null,null,null,null,null,"","",null,null,null,null,null,null,false]
[{"$f":"IF($T95=FALSE, \"\", MAX(A$4:A94)+1)","v":""},null,"MVIKTFV","Modern vikt (kg) vid förlossning","Moderns vikt i hela kg vid förlossning. Not. För perioden 1982-1989 kodades vikter över 98 kg till 99.  ",null,null,null,null,null,null,"","",null,null,null,null,null,null,false]
[{"$f":"IF($T96=FALSE, \"\", MAX(A$4:A95)+1)","v":""},null,"NARKOS","Allmän narkos","Smärtlindring -  Allmän narkos",null,null,null,null,null,null,"","",null,null,null,null,null,null,false]
[{"$f":"IF($T97=FALSE, \"\", MAX(A$4:A96)+1)","v":""},null,"NJURSJUK","Kronisk njursjukdom","Moderns sjukdomar, kronisk njursjukdom (självrapporterad uppgift)",null,null,null,null,null,null,"","",null,null,null,null,null,null,false]
[{"$f":"IF($T98=FALSE, \"\", MAX(A$4:A97)+1)","v":""},null,"OBDUKT","Obduktion, barnet","Obduktion, barnet",null,null,null,null,null,null,"","",null,null,null,null,null,null,false]
[{"$f":"IF($T99=FALSE, \"\", MAX(A$4:A98)+1)","v":""},null,"OFRIABEF","Åtgärd vid ofri. barnlöshet: assisterad befruktning","Åtgärd vid ofrivillig barnlöshet - Assisterad befruktning",null,null,null,null,null,null,"","",null,null,null,null,null,null,false]
[{"$f":"IF($T100=FALSE, \"\", MAX(A$4:A99)+1)","v":""},null,"OFRIANN","Åtgärd vid ofri. barnlöshet: annan","Annan åtgärd vid ofrivillig barnlöshet",null,null,null,null,null,null,{"$f":"IFERROR(INDEX(C$3:C$149,MATCH(ROW()-ROW(L$3),$A$3:$A$149,0)),\"\")","v":""},{"$f":"IFERROR(INDEX(D$3:D$149,MATCH(ROW()-ROW(M$3),$A$3:$A$149,0)),\"\")","v":""},null,null,null,null,null,null,false]
[{"$f":"IF($T101=FALSE, \"\", MAX(A$4:A100)+1)","v":""},null,"OFRIBARN","Ofrivillig barnlöshet (år)","Ofrivillig barnlöshet, antal år",null,null,null,null,null,null,"","",null,null,null,null,null,null,false]
[{"$f":"IF($T102=FALSE, \"\", MAX(A$4:A101)+1)","v":""},null,"OFRIIATG","Åtgärd vid ofri. barnlöshet: ingen","Ingen åtgärd vid ofrivillig barnlöshet",null,null,null,null,null,null,"","",null,null,null,null,null,null,false]
[{"$f":"IF($T103=FALSE, \"\", MAX(A$4:A102)+1)","v":""},null,"OFRIICSI","Åtgärd vid ofri. barnlöshet: ICSI","Åtgärd vid ofrivillig barnlöshet - ICSI (Intra cytoplasmatic spermieinjektion)",null,null,null,null,null,null,"","",null,null,null,null,null,null,false]
[{"$f":"IF($T104=FALSE, \"\", MAX(A$4:A103)+1)","v":""},null,"OFRIKIRU","Åtgärd vid ofri. barnlöshet: kirurgi","Åtgärd vid ofrivillig barnlöshet - Kirurgi",null,null,null,null,null,null,"","",null,null,null,null,null,null,false]
[{"$f":"IF($T105=FALSE, \"\", MAX(A$4:A104)+1)","v":""},null,"OFRISTIM","Åtgärd vid ofri. barnlöshet: ovulation stimulering","Åtgärd vid ofrivillig barnlöshet -  Ovulationsstimulering",null,null,null,null,null,null,"","",null,null,null,null,null,null,false]
[{"$f":"IF($T106=FALSE, \"\", MAX(A$4:A105)+1)","v":""},null,"PARABL","Paracervicalblockad","Smärtlindring - Paracervicalblockad (PCB)",null,null,null,null,null,null,"","",null,null,null,null,null,null,false]
[{"$f":"IF($T107=FALSE, \"\", MAX(A$4:A106)+1)","v":""},null,"PARITET","Paritet, barnets ordningsnummer","Barnets ordningsnummer. Not. Baserat på moderns antal tidigare födda barn inklusive aktuell födsel. Uppgift hämtad från SCB och MFR.",null,null,null,null,null,null,"","",null,null,null,null,null,null,false]
[{"$f":"IF($T108=FALSE, \"\", MAX(A$4:A107)+1)","v":""},null,"PARITET_F","Paritet, ordningsnummer för förlossning","Förlossningens ordningsnummer. Not. Baserat på moderns tidigare antal förlossningar inklusive aktuell förlossning. Uppgift hämtad från SCB och MFR.",null,null,null,null,null,null,"","",null,null,null,null,null,null,false]
[{"$f":"IF($T109=FALSE, \"\", MAX(A$4:A108)+1)","v":""},null,"PENTHRAN","Penthrane","Smärtlindring - Penthrane",null,null,null,null,null,null,"","",null,null,null,null,null,null,false]
[{"$f":"IF($T110=FALSE, \"\", MAX(A$4:A109)+1)","v":""},null,"PERINEUM","Bristningar - perineum","Bristningar - Perineum. Not. Uppgift noterad i kryssruta i journalen. Kompletteras med fördel med ICD-kod (moderns diagnoser vid förlossning)",null,null,null,null,null,null,"","",null,null,null,null,null,null,false]
[{"$f":"IF($T111=FALSE, \"\", MAX(A$4:A110)+1)","v":""},null,"PETIDIN","Petidin/morfinderivat","Smärtlindring - Petidin/morfinderivat",null,null,null,null,null,null,"","",null,null,null,null,null,null,false]
[{"$f":"IF($T112=FALSE, \"\", MAX(A$4:A111)+1)","v":""},null,"PLACENTA","Placentavikt (gram)","Placentavikt, gram",null,null,null,null,null,null,"","",null,null,null,null,null,null,false]
[{"$f":"IF($T113=FALSE, \"\", MAX(A$4:A112)+1)","v":""},null,"PSTOPDAT","Upphört med p-piller","Datum för upphörande med p-piller",null,null,null,null,null,null,"","",null,null,null,null,null,null,false]
[{"$f":"IF($T114=FALSE, \"\", MAX(A$4:A113)+1)","v":""},null,"PUDBL","Pudendusblockad","Smärtlindring - Pudendusblockad (PDB)",null,null,null,null,null,null,"","",null,null,null,null,null,null,false]
[{"$f":"IF($T115=FALSE, \"\", MAX(A$4:A114)+1)","v":""},null,"REKTUM","Bristningar - rektum","Bristningar - Rektum. Not. Uppgift noterad i kryssruta i journalen. Kompletteras med fördel med ICD-kod (moderns diagnoser vid förlossning)",null,null,null,null,null,null,"","",null,null,null,null,null,null,false]
[{"$f":"IF($T116=FALSE, \"\", MAX(A$4:A115)+1)","v":""},null,"ROK0-ROK2","Rökning 3 månader före / vid inskrivning till MHV / vecka 30-32","Rökning 3 månader före aktuell graviditet. Självrapporterad uppgift där modern tillfrågats vid inskrivningen till MHV.","Bör användas i kombination med SNUS0-2",null,null,null,null,null,"","",null,null,null,null,null,null,false]
[{"$f":"IF($T117=FALSE, \"\", MAX(A$4:A116)+1)","v":""},null,"SECAVSL","Förlossningen avslutas med kejsarsnitt","Förlossningen avslutas med kejsarsnitt. Not. Variabeln SECMARK anger kejsarsnitt oavsett om akut eller elektivt. ",null,null,null,null,null,null,"","",null,null,null,null,null,null,false]
[{"$f":"IF($T118=FALSE, \"\", MAX(A$4:A117)+1)","v":""},null,"SECFORE","Förlossningen startas med kejsarsnitt","Förlossningen har startat med kejsarsnitt",null,null,null,null,null,null,"","",null,null,null,null,null,null,false]
[{"$f":"IF($T119=FALSE, \"\", MAX(A$4:A118)+1)","v":""},null,"SECMARK","Kejsarsnitt, markering","Kejsarsnitt, oavsett om akut eller elektivt. Baserad på information från kryssruta i journal, \ndiagnos- och åtgärdskoder.\n",null,null,null,null,null,null,"","",null,null,null,null,null,null,false]
[{"$f":"IF($T120=FALSE, \"\", MAX(A$4:A119)+1)","v":""},null,"SECTIO","Sectio- elektivt eller ej elektivt","Sectio/kejsarsnitt - Elektivt eller ej elektivt",null,null,null,null,null,null,"","",null,null,null,null,null,null,false]
[{"$f":"IF($T121=FALSE, \"\", MAX(A$4:A120)+1)","v":""},null,"SEDATIVA","Sedativa hypnotika","Smärtlindring - Sedativa hypnotika",null,null,null,null,null,null,"","",null,null,null,null,null,null,false]
[{"$f":"IF($T122=FALSE, \"\", MAX(A$4:A121)+1)","v":""},null,"SFINKTER","Bristningar - sfinkter","Bristningar - Sfinkter. Not. Uppgift noterad i kryssruta i journalen. Kompletteras med fördel med ICD-kod (moderns diagnoser vid förlossning)",null,null,null,null,null,null,"","",null,null,null,null,null,null,false]
[{"$f":"IF($T123=FALSE, \"\", MAX(A$4:A122)+1)","v":""},null,"SJUKHUS","Sjukhuskod, rapporterad","Sjukhuskod, rapporterad",null,null,null,null,null,null,"","",null,null,null,null,null,null,false]
[{"$f":"IF($T124=FALSE, \"\", MAX(A$4:A123)+1)","v":""},null,"SJUKHUS_S","Sjukhuskod, rensad","Sjukhuskod, giltiga koder för aktuellt år ",null,null,null,null,null,null,"","",null,null,null,null,null,null,false]
[{"$f":"IF($T125=FALSE, \"\", MAX(A$4:A124)+1)","v":""},null,"SLE","SLE","Moderns sjukdomar, SLE (systemisk lupus erythematosus )",null,null,null,null,null,null,"","",null,null,null,null,null,null,false]
[{"$f":"IF($T126=FALSE, \"\", MAX(A$4:A125)+1)","v":""},null,"SMDAT","Senaste menstruation","Datum för senaste menstruationens första dag",null,null,null,null,null,null,"","",null,null,null,null,null,null,false]
[{"$f":"IF($T127=FALSE, \"\", MAX(A$4:A126)+1)","v":""},null,"SNUS0-SNUS2","Snusning 3 månader före / vid inskrivning till MHV / vecka 30-32","Snusning 3 månader före aktuell graviditet. Självrapporterad uppgift där modern tillfrågats vid inskrivningen till MHV.","Bör användas i kombination med ROK0-2",null,null,null,null,null,"","",null,null,null,null,null,null,false]
[{"$f":"IF($T128=FALSE, \"\", MAX(A$4:A127)+1)","v":""},null,"SPGRAV","Spiral kvar i livmoder","Spiralgraviditet ",null,null,null,null,null,null,"","",null,null,null,null,null,null,false]
[{"$f":"IF($T129=FALSE, \"\", MAX(A$4:A128)+1)","v":""},null,"SPINAL","Spinal","Smärtlindring - Spinal",null,null,null,null,null,null,"","",null,null,null,null,null,null,false]
[{"$f":"IF($T130=FALSE, \"\", MAX(A$4:A129)+1)","v":""},null,"SPUTDAT","Spiral uttagen","Datum för uttag av spiral",null,null,null,null,null,null,"","",null,null,null,null,null,null,false]
[{"$f":"IF($T131=FALSE, \"\", MAX(A$4:A130)+1)","v":""},null,"SUGKLOCK","Förlossningen avslutas med sugklocka ","Förlossningen har avslutats med sugklocka. Not. Variabeln SUGMARK anger om sugklocka använts någon gång under förlossningen. ",null,null,null,null,null,null,"","",null,null,null,null,null,null,false]
[{"$f":"IF($T132=FALSE, \"\", MAX(A$4:A131)+1)","v":""},null,"SUGMARK","Sugklocka, markering ","Sugklocka. Anger om sugklocka använts någon gång under förlossningen. Baserad på information från kryssruta i journal, diagnos- och åtgärdskoder.\n",null,null,null,null,null,null,{"$f":"IFERROR(INDEX(C$3:C$149,MATCH(ROW()-ROW(L$3),$A$3:$A$149,0)),\"\")","v":""},{"$f":"IFERROR(INDEX(D$3:D$149,MATCH(ROW()-ROW(M$3),$A$3:$A$149,0)),\"\")","v":""},null,null,null,null,null,null,false]
[{"$f":"IF($T133=FALSE, \"\", MAX(A$4:A132)+1)","v":""},null,"TANG","Förlossningen avslutas med tång","Förlossningen har avslutats med tång. Not. Variabeln TANGMARK anger om förlossningstång använts någon gång under förlossningen. ",null,null,null,null,null,null,"","",null,null,null,null,null,null,false]
[{"$f":"IF($T134=FALSE, \"\", MAX(A$4:A133)+1)","v":""},null,"TANGMARK","Tång, markering","Tång. Anger om förlossningstång använts någon gång under förlossningen. Baserad på information från kryssruta i journal, \ndiagnos- och åtgärdskoder.",null,null,null,null,null,null,"","",null,null,null,null,null,null,false]
[{"$f":"IF($T135=FALSE, \"\", MAX(A$4:A134)+1)","v":""},null,"TID7DOD","Antal döda barn inom 0-6 dygn","Tidigare graviditeter, antal döda barn inom 0-6 dygn",null,null,null,null,null,null,"","",null,null,null,null,null,null,false]
[{"$f":"IF($T136=FALSE, \"\", MAX(A$4:A135)+1)","v":""},null,"TIDDODF","Antal dödfödda barn","Tidigare graviditeter, antal dödfödda barn",null,null,null,null,null,null,"","",null,null,null,null,null,null,false]
[{"$f":"IF($T137=FALSE, \"\", MAX(A$4:A136)+1)","v":""},null,"TIDLEVF","Antal levande födda barn","Tidigare graviditeter, antal levande födda barn",null,null,null,null,null,null,"","",null,null,null,null,null,null,false]
[{"$f":"IF($T138=FALSE, \"\", MAX(A$4:A137)+1)","v":""},null,"TIDSDOD","Antal senare döda barn","Tidigare graviditeter, antal senare döda barn",null,null,null,null,null,null,"","",null,null,null,null,null,null,false]
[{"$f":"IF($T139=FALSE, \"\", MAX(A$4:A138)+1)","v":""},null,"TIDSPOAB","Antal tidigare spontan abort","Tidigare graviditeter, antal spontanaborter (missfall)",null,null,null,null,null,null,"","",null,null,null,null,null,null,false]
[{"$f":"IF($T140=FALSE, \"\", MAX(A$4:A139)+1)","v":""},null,"TIDXGRAV","Antal X-graviditeter","Tidigare graviditeter, antal X-graviditeter (dvs. extrauterina graviditeter,  utomkvedshavandeskap)",null,null,null,null,null,null,"","",null,null,null,null,null,null,false]
[{"$f":"IF($T141=FALSE, \"\", MAX(A$4:A140)+1)","v":""},null,"TNS","TNS","Smärtlindring -  Transkutan elektrisk nervstimulering (TENS)",null,null,null,null,null,null,"","",null,null,null,null,null,null,false]
[{"$f":"IF($T142=FALSE, \"\", MAX(A$4:A141)+1)","v":""},null,"TSECAR","Tidigare sectio, år","Årtal för tidigare sectio/kejsarsnitt. Beräknad med hjälp av moderns tidigare förlossningar i MFR samt uppgift i FV1",null,null,null,null,null,null,"","",null,null,null,null,null,null,false]
[{"$f":"IF($T143=FALSE, \"\", MAX(A$4:A142)+1)","v":""},null,"TSECTIO","Tidigare sectio","Tidigare sectio/kejsarsnitt. Beräknad med hjälp av moderns tidigare förlossningar i MFR samt uppgift i FV1",null,null,null,null,null,null,"","",null,null,null,null,null,null,false]
[{"$f":"IF($T144=FALSE, \"\", MAX(A$4:A143)+1)","v":""},null,"ULCOLIT","Ulcerös colit el Mb Crohn","Moderns sjukdomar, ulcerös colit el Mb Crohn, inflammatorisk tarmsjukdom (självrapporterad uppgift)",null,null,null,null,null,null,"","",null,null,null,null,null,null,false]
[{"$f":"IF($T145=FALSE, \"\", MAX(A$4:A144)+1)","v":""},null,"URINVINF","Upprepade urinväginfektioner","Moderns sjukdomar, upprepade urinväginfektioner (självrapporterad uppgift)",null,null,null,null,null,null,"","",null,null,null,null,null,null,false]
[{"$f":"IF($T146=FALSE, \"\", MAX(A$4:A145)+1)","v":""},null,"VAGINA","Bristningar - vagina","Bristningar - Vagina. Not. Uppgift noterad i kryssruta i journalen. Kompletteras med fördel med ICD-kod (moderns diagnoser vid förlossning)",null,null,null,null,null,null,"","",null,null,null,null,null,null,false]
[{"$f":"IF($T147=FALSE, \"\", MAX(A$4:A146)+1)","v":""},null,"VAGINAL","Förlossningen avslutas vaginalt","Förlossningen har avslutats vaginalt",null,null,null,null,null,null,"","",null,null,null,null,null,null,false]
[{"$f":"IF($T148=FALSE, \"\", MAX(A$4:A147)+1)","v":""},null,"VENT","Ventilation på mask (minuter)","Upplivningsåtgärder - Ventilation på mask, minuter",null,null,null,null,null,null,"","",null,null,null,null,null,null,false]
[{"$f":"IF($T149=FALSE, \"\", MAX(A$4:A148)+1)","v":""},null,"YRKE","Yrke","Moders yrke vid inskrivning till mödrahälsovården.  Annan information förekommer, t.ex. studier, föräldraledighet och sjukskrivning",null,null,null,null,null,null,"","",null,null,null,null,null,null,false]

{"sheet":"PAR_SV","index":17,"n_rows":47,"n_cols":20,"rows_kept":47,"cut":false,"hidden":true,"merged":[]}
[null,null,null,"Patientregistret Slutenvård"]
[]
["#","Val","Variabel","Klartext","Definition","Kommentar",null,null,null,null,null,"Variabel","Klartext",null,null,"Auto-kryssa:"]
[{"$f":"IF($T4=FALSE, \"\", MAX(A$3:A3)+1)","v":""},null,"ALDER","Ålder","Ålder vid utskrivningsdatum",null,null,null,null,null,null,{"$f":"IFERROR(INDEX(C$3:C$46,MATCH(ROW()-ROW(L$3),$A$3:$A$46,0)),\"\")","v":""},{"$f":"IFERROR(INDEX(D$3:D$46,MATCH(ROW()-ROW(M$3),$A$3:$A$46,0)),\"\")","v":""},null,null,null,null,null,null,false]
[{"$f":"IF($T5=FALSE, \"\", MAX(A$4:A4)+1)","v":""},null,"ALDER_S","Ålder","Ålder vid slutet av året",null,null,null,null,null,null,"","",null,null,null,null,null,null,false]
[{"$f":"IF($T6=FALSE, \"\", MAX(A$4:A5)+1)","v":""},null,"ANE1","Anestesikod 1","Anestesikod 1",null,null,null,null,null,null,"","",null,null,null,null,null,null,false]
[{"$f":"IF($T7=FALSE, \"\", MAX(A$4:A6)+1)","v":""},null,"ANE2","Anestesikod 2","Anestesikod 2",null,null,null,null,null,null,"","",null,null,null,null,null,null,false]
[{"$f":"IF($T8=FALSE, \"\", MAX(A$4:A7)+1)","v":""},null,"AR","År","Utskrivningsår",null,null,null,null,null,null,"","",null,null,null,null,null,null,false]
[{"$f":"IF($T9=FALSE, \"\", MAX(A$4:A8)+1)","v":""},null,"ATC","ATC-diagnoskoder","Läkemedel enligt ATC-kod",null,null,null,null,null,null,"","",null,null,null,null,null,null,false]
[{"$f":"IF($T10=FALSE, \"\", MAX(A$4:A9)+1)","v":""},null,"ATCO","ATC-åtgärdskoder","Läkemedel enligt ATC-kod. Max 30 koder.",null,null,null,null,null,null,"","",null,null,null,null,null,null,false]
[{"$f":"IF($T11=FALSE, \"\", MAX(A$4:A10)+1)","v":""},null,"AVTAL","Avtal","Vårdersättningen regleras enligt avtal",null,null,null,null,null,null,"","",null,null,null,null,null,null,false]
[{"$f":"IF($T12=FALSE, \"\", MAX(A$4:A11)+1)","v":""},null,"CIVIL","Civilstånd","Patientens civilstånd",null,null,null,null,null,null,"","",null,null,null,null,null,null,false]
[{"$f":"IF($T13=FALSE, \"\", MAX(A$4:A12)+1)","v":""},null,"DIA_ANT","Antal diagnoser","Antal inrapporterade diagnoser, kan vara mer än 30",null,null,null,null,null,null,"","",null,null,null,null,null,null,false]
[{"$f":"IF($T14=FALSE, \"\", MAX(A$4:A13)+1)","v":""},null,"DIAGNOS","Diagnoser","Diagnoser enligt ICD-klassifikation max 30 koder","Rekommenderad variabel",null,null,null,null,null,"","",null,null,null,null,null,null,false]
[{"$f":"IF($T15=FALSE, \"\", MAX(A$4:A14)+1)","v":""},null,"DRG","Diagnosrelaterad grupp","Diagnosrelaterad gruppering, kan anta ca 550 värden.",null,null,null,null,null,null,"","",null,null,null,null,null,null,false]
[{"$f":"IF($T16=FALSE, \"\", MAX(A$4:A15)+1)","v":""},null,"EKOD1-EKOD5","Yttre orsakskod 1-5","Skadediagnos -yttre orsakskod. Se ICD-kodlista","Rekommenderad variabel",null,null,null,null,null,"","",null,null,null,null,null,null,false]
[{"$f":"IF($T17=FALSE, \"\", MAX(A$4:A16)+1)","v":""},null,"FLAND","Födelseland (Grupperat på 11 kategorier)","Patientens födelseland","För enskilda länder krävs EPN godkännande",null,null,null,null,null,"","",null,null,null,null,null,null,false]
[{"$f":"IF($T18=FALSE, \"\", MAX(A$4:A17)+1)","v":""},null,"FODDAT","Födelsedatum (Endast år-mån)","Patientens födelsedatum","För fullständigt datum krävs särskild motivering ",null,null,null,null,null,"","",null,null,null,null,null,null,false]
[{"$f":"IF($T19=FALSE, \"\", MAX(A$4:A18)+1)","v":""},null,"HDIA","Huvuddiagnoskod markering","Angiven huvuddiagnos","Rekommenderad variabel",null,null,null,null,null,"","",null,null,null,null,null,null,false]
[{"$f":"IF($T20=FALSE, \"\", MAX(A$4:A19)+1)","v":""},null,"INDATUM","Inskrivningsdatum numeriskt format","Det datum då patienten skrivs in. Antal dagar från år 1960-01-01 fram t.o.m. INDATUM","Numeriskt format, större bortfall än dess alfanumeriska motsvarighet.",null,null,null,null,null,"","",null,null,null,null,null,null,false]
[{"$f":"IF($T21=FALSE, \"\", MAX(A$4:A20)+1)","v":""},null,"INDATUMA","Inskrivningsdatum alfanumeriskt format","Det datum då patienten skrivs in","Rekommenderad variabel, har ett mindre bortfall än INDATUM",null,null,null,null,null,"","",null,null,null,null,null,null,false]
[{"$f":"IF($T22=FALSE, \"\", MAX(A$4:A21)+1)","v":""},null,"INSATT","Inskrivningssätt ","På vilket sätt patienten skrivits in",null,null,null,null,null,null,"","",null,null,null,null,null,null,false]
[{"$f":"IF($T23=FALSE, \"\", MAX(A$4:A22)+1)","v":""},null,"KON","Kön","Patientens kön",null,null,null,null,null,null,"","",null,null,null,null,null,null,false]
[{"$f":"IF($T24=FALSE, \"\", MAX(A$4:A23)+1)","v":""},null,"LKF LK","Folkbokföringsort (Endast län och kommun)","Patientens hemort efter kontroll mot SCB",null,null,null,null,null,null,"","",null,null,null,null,null,null,false]
[{"$f":"IF($T25=FALSE, \"\", MAX(A$4:A24)+1)","v":""},null,"LKF_IN","Rapporterad hemort (Endast län och kommun)","Patientens hemort enligt inrapportör",null,null,null,null,null,null,"","",null,null,null,null,null,null,false]
[{"$f":"IF($T26=FALSE, \"\", MAX(A$4:A25)+1)","v":""},null,"LT_IN","rapportör","Vem som skickat in data - Privat vårdgivare eller landsting",null,null,null,null,null,null,"","",null,null,null,null,null,null,false]
[{"$f":"IF($T27=FALSE, \"\", MAX(A$4:A26)+1)","v":""},null,"LT_KLIN","Klinik","Klinik som patienten skrevs ut från","Kombinationen MVO + SJUKHUS rekommenderas ",null,null,null,null,null,"","",null,null,null,null,null,null,false]
[{"$f":"IF($T28=FALSE, \"\", MAX(A$4:A27)+1)","v":""},null,"MDC","DRG-kapitel","DRG-kapitel",null,null,null,null,null,null,"","",null,null,null,null,null,null,false]
[{"$f":"IF($T29=FALSE, \"\", MAX(A$4:A28)+1)","v":""}," ","MVO","Medicinskt verksamhetsområde","Medicinskt verksamhetsområde som patienten skrevs ut från",null,null,null,null,null,null,"","",null,null,null,null,null,null,false]
[{"$f":"IF($T30=FALSE, \"\", MAX(A$4:A29)+1)","v":""},null,"NATION","Medborgarskap (Grupperat på 11 kategorier)","Patientens medborgarskapsland","För enskilda länder krävs EPN godkännande",null,null,null,null,null,"","",null,null,null,null,null,null,false]
[{"$f":"IF($T31=FALSE, \"\", MAX(A$4:A30)+1)","v":""},null,"OP","Åtgärder","Åtgärdkoder max 30 åtgärder",null,null,null,null,null,null,"","",null,null,null,null,null,null,false]
[{"$f":"IF($T32=FALSE, \"\", MAX(A$4:A31)+1)","v":""},null,"OP_ANT","Antalet åtgärder","Antal inrapporterade åtgärder, kan vara mer än 30",null,null,null,null,null,null,"","",null,null,null,null,null,null,false]
[{"$f":"IF($T33=FALSE, \"\", MAX(A$4:A32)+1)","v":""},null,"OPD1-OPD30","Åtgärdsdatum 1-30","Datum då åtgärden 1 utfördes",null,null,null,null,null,null,"","",null,null,null,null,null,null,false]
[{"$f":"IF($T34=FALSE, \"\", MAX(A$4:A33)+1)","v":""},null,"PSVARD","Psykiatrisk vårdform","Psykiatrisk vårdform","Tillför sällan relevant information, MVO+DIAGNOS rekommenderas",null,null,null,null,null,"","",null,null,null,null,null,null,false]
[{"$f":"IF($T35=FALSE, \"\", MAX(A$4:A34)+1)","v":""},null,"PVARD","Planerad vårdkontakt","Anger om vårdtillfället varit planerat eller ej",null,null,null,null,null,null,"","",null,null,null,null,null,null,false]
[{"$f":"IF($T36=FALSE, \"\", MAX(A$4:A35)+1)","v":""},null,"RTC","Kvalitetsvariabel-DRG","En fellista som listar registrets felaktigheter efter procentuell fördelning",null,null,null,null,null,null,"","",null,null,null,null,null,null,false]
[{"$f":"IF($T37=FALSE, \"\", MAX(A$4:A36)+1)","v":""},null,"SENINV","Invandring","Senaste invandring",null,null,null,null,null,null,"","",null,null,null,null,null,null,false]
[{"$f":"IF($T38=FALSE, \"\", MAX(A$4:A37)+1)","v":""},null,"SENUTV","Utvandring","Senaste utvandring",null,null,null,null,null,null,"","",null,null,null,null,null,null,false]
[{"$f":"IF($T39=FALSE, \"\", MAX(A$4:A38)+1)","v":""},null,"SJUKHUS","Sjukhus","Sjukhus vid vilken patienten skrivits ut från",null,null,null,null,null,null,"","",null,null,null,null,null,null,false]
[{"$f":"IF($T40=FALSE, \"\", MAX(A$4:A39)+1)","v":""},null,"START","Startdatum för psykiatrisk vårdform","Startdatum för psykiatrisk vårdform","Ska alltid beställas med PSVARD och SLUT",null,null,null,null,null,null,null,null,null,null,null,null,null,false]
[{"$f":"IF($T41=FALSE, \"\", MAX(A$4:A40)+1)","v":""},null,"SLUT","Slutdatum för psykiatrisk vårdform","Slutdatum för psykiatrisk vårdform","Ska alltid beställas med PSVARD och START",null,null,null,null,null,null,null,null,null,null,null,null,null,false]
[{"$f":"IF($T42=FALSE, \"\", MAX(A$4:A41)+1)","v":""},null,"UTDATUM","Utskrivningsdatum","Det datum då patienten skrivs ut","Numeriskt format, större bortfall än dess alfanumeriska motsvarighet.",null,null,null,null,null,"","",null,null,null,null,null,null,false]
[{"$f":"IF($T43=FALSE, \"\", MAX(A$4:A42)+1)","v":""},null,"UTDATUMA","Utskrivningsdatum","Det datum då patienten skrivs ut","Rekommenderad variabel",null,null,null,null,null,"","",null,null,null,null,null,null,false]
[{"$f":"IF($T44=FALSE, \"\", MAX(A$4:A43)+1)","v":""},null,"UTSATT","Utskrivningssätt","Utskrivningssätt",null,null,null,null,null,null,"","",null,null,null,null,null,null,false]
[{"$f":"IF($T45=FALSE, \"\", MAX(A$4:A44)+1)","v":""},null,"VTF_ID","Unik identifierare UTPV/LTÅÅÅÅNNNNNNNN","PV för privatist, LT för landsting ÅÅÅÅ= statistikår;  N = Löpnummer","Administrativ variabel, sällan relevant för forskning",null,null,null,null,null,"","",null,null,null,null,null,null,false]
[{"$f":"IF($T46=FALSE, \"\", MAX(A$4:A45)+1)","v":""},null,"VTID","Vårdtid","Utdatum - indatum, antal dagar",null,null,null,null,null,null,"","",null,null,null,null,null,null,false]
[null,null,null,null,null,null,null,null,null,null,null,null,null,null,null,null,null,null,null,false]

{"sheet":"PAR_OV","index":18,"n_rows":79,"n_cols":20,"rows_kept":79,"cut":false,"hidden":true,"merged":[]}
[null,null,null,"Patientregistret Öppenvård"]
[]
["#","Val","Variabel","Klartext","Definition","Kommentar",null,null,null,null,null,"Variabel","Klartext",null,null,"Auto-kryssa:",null,null,null,true]
[{"$f":"IF($T4=FALSE, \"\", MAX(A$3:A3)+1)","v":""},null,"ALDER","Ålder ","Ålder vid besök",null,null,null,null,null,null,{"$f":"IFERROR(INDEX(C$4:C$43,MATCH(ROW()-ROW(L$3),$A$4:$A$43,0)),\"\")","v":""},{"$f":"IFERROR(INDEX(D$4:D$43,MATCH(ROW()-ROW(M$3),$A$4:$A$43,0)),\"\")","v":""},null,null,null,null,null,null,false]
[{"$f":"IF($T5=FALSE, \"\", MAX(A$4:A4)+1)","v":""},null,"ALDER_S","Ålder","Ålder vid årets slut",null,null,null,null,null,null,"","",null,null,null,null,null,null,false]
[{"$f":"IF($T6=FALSE, \"\", MAX(A$4:A5)+1)","v":""},null,"ANE1","Anestesikod","Anestesikod 1",null,null,null,null,null,null,"","",null,null,null,null,null,null,false]
[{"$f":"IF($T7=FALSE, \"\", MAX(A$4:A6)+1)","v":""},null,"ANE2","Anestesikod","Anestesikod 2",null,null,null,null,null,null,"","",null,null,null,null,null,null,false]
[{"$f":"IF($T8=FALSE, \"\", MAX(A$4:A7)+1)","v":""},null,"AR","År","Besöksår",null,null,null,null,null,null,"","",null,null,null,null,null,null,false]
[{"$f":"IF($T9=FALSE, \"\", MAX(A$4:A8)+1)","v":""},null,"ATC","ATC-diagnoskoder","Läkemedel enligt ATC-kod lista. Max 30 koder",null,null,null,null,null,null,"","",null,null,null,null,null,null,false]
[{"$f":"IF($T10=FALSE, \"\", MAX(A$4:A8)+1)","v":""},null,"ATCO","ATC-åtgärdskoder","Läkemedel enligt ATC-kod lista max 30 koder",null,null,null,null,null,null,"","",null,null,null,null,null,null,false]
[{"$f":"IF($T11=FALSE, \"\", MAX(A$4:A9)+1)","v":""},null,"BED_AKUT_TIDPUNKT","Tidpunkt för läkarbedömning på akutmottagning","Tidpunkt för läkarbedömning på akutmottagning","Registreras från och med 2016 ",null,null,null,null,null,"","",null,null,null,null,null,null,false]
[{"$f":"IF($T12=FALSE, \"\", MAX(A$4:A11)+1)","v":""},null,"CIVIL","Civilstånd","Patientens civilstånd",null,null,null,null,null,null,"","",null,null,null,null,null,null,false]
[{"$f":"IF($T13=FALSE, \"\", MAX(A$4:A12)+1)","v":""},null,"DIA_ANT","Antal diagnoser","Antal inrapporterade diagnoser, kan vara mer än 30",null,null,null,null,null,null,"","",null,null,null,null,null,null,false]
[{"$f":"IF($T14=FALSE, \"\", MAX(A$4:A13)+1)","v":""},null,"DIAGNOS","Diagnoser","Diagnoser enligt ICD-klassifikation. Max 30 diagnoser","Rekommenderad variabel",null,null,null,null,null,"","",null,null,null,null,null,null,false]
[{"$f":"IF($T15=FALSE, \"\", MAX(A$4:A14)+1)","v":""},null,"DRG","Diagnosrelaterad grupp","Diagnosrelaterad gruppering, kan anta ca 550 värden.",null,null,null,null,null,null,"","",null,null,null,null,null,null,false]
[{"$f":"IF($T16=FALSE, \"\", MAX(A$4:A15)+1)","v":""},null,"EKOD1-EKOD7","Yttre orsakskod 1-7","Yttre orsakskod 1","Rekommenderad variabel",null,null,null,null,null,"","",null,null,null,null,null,null,false]
[{"$f":"IF($T17=FALSE, \"\", MAX(A$4:A16)+1)","v":""},null,"FLAND","Födelseland (Grupperat på 11 kategorier)","Patientens födelseland","För enskilda länder krävs EPN godkännande",null,null,null,null,null,"","",null,null,null,null,null,null,false]
[{"$f":"IF($T18=FALSE, \"\", MAX(A$4:A17)+1)","v":""},null,"FODDAT","Födelsedatum (Endast år-mån)","Patientens födelsedatum","För fullständigt datum krävs särskild motivering ",null,null,null,null,null,"","",null,null,null,null,null,null,false]
[{"$f":"IF($T19=FALSE, \"\", MAX(A$4:A18)+1)","v":""},null,"HDIA","Huvuddiagnoskod","Angiven huvuddiagnos","Rekommenderad variabel",null,null,null,null,null,"","",null,null,null,null,null,null,false]
[{"$f":"IF($T20=FALSE, \"\", MAX(A$4:A18)+1)","v":""},null,"IN_AKUT_TIDPUNKT","Tidpunkt för start av besök på akutmottagning","Tidpunkt för start av besök på akutmottagning","Registreras från och med 2016 ",null,null,null,null,null,"","",null,null,null,null,null,null,false]
[{"$f":"IF($T21=FALSE, \"\", MAX(A$4:A19)+1)","v":""},null,"INDATUM","Besöksdatum","Datum för öppenvårdkontakt. Numerisk","Numeriskt format, större bortfall än dess alfanumeriska motsvarighet.",null,null,null,null,null,"","",null,null,null,null,null,null,false]
[{"$f":"IF($T22=FALSE, \"\", MAX(A$4:A21)+1)","v":""},null,"INDATUMA","Besöksdatum","Datum för öppenvårdkontakt. Text","Rekommenderad variabel, har ett mindre bortfall än INDATUM",null,null,null,null,null,"","",null,null,null,null,null,null,false]
[{"$f":"IF($T23=FALSE, \"\", MAX(A$4:A22)+1)","v":""},null,"KON","Kön","Patientens kön",null,null,null,null,null,null,"","",null,null,null,null,null,null,false]
[{"$f":"IF($T24=FALSE, \"\", MAX(A$4:A23)+1)","v":""},null,"KTYP","Form av öppenvårdskontakt","Form av öppenvårdskontakt",null,null,null,null,null,null,"","",null,null,null,null,null,null,false]
[{"$f":"IF($T25=FALSE, \"\", MAX(A$4:A24)+1)","v":""},null,"LKF LK","Folkbokföringsort (Endast län och kommun)","Patientens hemort efter kontroll mot SCB",null,null,null,null,null,null,"","",null,null,null,null,null,null,false]
[{"$f":"IF($T26=FALSE, \"\", MAX(A$4:A25)+1)","v":""},null,"LKF_IN","Rapporterad folkbokföringsort (Endast län och kommun)","Patientens  folkbokföringsort\nenligt inrapportör",null,null,null,null,null,null,"","",null,null,null,null,null,null,false]
[{"$f":"IF($T27=FALSE, \"\", MAX(A$4:A26)+1)","v":""},null,"LT_IN","Rapportör","Vem som skickat in data - Privat vårdgivare eller landsting",null,null,null,null,null,null,"","",null,null,null,null,null,null,false]
[{"$f":"IF($T28=FALSE, \"\", MAX(A$4:A27)+1)","v":""},null,"LT_KLIN","Klinik","Klinik som patienten skrevs ut från","Kombinationen MVO + SJUKHUS rekommenderas",null,null,null,null,null,"","",null,null,null,null,null,null,false]
[{"$f":"IF($T29=FALSE, \"\", MAX(A$4:A28)+1)","v":""},null,"MDC","DRG-kapitel","DRG-kapitel",null,null,null,null,null,null,"","",null,null,null,null,null,null,false]
[{"$f":"IF($T30=FALSE, \"\", MAX(A$4:A29)+1)","v":""},null,"MVO","Medicinskt verksamhetsområde","Medicinskt verksamhetsområde som patienten skrevs ut från",null,null,null,null,null,null,"","",null,null,null,null,null,null,false]
[{"$f":"IF($T31=FALSE, \"\", MAX(A$4:A30)+1)","v":""},null,"NATION","Medborgarskap (Grupperat på 11 kategorier)","Patientens medborgarskapsland","För enskilda länder krävs EPN godkännande",null,null,null,null,null,"","",null,null,null,null,null,null,false]
[{"$f":"IF($T32=FALSE, \"\", MAX(A$4:A31)+1)","v":""},null,"OP","Åtgärder","Åtgärdkoder max 30 åtgärder",null,null,null,null,null,null,"","",null,null,null,null,null,null,false]
[{"$f":"IF($T33=FALSE, \"\", MAX(A$4:A32)+1)","v":""},null,"OP_ANT","Antalet åtgärder","Antal inrapporterade åtgärder, kan vara mer än 30",null,null,null,null,null,null,"","",null,null,null,null,null,null,false]
[{"$f":"IF($T34=FALSE, \"\", MAX(A$4:A33)+1)","v":""},null,"PSVARD","Psykiatrisk vårdform","Anger med vilket lagstöd som vårdens bedrivits. ","Tillför sällan relevant information, MVO+DIAGNOS rekommenderas",null,null,null,null,null,"","",null,null,null,null,null,null,false]
[{"$f":"IF($T35=FALSE, \"\", MAX(A$4:A34)+1)","v":""},null,"PVARD","Planerad vårdkontakt","Anger om besöket varit planerat eller ej",null,null,null,null,null,null,"","",null,null,null,null,null,null,false]
[{"$f":"IF($T36=FALSE, \"\", MAX(A$4:A35)+1)","v":""},null,"RTC","Kvalitetsvariabel-DRG","En fellista som listar registrets felaktigheter efter procentuell fördelning",null,null,null,null,null,null,"","",null,null,null,null,null,null,false]
[{"$f":"IF($T37=FALSE, \"\", MAX(A$4:A36)+1)","v":""},null,"SENINV","Senaste invandring","Senaste invandring, år-månad eller år-månad-dag.",null,null,null,null,null,null,"","",null,null,null,null,null,null,false]
[{"$f":"IF($T38=FALSE, \"\", MAX(A$4:A37)+1)","v":""},null,"SENUTV","Senaste utvandring","Senaste utvandring  år-månad eller år-månad-dag.\n",null,null,null,null,null,null,"","",null,null,null,null,null,null,false]
[{"$f":"IF($T39=FALSE, \"\", MAX(A$4:A38)+1)","v":""},null,"SJUKHUS","Sjukhus","Sjukhus vid vilken patienten skrivits ut från",null,null,null,null,null,null,"","",null,null,null,null,null,null,false]
[{"$f":"IF($T40=FALSE, \"\", MAX(A$4:A39)+1)","v":""},null,"START","Startdatum för psykiatrisk vårdform","Startdatum för psykiatrisk vårdform","Ska alltid beställas med PSVARD och SLUT",null,null,null,null,null,null,null,null,null,null,null,null,null,false]
[{"$f":"IF($T41=FALSE, \"\", MAX(A$4:A40)+1)","v":""},null,"SLUT","Slutdatum för psykiatrisk vårdform","Slutdatum för psykiatrisk vårdform","Ska alltid beställas med PSVARD och START",null,null,null,null,null,null,null,null,null,null,null,null,null,false]
[{"$f":"IF($T42=FALSE, \"\", MAX(A$4:A38)+1)","v":""},null,"UT_AKUT_TIDPUNKT","Tidpunkt för avslut av besök på akutmottagning","Tidpunkt för avslut av besök på akutmottagning","Registreras från och med 2016 ",null,null,null,null,null,"","",null,null,null,null,null,null,false]
[{"$f":"IF($T43=FALSE, \"\", MAX(A$4:A39)+1)","v":""},null,"VERKS_AKUT","Akutverksamhet","Typ av akutverksamhet för besöket eller inget akutbesök","Registreras från och med 2016 ",null,null,null,null,null,"","",null,null,null,null,null,null,false]
[null,null,null,null,null,null,null,null,null,null,null,null,null,null,null,null,null,null,null,false]
[]
[]
[]
[]
[]
[]
[]
[]
[]
[]
[]
[]
[]
[]
[]
[]
[]
[]
[]
[]
[]
[]
[]
[]
[]
[]
[]
[]
[]
[]
[]
[]
[]
[]
[null,null,null,null,null,null,null,null,null,null,null,null,null,null,null,null,null,null,null,true]

{"sheet":"PAR_IDB","index":19,"n_rows":62,"n_cols":20,"rows_kept":62,"cut":false,"hidden":true,"merged":[]}
[null,null,null,"Olycksfallsregistret IDB"]
[]
["#","Val","Variabel","Klartext","Definition","Kommentar",null,null,null,null,null,"Variabel","Klartext",null,null,"Auto-kryssa:",null,null,null,true]
[{"$f":"IF($T4=FALSE, \"\", MAX(A$3:A3)+1)","v":""},null,"AKTIVITET","Aktivitet vid skada","Patientens sysselsättning vid skadetillfället. Om patienten vart inblandad i flera aktiviteter vid skadetillfället ska den aktivitet som bedöms ha störst inverkan på skadehändelsen rapporteras. ",null,null,null,null,null,null,{"$f":"IFERROR(INDEX(C$3:C$57,MATCH(ROW()-ROW(L$3),$A$3:$A$57,0)),\"\")","v":""},{"$f":"IFERROR(INDEX(D$3:D$57,MATCH(ROW()-ROW(M$3),$A$3:$A$57,0)),\"\")","v":""},null,null,null,null,null,null,false]
[{"$f":"IF($T5=FALSE, \"\", MAX(A$4:A4)+1)","v":""},null,"ALDER","Ålder vid skada","Patientens ålder vid skadetillfället",null,null,null,null,null,null,"","",null,null,null,null,null,null,false]
[{"$f":"IF($T6=FALSE, \"\", MAX(A$4:A5)+1)","v":""},null,"ANNPROD","Annan produkt som bidragit till skada","Annan produkt som haft betydelse antingen för skadan eller för skadehändelsen",null,null,null,null,null,null,"","",null,null,null,null,null,null,false]
[{"$f":"IF($T7=FALSE, \"\", MAX(A$4:A6)+1)","v":""},null,"AR","År","År då skada inträffade",null,null,null,null,null,null,"","",null,null,null,null,null,null,false]
[{"$f":"IF($T8=FALSE, \"\", MAX(A$4:A7)+1)","v":""},null,"ATC","ATC från Strada för kodning av mekanism, produktkod",null,null,null,null,null,null,null,"","",null,null,null,null,null,null,false]
[{"$f":"IF($T9=FALSE, \"\", MAX(A$4:A8)+1)","v":""},null,"BEHANDLING","Behandling","Behandlingsstatus efter ankomst till akutmottagning",null,null,null,null,null,null,"","",null,null,null,null,null,null,false]
[{"$f":"IF($T10=FALSE, \"\", MAX(A$4:A9)+1)","v":""},null,"BESDAT","Datum för första besök på sjukhus","Datum för första besök på sjukhus",null,null,null,null,null,null,"","",null,null,null,null,null,null,false]
[{"$f":"IF($T11=FALSE, \"\", MAX(A$4:A10)+1)","v":""},null,"BESDAT","Datum för första besök på sjukhus (text)","Textvariant  av BESDATUM",null,null,null,null,null,null,"","",null,null,null,null,null,null,false]
[{"$f":"IF($T12=FALSE, \"\", MAX(A$4:A11)+1)","v":""},null,"BESDATUM","Datum för första besök på sjukhus (numerisk)",null,null,null,null,null,null,null,"","",null,null,null,null,null,null,false]
[{"$f":"IF($T13=FALSE, \"\", MAX(A$4:A12)+1)","v":""},null,"BESTID","Klockslag (timme) då patienten anlände sjukhuset","Klockslag (timme) då patienten anlände sjukhuset",null,null,null,null,null,null,"","",null,null,null,null,null,null,false]
[{"$f":"IF($T14=FALSE, \"\", MAX(A$4:A13)+1)","v":""},null,"FODAR_PNR","Födelseår",null,null,null,null,null,null,null,"","",null,null,null,null,null,null,false]
[{"$f":"IF($T15=FALSE, \"\", MAX(A$4:A14)+1)","v":""},null,"FODDATUM_PNR","Födelsedatum",null,"För fullständigt datum krävs särskild motivering ",null,null,null,null,null,"","",null,null,null,null,null,null,false]
[{"$f":"IF($T16=FALSE, \"\", MAX(A$4:A15)+1)","v":""},null,"HEMKOMMUN","Folkbokföringskommun","Patientens folkbokföringskommun",null,null,null,null,null,null,"","",null,null,null,null,null,null,false]
[{"$f":"IF($T17=FALSE, \"\", MAX(A$4:A16)+1)","v":""},null,"HEMLAND","Folkbokföringsland (grupperat på världsdel)","Patientens folkbokföringsland","För enskilda länder krävs EPN godkännande",null,null,null,null,null,"","",null,null,null,null,null,null,false]
[{"$f":"IF($T18=FALSE, \"\", MAX(A$4:A17)+1)","v":""},null,"ICD1-ICD3","Diagnoskod 1 til 3","ICD-kod för skada 1, ej obligatorisk",null,null,null,null,null,null,"","",null,null,null,null,null,null,false]
[{"$f":"IF($T19=FALSE, \"\", MAX(A$4:A18)+1)","v":""},null,"INNEUTE","Skadan inträffad","Om skadehändelsen inträffade inomhus eller utomhus",null,null,null,null,null,null,"","",null,null,null,null,null,null,false]
[{"$f":"IF($T20=FALSE, \"\", MAX(A$4:A19)+1)","v":""},null,"KLARTEXT","Beskrivning av skadehändelsen","Beskrivning av skadehändelsen som ledde fram till skadan","För att lämna ut variabeln vill vi vet hur den kommer att hanteras statistiskt.",null,null,null,null,null,"","",null,null,null,null,null,null,false]
[{"$f":"IF($T21=FALSE, \"\", MAX(A$4:A20)+1)","v":""},null,"KON","Kön","Kön",null,null,null,null,null,null,"","",null,null,null,null,null,null,false]
[{"$f":"IF($T22=FALSE, \"\", MAX(A$4:A21)+1)","v":""},null,"KONTAKTORSAK","Kontaktorsak","Typ av skadehändelse. Anger med vilken avsikt skadan uppkommit",null,null,null,null,null,null,"","",null,null,null,null,null,null,false]
[{"$f":"IF($T23=FALSE, \"\", MAX(A$4:A22)+1)","v":""},null,"MEKANISM","Skademekanism","Det sätt på vilket patienten ådrog sig skadan/skadorna.",null,null,null,null,null,null,"","",null,null,null,null,null,null,false]
[{"$f":"IF($T24=FALSE, \"\", MAX(A$4:A23)+1)","v":""},null,"OLYCKSSIT","Olyckssituation","Olyckssituation",null,null,null,null,null,null,"","",null,null,null,null,null,null,false]
[{"$f":"IF($T25=FALSE, \"\", MAX(A$4:A24)+1)","v":""},null,"ORSPROD","Orsakande produkt","Den produkt som orsakade skadan.",null,null,null,null,null,null,"","",null,null,null,null,null,null,false]
[{"$f":"IF($T26=FALSE, \"\", MAX(A$4:A25)+1)","v":""},null,"PLATS","Skadeplats","Den plats där skadehändelsen ägde rum. Finns mer än en skadeplats ska den skadeplats där skadehändelsen inleddes rapporteras.",null,null,null,null,null,null,"","",null,null,null,null,null,null,false]
[{"$f":"IF($T27=FALSE, \"\", MAX(A$4:A26)+1)","v":""},null,"REGION","Region",null,null,null,null,null,null,null,"","",null,null,null,null,null,null,false]
[{"$f":"IF($T28=FALSE, \"\", MAX(A$4:A27)+1)","v":""},null,"SITUATION","Skadesituation","Status (typ av tid) för patientens sysselsättning vid skadetillfället.",null,null,null,null,null,null,"","",null,null,null,null,null,null,false]
[{"$f":"IF($T29=FALSE, \"\", MAX(A$4:A28)+1)","v":""},null,"SJUKHUS","Sjukhus","Sjukhus enligt Socialstyrelsens sjukhusförteckning",null,null,null,null,null,null,"","",null,null,null,null,null,null,false]
[{"$f":"IF($T30=FALSE, \"\", MAX(A$4:A29)+1)","v":""},null,"SKADEDAG","Dag när skadan inträffade","Dag när skadan inträffade",null,null,null,null,null,null,"","",null,null,null,null,null,null,false]
[{"$f":"IF($T31=FALSE, \"\", MAX(A$4:A30)+1)","v":""},null,"SKADEDAT","Skadedatum (text)","Textveriant av skadedatum",null,null,null,null,null,null,"","",null,null,null,null,null,null,false]
[{"$f":"IF($T32=FALSE, \"\", MAX(A$4:A31)+1)","v":""},null,"SKADEDATUM","Skadedatum","Datum för skadehändelsen",null,null,null,null,null,null,"","",null,null,null,null,null,null,false]
[{"$f":"IF($T33=FALSE, \"\", MAX(A$4:A32)+1)","v":""},null,"SKADELOK1-SKADELOK3","Skadelokalisation 1 till 3","Den del av kroppen som blivit skadad",null,null,null,null,null,null,"","",null,null,null,null,null,null,false]
[{"$f":"IF($T34=FALSE, \"\", MAX(A$4:A33)+1)","v":""},null,"SKADEMAN","Månad när skadan inträffade","Månad när skadan inträffade",null,null,null,null,null,null,"","",null,null,null,null,null,null,false]
[{"$f":"IF($T35=FALSE, \"\", MAX(A$4:A34)+1)","v":""},null,"SKADETID","Klockslag (timme) när skadan inträffade","Klockslag (timme) då skadehändelsen inträffade",null,null,null,null,null,null,"","",null,null,null,null,null,null,false]
[{"$f":"IF($T36=FALSE, \"\", MAX(A$4:A35)+1)","v":""},null,"SKADETYP1-SKADETYP3","Skadetyp 1 till 3","Den typ av skada som drabbat patienten",null,null,null,null,null,null,{"$f":"IFERROR(INDEX(C$3:C$57,MATCH(ROW()-ROW(L$3),$A$3:$A$57,0)),\"\")","v":""},{"$f":"IFERROR(INDEX(D$3:D$57,MATCH(ROW()-ROW(M$3),$A$3:$A$57,0)),\"\")","v":""},null,null,null,null,null,null,false]
[{"$f":"IF($T37=FALSE, \"\", MAX(A$4:A36)+1)","v":""},null,"SPORTKOD","Idrott patienten utövade vid skadetillfället.","Idrott patienten utövade vid skadetillfället.",null,null,null,null,null,null,"","",null,null,null,null,null,null,false]
[{"$f":"IF($T38=FALSE, \"\", MAX(A$4:A37)+1)","v":""},null,"SUICIDRISK","Avsiktiligt destruktiv handling: Proximal riskfaktor","Beskriver den bakomliggande orsaken till att en person begår en avsiktligt självdestruktiv handling","Dålig kvalité",null,null,null,null,null,"","",null,null,null,null,null,null,false]
[{"$f":"IF($T39=FALSE, \"\", MAX(A$4:A38)+1)","v":""},null,"SUICIDUPPR","Upprepad handling","Avsiktligt destruktiv handling: Upprepad handling","Dålig kvalité",null,null,null,null,null,"","",null,null,null,null,null,null,false]
[{"$f":"IF($T40=FALSE, \"\", MAX(A$4:A39)+1)","v":""},null,"TRAFIKANTROLL","Trafikantroll för skadad","Är det samma som Transportroll",null,null,null,null,null,null,"","",null,null,null,null,null,null,false]
[{"$f":"IF($T41=FALSE, \"\", MAX(A$4:A40)+1)","v":""},null,"TRAFIKANTROLLNY","Trafikantroll för skadad (eu-anpassad)",null,null,null,null,null,null,null,"","",null,null,null,null,null,null,false]
[{"$f":"IF($T42=FALSE, \"\", MAX(A$4:A41)+1)","v":""},null,"TRANSPORTOLYCKA","Transportolycka","Transportolycksfall vid väg-, spårbunden, vatten- el lufttransport. ",null,null,null,null,null,null,"","",null,null,null,null,null,null,false]
[{"$f":"IF($T43=FALSE, \"\", MAX(A$4:A42)+1)","v":""},null,"TRFORMMOTPART","Trafikantform för motpart",null,null,null,null,null,null,null,"","",null,null,null,null,null,null,false]
[{"$f":"IF($T44=FALSE, \"\", MAX(A$4:A43)+1)","v":""},null,"TRFORMMOTPARTNY","Trafikantform för motpart (eu-anpassad)",null,null,null,null,null,null,null,"","",null,null,null,null,null,null,false]
[{"$f":"IF($T45=FALSE, \"\", MAX(A$4:A44)+1)","v":""},null,"TRFORMSKADAD","Trafikantform för skadad","Är det samma som Transportform?",null,null,null,null,null,null,"","",null,null,null,null,null,null,false]
[{"$f":"IF($T46=FALSE, \"\", MAX(A$4:A45)+1)","v":""},null,"TRFORMSKADADNY","Trafikantform för skadad (eu-anpassad)",null,null,null,null,null,null,null,"","",null,null,null,null,null,null,false]
[{"$f":"IF($T47=FALSE, \"\", MAX(A$4:A46)+1)","v":""},null,"UTDAT","textvariant av utdatum","textvariant av utdatum",null,null,null,null,null,null,"","",null,null,null,null,null,null,false]
[{"$f":"IF($T48=FALSE, \"\", MAX(A$4:A47)+1)","v":""},null,"UTDATUM","Datum för utskrivning från sluten vård vid sjukhus","Datum för utskrivning från sluten vård vid sjukhus",null,null,null,null,null,null,"","",null,null,null,null,null,null,false]
[{"$f":"IF($T49=FALSE, \"\", MAX(A$4:A48)+1)","v":""},null,"UTLPROD","Utlösande produkt","Den produkt som orsakade skadehändelsen.",null,null,null,null,null,null,"","",null,null,null,null,null,null,false]
[{"$f":"IF($T50=FALSE, \"\", MAX(A$4:A49)+1)","v":""},null,"VAGOLYCKA","Vägolycka","Transportolycksfall vid vägtransport i vägtrafikmiljö. Är det samma variabel som VAGTRAFIK??",null,null,null,null,null,null,"","",null,null,null,null,null,null,false]
[{"$f":"IF($T51=FALSE, \"\", MAX(A$4:A50)+1)","v":""},null,"VALDALDER","Våld: Förövarens ålder","Åldersgrupp för förövaren","Dålig kvalité",null,null,null,null,null,"","",null,null,null,null,null,null,false]
[{"$f":"IF($T52=FALSE, \"\", MAX(A$4:A51)+1)","v":""},null,"VALDKON","Våld: Förövarens kön","Kön på förövaren","Dålig kvalité",null,null,null,null,null,"","",null,null,null,null,null,null,false]
[{"$f":"IF($T53=FALSE, \"\", MAX(A$4:A52)+1)","v":""},null,"VALDRELATION","Våld: Relation offer-förövare","Relationen mellan offret och förövare","Dålig kvalité",null,null,null,null,null,"","",null,null,null,null,null,null,false]
[{"$f":"IF($T54=FALSE, \"\", MAX(A$4:A53)+1)","v":""},null,"VALDTYP","Våld: Typ av våldshandling","Kategoriserar typ av våldshändelse","Dålig kvalité",null,null,null,null,null,"","",null,null,null,null,null,null,false]
[{"$f":"IF($T55=FALSE, \"\", MAX(A$4:A54)+1)","v":""},null,"VARDDAGAR","Antal vårddagar",null,null,null,null,null,null,null,"","",null,null,null,null,null,null,false]
[{"$f":"IF($T56=FALSE, \"\", MAX(A$4:A55)+1)","v":""},null,"VARDINST","Vårdinstitution",null,"Variabeln SJUKHUS rekommenderas istället för VARDINST",null,null,null,null,null,"","",null,null,null,null,null,null,false]
[{"$f":"IF($T57=FALSE, \"\", MAX(A$4:A56)+1)","v":""},null,"VARDINSTNR","Vårdinstitionsnummer",null,"Variabeln SJUKHUS rekommenderas istället för VARDINSTNR",null,null,null,null,null,"","",null,null,null,null,null,null,false]
[]
[]
[]
[]
[null,null,null,null,null,null,null,null,null,null,null,null,null,null,null,null,null,null,null,true]

{"sheet":"kod","index":20,"n_rows":0,"n_cols":0,"rows_kept":0,"cut":false,"hidden":true,"merged":[]}

{"sheet":"Verifikation","index":21,"n_rows":21,"n_cols":21,"rows_kept":21,"cut":false,"hidden":true,"merged":[]}
[null,null,null,null,"Verifiera variabler"]
[null,null,null,null,null,null,null,null,null,"Verifiera att dina variabler finns i registret\nHar du fått en variabellista som inte genererats ur SIW?\nHär kan du snabbt verifiera att de variabler du har finns i registret."]
["Välj register",null,null,null,null,null,null,null,"Ange variabler att verifiera"]
[12,null,null,null,null,null,null,null,null,null,null,null,null,null,null,null,null,null,null,"CAN","Cancerregistret"]
[null,null,null,null,null,null,null,null,null,"Klistra in dina variabler i kolumn i, (en variabel per rad), under Ange variabler att verifiera. ",null,null,null,null,null,null,null,null,null,"CAN_BC","Basalcellscancerregistret"]
[null,null,null,null,null,null,null,null,null,null,null,null,null,null,null,null,null,null,null,"DORS","Dödsorsaksregistret (inkl. avi)"]
[null,null,null,null,null,null,null,null,null,null,null,null,null,null,null,null,null,null,null,"LMED","Läkemedelsregistret"]
[null,null,null,null,null,null,null,null,null,null,null,null,null,null,null,null,null,null,null,"MFR","Medicinska Födelseregistret"]
[null,null,null,null,null,null,null,null,null,null,null,null,null,null,null,null,null,null,null,"MFR_LMED","Medicinska Födelseregistret Läkemedel"]
[null,null,null,null,null,null,null,null,null,null,null,null,null,null,null,null,null,null,null,"MFR_IVF","Medicinska Födelseregistret IVF"]
[null,null,null,null,null,null,null,null,null,"Välj det register du vill verifiera mot.",null,null,null,null,null,null,null,null,null,"MFR_FOK","Registret över fosterskador och kromosomavvikelser"]
[null,null,null,null,null,null,null,null,null,"Variabler som finns kommer att få grön bakgrund och finns de inte blir de röda.",null,null,null,null,null,null,null,null,null,"PAR_SV","Patientregistret Slutenvård"]
[null,null,null,null,null,null,null,null,null,null,null,null,null,null,null,null,null,null,null,"PAR_OV","Patientregistret Öppenvård"]
[null,null,null,null,null,null,null,null,null,null,null,null,null,null,null,null,null,null,null,"EKB_AR","Ekonomiskt bistånd EKB, År"]
[null,null,null,null,null,null,null,null,null,null,null,null,null,null,null,null,null,null,null,"EKB_MAN","Ekonomiskt bistånd EKB, Månad"]
[null,null,null,null,null,null,null,null,null,null,null,null,null,null,null,null,null,null,null,"THR","Tandhälsoregistret THR"]
[null,null,null,null,null,null,null,null,null,null,null,null,null,null,null,null,null,null,null,"BU","Registret över insatser för barn och unga BU"]
[null,null,null,null,null,null,null,null,null,null,null,null,null,null,null,null,null,null,null,"SOL","Registret över socialtjänstinsatser till \näldre och personer med funktionsnedsättning SOL"]
[null,null,null,null,null,null,null,null,null,null,null,null,null,null,null,null,null,null,null,"LSS","Registret över insatser enligt lagen om stöd och service till\n vissa funktionshindrade LSS"]
[null,null,null,null,null,null,null,null,null,null,null,null,null,null,null,null,null,null,null,"HSL","Registret över insatser i kommunal hälso- och sjukvård HSL"]
[null,null,null,null,null,null,null,null,null,null,null,null,null,null,null,null,null,null,null,"LVM","Registret över tvångsvård enligt lagen om vård av missbrukare LVM"]

{"sheet":"EKB_AR","index":22,"n_rows":296,"n_cols":20,"rows_kept":296,"cut":false,"hidden":true,"merged":[]}
[null,null,null,"Ekonomiskt bistånd EKB, År"]
[]
["#","Val","Variabel","Klartext","Definition","Kommentar",null,null,null,null,null,"Variabel","Klartext",null,null,"Auto-kryssa:",null,null,null,true]
[{"$f":"IF($T4=FALSE, \"\", MAX(A$3:A3)+1)","v":""},null,"ALDER","Ålder ","Biståndsmottagarens ålder.",null,null,null,null,null,null,{"$f":"IFERROR(INDEX(C$3:C$291,MATCH(ROW()-ROW(L$3),$A$3:$A$291,0)),\"\")","v":""},{"$f":"IFERROR(INDEX(D$3:D$291,MATCH(ROW()-ROW(M$3),$A$3:$A$291,0)),\"\")","v":""},null,null,null,null,null,null,false]
[{"$f":"IF($T5=FALSE, \"\", MAX(A$4:A4)+1)","v":""},null,"AR","Statistikår","Statistikår",null,null,null,null,null,null,"","",null,null,null,null,null,null,false]
[{"$f":"IF($T6=FALSE, \"\", MAX(A$4:A5)+1)","v":""},null,"ARBLOSUE","Arbetslös utan ersättning","Arbetslös utan ersättning någon gång under året.",null,null,null,null,null,null,"","",null,null,null,null,null,null,false]
[{"$f":"IF($T7=FALSE, \"\", MAX(A$4:A6)+1)","v":""},null,"FLYKTING","Flykting","Anger om biståndsmottagare är flytking eller inte.",null,null,null,null,null,null,"","",null,null,null,null,null,null,false]
[{"$f":"IF($T8=FALSE, \"\", MAX(A$4:A7)+1)","v":""},null,"HHSTATUS","Hushållsstatus","Biståndsmottagarens status i hushållet.",null,null,null,null,null,null,"","",null,null,null,null,null,null,false]
[{"$f":"IF($T9=FALSE, \"\", MAX(A$4:A8)+1)","v":""},null,"HINDER","Försörjningshinder, mest förekommande under året.","Kod försörjningshinder för ekonomiskt bistånd, det mest förekommande under året",null,null,null,null,null,null,"","",null,null,null,null,null,null,false]
[{"$f":"IF($T10=FALSE, \"\", MAX(A$4:A9)+1)","v":""},null,"HINDER01","Försörjningshinder, januari ","Kod försörjningshinder för ekonomiskt bistånd för resp månad.",null,null,null,null,null,null,"","",null,null,null,null,null,null,false]
[{"$f":"IF($T11=FALSE, \"\", MAX(A$4:A10)+1)","v":""},null,"HINDER02","Försörjningshinder, februari","Kod försörjningshinder för ekonomiskt bistånd för resp månad.",null,null,null,null,null,null,"","",null,null,null,null,null,null,false]
[{"$f":"IF($T12=FALSE, \"\", MAX(A$4:A11)+1)","v":""},null,"HINDER03","Försörjningshinder, mars","Kod försörjningshinder för ekonomiskt bistånd för resp månad.",null,null,null,null,null,null,"","",null,null,null,null,null,null,false]
[{"$f":"IF($T13=FALSE, \"\", MAX(A$4:A12)+1)","v":""},null,"HINDER04","Försörjningshinder, april","Kod försörjningshinder för ekonomiskt bistånd för resp månad.",null,null,null,null,null,null,"","",null,null,null,null,null,null,false]
[{"$f":"IF($T14=FALSE, \"\", MAX(A$4:A13)+1)","v":""},null,"HINDER05","Försörjningshinder, maj","Kod försörjningshinder för ekonomiskt bistånd för resp månad.",null,null,null,null,null,null,"","",null,null,null,null,null,null,false]
[{"$f":"IF($T15=FALSE, \"\", MAX(A$4:A14)+1)","v":""},null,"HINDER06","Försörjningshinder, juni","Kod försörjningshinder för ekonomiskt bistånd för resp månad.",null,null,null,null,null,null,"","",null,null,null,null,null,null,false]
[{"$f":"IF($T16=FALSE, \"\", MAX(A$4:A15)+1)","v":""},null,"HINDER07","Försörjningshinder, juli","Kod försörjningshinder för ekonomiskt bistånd för resp månad.",null,null,null,null,null,null,"","",null,null,null,null,null,null,false]
[{"$f":"IF($T17=FALSE, \"\", MAX(A$4:A16)+1)","v":""},null,"HINDER08","Försörjningshinder, augusti","Kod försörjningshinder för ekonomiskt bistånd för resp månad.",null,null,null,null,null,null,"","",null,null,null,null,null,null,false]
[{"$f":"IF($T18=FALSE, \"\", MAX(A$4:A17)+1)","v":""},null,"HINDER09","Försörjningshinder, september","Kod försörjningshinder för ekonomiskt bistånd för resp månad.",null,null,null,null,null,null,"","",null,null,null,null,null,null,false]
[{"$f":"IF($T19=FALSE, \"\", MAX(A$4:A18)+1)","v":""},null,"HINDER10","Försörjningshinder, oktober","Kod försörjningshinder för ekonomiskt bistånd för resp månad.",null,null,null,null,null,null,"","",null,null,null,null,null,null,false]
[{"$f":"IF($T20=FALSE, \"\", MAX(A$4:A19)+1)","v":""},null,"HINDER11","Försörjningshinder, november","Kod försörjningshinder för ekonomiskt bistånd för resp månad.",null,null,null,null,null,null,"","",null,null,null,null,null,null,false]
[{"$f":"IF($T21=FALSE, \"\", MAX(A$4:A20)+1)","v":""},null,"HINDER12","Försörjningshinder, december","Kod försörjningshinder för ekonomiskt bistånd för resp månad.",null,null,null,null,null,null,"","",null,null,null,null,null,null,false]
[{"$f":"IF($T22=FALSE, \"\", MAX(A$4:A21)+1)","v":""},null,"INSKRIVAF","Inskriven på arbetsförmedlingen","Om biståndsmottagaren varit inskriven i arb.förmedlingen hela året",null,null,null,null,null,null,"","",null,null,null,null,null,null,false]
[{"$f":"IF($T23=FALSE, \"\", MAX(A$4:A22)+1)","v":""},null,"INVANDRA","Invandringsår","Senaste invandringsår.",null,null,null,null,null,null,"","",null,null,null,null,null,null,false]
[{"$f":"IF($T24=FALSE, \"\", MAX(A$4:A23)+1)","v":""},null,"KON","Kön","Biståndsmottagarens kön",null,null,null,null,null,null,"","",null,null,null,null,null,null,false]
[{"$f":"IF($T25=FALSE, \"\", MAX(A$4:A24)+1)","v":""},null,"LK","Kommunkod","4--ställig kommunkod enligt rikets indelningar.",null,null,null,null,null,null,"","",null,null,null,null,null,null,false]
[{"$f":"IF($T26=FALSE, \"\", MAX(A$4:A25)+1)","v":""},null,"LOPKOM","Löpnummerkombination","Unik kod för varje hushåll i varje kommun. \nUnik för individen tillsammans med personordning. \n",null,null,null,null,null,null,"","",null,null,null,null,null,null,false]
[{"$f":"IF($T27=FALSE, \"\", MAX(A$4:A26)+1)","v":""},null,"LOPNR","Löpnummer","Löpande numrering av rader för hushållen, unik inom varje år för alla hushåll- ett hushåll kan ha flera individer tillhörande sig, dessa har då samma lopnr",null,null,null,null,null,null,"","",null,null,null,null,null,null,false]
[{"$f":"IF($T28=FALSE, \"\", MAX(A$4:A27)+1)","v":""},null,"MEDBORGARSKAP","Medborgarskap",null,null,null,null,null,null,null,"","",null,null,null,null,null,null,false]
[{"$f":"IF($T29=FALSE, \"\", MAX(A$4:A28)+1)","v":""},null,"PERSONID","identifierare","Unik identifierare för personen, \nbestår av personnummer om detta är korrekt annars konstruerad nyckel.\n\nOm personnumret är korrekt blir värdet samma som personnumret annars får variabeln samma värde som LOPKOM plus ordningsnumret i hushållet (PERSORDN), ex 2009-1280-430-1.",null,null,null,null,null,null,"","",null,null,null,null,null,null,false]
[{"$f":"IF($T30=FALSE, \"\", MAX(A$4:A29)+1)","v":""},null,"PERSORDN","Ordningsnummer i hushållet","Numrering för personerna i hushållet. Används i identiteten.",null,null,null,null,null,null,"","",null,null,null,null,null,null,false]
[{"$f":"IF($T31=FALSE, \"\", MAX(A$4:A30)+1)","v":""},null,"STADSDEL","Stadsdel","Stadsdel/Kommundel el. dylik. Obligatorisk för Stockholm, Göteborg och Malmö",null,null,null,null,null,null,"","",null,null,null,null,null,null,false]
[{"$f":"IF($T32=FALSE, \"\", MAX(A$4:A31)+1)","v":""},null,"UTRIKESFODD","Kod för födelselandsgruppering",null,null,null,null,null,null,null,"","",null,null,null,null,null,null,false]
[{"$f":"IF($T33=FALSE, \"\", MAX(A$4:A32)+1)","v":""},null,"ANNATBELOPP01","Belopp för livsföring i övrigt, kategorin Annat, januari","Utbetalt belopp i ekonomiskt bistånd för livsföringen i övrigt avseende annat resp. månad.",null,null,null,null,null,null,"","",null,null,null,null,null,null,false]
[{"$f":"IF($T34=FALSE, \"\", MAX(A$4:A33)+1)","v":""},null,"ANNATBELOPP02","Belopp för livsföring i övrigt, kategorin Annat, februari","Utbetalt belopp i ekonomiskt bistånd för livsföringen i övrigt avseende annat resp. månad.",null,null,null,null,null,null,"","",null,null,null,null,null,null,false]
[{"$f":"IF($T35=FALSE, \"\", MAX(A$4:A34)+1)","v":""},null,"ANNATBELOPP03","Belopp för livsföring i övrigt, kategorin Annat, mars","Utbetalt belopp i ekonomiskt bistånd för livsföringen i övrigt avseende annat resp. månad.",null,null,null,null,null,null,"","",null,null,null,null,null,null,false]
[{"$f":"IF($T36=FALSE, \"\", MAX(A$4:A35)+1)","v":""},null,"ANNATBELOPP04","Belopp för livsföring i övrigt, kategorin Annat, april","Utbetalt belopp i ekonomiskt bistånd för livsföringen i övrigt avseende annat resp. månad.",null,null,null,null,null,null,"","",null,null,null,null,null,null,false]
[{"$f":"IF($T37=FALSE, \"\", MAX(A$4:A36)+1)","v":""},null,"ANNATBELOPP05","Belopp för livsföring i övrigt, kategorin Annat, maj","Utbetalt belopp i ekonomiskt bistånd för livsföringen i övrigt avseende annat resp. månad.",null,null,null,null,null,null,"","",null,null,null,null,null,null,false]
[{"$f":"IF($T38=FALSE, \"\", MAX(A$4:A37)+1)","v":""},null,"ANNATBELOPP06","Belopp för livsföring i övrigt, kategorin Annat, juni","Utbetalt belopp i ekonomiskt bistånd för livsföringen i övrigt avseende annat resp. månad.",null,null,null,null,null,null,"","",null,null,null,null,null,null,false]
[{"$f":"IF($T39=FALSE, \"\", MAX(A$4:A38)+1)","v":""},null,"ANNATBELOPP07","Belopp för livsföring i övrigt, kategorin Annat, juli","Utbetalt belopp i ekonomiskt bistånd för livsföringen i övrigt avseende annat resp. månad.",null,null,null,null,null,null,"","",null,null,null,null,null,null,false]
[{"$f":"IF($T40=FALSE, \"\", MAX(A$4:A39)+1)","v":""},null,"ANNATBELOPP08","Belopp för livsföring i övrigt, kategorin Annat, augusti","Utbetalt belopp i ekonomiskt bistånd för livsföringen i övrigt avseende annat resp. månad.",null,null,null,null,null,null,"","",null,null,null,null,null,null,false]
[{"$f":"IF($T41=FALSE, \"\", MAX(A$4:A40)+1)","v":""},null,"ANNATBELOPP09","Belopp för livsföring i övrigt, kategorin Annat, september","Utbetalt belopp i ekonomiskt bistånd för livsföringen i övrigt avseende annat resp. månad.",null,null,null,null,null,null,"","",null,null,null,null,null,null,false]
[{"$f":"IF($T42=FALSE, \"\", MAX(A$4:A41)+1)","v":""},null,"ANNATBELOPP10","Belopp för livsföring i övrigt, kategorin Annat, oktober","Utbetalt belopp i ekonomiskt bistånd för livsföringen i övrigt avseende annat resp. månad.",null,null,null,null,null,null,"","",null,null,null,null,null,null,false]
[{"$f":"IF($T43=FALSE, \"\", MAX(A$4:A42)+1)","v":""},null,"ANNATBELOPP11","Belopp för livsföring i övrigt, kategorin Annat, november","Utbetalt belopp i ekonomiskt bistånd för livsföringen i övrigt avseende annat resp. månad.",null,null,null,null,null,null,"","",null,null,null,null,null,null,false]
[{"$f":"IF($T44=FALSE, \"\", MAX(A$4:A43)+1)","v":""},null,"ANNATBELOPP12","Belopp för livsföring i övrigt, kategorin Annat, december","Utbetalt belopp i ekonomiskt bistånd för livsföringen i övrigt avseende annat resp. månad.",null,null,null,null,null,null,"","",null,null,null,null,null,null,false]
[{"$f":"IF($T45=FALSE, \"\", MAX(A$4:A44)+1)","v":""},null,"ANNATIND01","Utbetalning finns för livsföring i övrigt, kategorin  annat, januari","Ekonomiskt bistånd för livsföringen i övrigt avseende annat resp. månad.",null,null,null,null,null,null,"","",null,null,null,null,null,null,false]
[{"$f":"IF($T46=FALSE, \"\", MAX(A$4:A45)+1)","v":""},null,"ANNATIND02","Utbetalning finns för livsföring i övrigt, kategorin annat, februari","Ekonomiskt bistånd för livsföringen i övrigt avseende annat resp. månad.",null,null,null,null,null,null,"","",null,null,null,null,null,null,false]
[{"$f":"IF($T47=FALSE, \"\", MAX(A$4:A46)+1)","v":""},null,"ANNATIND03","Utbetalning finns för livsföring i övrigt, kategorin annat, mars","Ekonomiskt bistånd för livsföringen i övrigt avseende annat resp. månad.",null,null,null,null,null,null,"","",null,null,null,null,null,null,false]
[{"$f":"IF($T48=FALSE, \"\", MAX(A$4:A47)+1)","v":""},null,"ANNATIND04","Utbetalning finns för livsföring i övrigt, kategorin annat, april","Ekonomiskt bistånd för livsföringen i övrigt avseende annat resp. månad.",null,null,null,null,null,null,"","",null,null,null,null,null,null,false]
[{"$f":"IF($T49=FALSE, \"\", MAX(A$4:A48)+1)","v":""},null,"ANNATIND05","Utbetalning finns för livsföring i övrigt, kategorin annat, maj","Ekonomiskt bistånd för livsföringen i övrigt avseende annat resp. månad.",null,null,null,null,null,null,"","",null,null,null,null,null,null,false]
[{"$f":"IF($T50=FALSE, \"\", MAX(A$4:A49)+1)","v":""},null,"ANNATIND06","Utbetalning finns för livsföring i övrigt, kategorin annat, juni","Ekonomiskt bistånd för livsföringen i övrigt avseende annat resp. månad.",null,null,null,null,null,null,"","",null,null,null,null,null,null,false]
[{"$f":"IF($T51=FALSE, \"\", MAX(A$4:A50)+1)","v":""},null,"ANNATIND07","Utbetalning finns för livsföring i övrigt, kategorin annat, juli","Ekonomiskt bistånd för livsföringen i övrigt avseende annat resp. månad.",null,null,null,null,null,null,"","",null,null,null,null,null,null,false]
[{"$f":"IF($T52=FALSE, \"\", MAX(A$4:A51)+1)","v":""},null,"ANNATIND08","Utbetalning finns för livsföring i övrigt, kategorin annat, augusti","Ekonomiskt bistånd för livsföringen i övrigt avseende annat resp. månad.",null,null,null,null,null,null,"","",null,null,null,null,null,null,false]
[{"$f":"IF($T53=FALSE, \"\", MAX(A$4:A52)+1)","v":""},null,"ANNATIND09","Utbetalning finns för livsföring i övrigt, kategorin annat, september","Ekonomiskt bistånd för livsföringen i övrigt avseende annat resp. månad.",null,null,null,null,null,null,"","",null,null,null,null,null,null,false]
[{"$f":"IF($T54=FALSE, \"\", MAX(A$4:A53)+1)","v":""},null,"ANNATIND10","Utbetalning finns för livsföring i övrigt, kategorin annat, oktober","Ekonomiskt bistånd för livsföringen i övrigt avseende annat resp. månad.",null,null,null,null,null,null,"","",null,null,null,null,null,null,false]
[{"$f":"IF($T55=FALSE, \"\", MAX(A$4:A54)+1)","v":""},null,"ANNATIND11","Utbetalning finns för livsföring i övrigt, kategorin annat, november","Ekonomiskt bistånd för livsföringen i övrigt avseende annat resp. månad.",null,null,null,null,null,null,"","",null,null,null,null,null,null,false]
[{"$f":"IF($T56=FALSE, \"\", MAX(A$4:A55)+1)","v":""},null,"ANNATIND12","Utbetalning finns för livsföring i övrigt, kategorin annat, december","Ekonomiskt bistånd för livsföringen i övrigt avseende annat resp. månad.",null,null,null,null,null,null,"","",null,null,null,null,null,null,false]
[{"$f":"IF($T57=FALSE, \"\", MAX(A$4:A56)+1)","v":""},null,"ANTBARN00","Antal barn, 0 år","Antal barn 0 år",null,null,null,null,null,null,"","",null,null,null,null,null,null,false]
[{"$f":"IF($T58=FALSE, \"\", MAX(A$4:A57)+1)","v":""},null,"ANTBARN0015","Antal barn <16 år","Antal barn <16 år",null,null,null,null,null,null,"","",null,null,null,null,null,null,false]
[{"$f":"IF($T59=FALSE, \"\", MAX(A$4:A58)+1)","v":""},null,"ANTBARN0017","Antal barn < 18 år","Antal barn < 18 år",null,null,null,null,null,null,"","",null,null,null,null,null,null,false]
[{"$f":"IF($T60=FALSE, \"\", MAX(A$4:A59)+1)","v":""},null,"ANTBARN01","Antal barn, 1 år","Antal barn 1 år",null,null,null,null,null,null,"","",null,null,null,null,null,null,false]
[{"$f":"IF($T61=FALSE, \"\", MAX(A$4:A60)+1)","v":""},null,"ANTBARN02","Antal barn, 2 år","Antal barn 2 år",null,null,null,null,null,null,"","",null,null,null,null,null,null,false]
[{"$f":"IF($T62=FALSE, \"\", MAX(A$4:A61)+1)","v":""},null,"ANTBARN03","Antal barn, 3 år","Antal barn 3 år",null,null,null,null,null,null,"","",null,null,null,null,null,null,false]
[{"$f":"IF($T63=FALSE, \"\", MAX(A$4:A62)+1)","v":""},null,"ANTBARN04","Antal barn, 4 år","Antal barn 4 år",null,null,null,null,null,null,"","",null,null,null,null,null,null,false]
[{"$f":"IF($T64=FALSE, \"\", MAX(A$4:A63)+1)","v":""},null,"ANTBARN05","Antal barn, 5 år","Antal barn 5 år",null,null,null,null,null,null,"","",null,null,null,null,null,null,false]
[{"$f":"IF($T65=FALSE, \"\", MAX(A$4:A64)+1)","v":""},null,"ANTBARN06","Antal barn, 6 år","Antal barn 6 år",null,null,null,null,null,null,"","",null,null,null,null,null,null,false]
[{"$f":"IF($T66=FALSE, \"\", MAX(A$4:A65)+1)","v":""},null,"ANTBARN07","Antal barn, 7 år","Antal barn 7 år",null,null,null,null,null,null,"","",null,null,null,null,null,null,false]
[{"$f":"IF($T67=FALSE, \"\", MAX(A$4:A66)+1)","v":""},null,"ANTBARN08","Antal barn, 8 år","Antal barn 8 år",null,null,null,null,null,null,"","",null,null,null,null,null,null,false]
[{"$f":"IF($T68=FALSE, \"\", MAX(A$4:A67)+1)","v":""},null,"ANTBARN09","Antal barn, 9 år","Antal barn 9 år",null,null,null,null,null,null,{"$f":"IFERROR(INDEX(C$3:C$291,MATCH(ROW()-ROW(L$3),$A$3:$A$291,0)),\"\")","v":""},{"$f":"IFERROR(INDEX(D$3:D$291,MATCH(ROW()-ROW(M$3),$A$3:$A$291,0)),\"\")","v":""},null,null,null,null,null,null,false]
[{"$f":"IF($T69=FALSE, \"\", MAX(A$4:A68)+1)","v":""},null,"ANTBARN10","Antal barn, 10 år","Antal barn 10 år",null,null,null,null,null,null,"","",null,null,null,null,null,null,false]
[{"$f":"IF($T70=FALSE, \"\", MAX(A$4:A69)+1)","v":""},null,"ANTBARN11","Antal barn, 11 år","Antal barn 11 år",null,null,null,null,null,null,"","",null,null,null,null,null,null,false]
[{"$f":"IF($T71=FALSE, \"\", MAX(A$4:A70)+1)","v":""},null,"ANTBARN12","Antal barn, 12 år","Antal barn 12 år",null,null,null,null,null,null,"","",null,null,null,null,null,null,false]
[{"$f":"IF($T72=FALSE, \"\", MAX(A$4:A71)+1)","v":""},null,"ANTBARN13","Antal barn, 13 år","Antal barn 13 år",null,null,null,null,null,null,"","",null,null,null,null,null,null,false]
[{"$f":"IF($T73=FALSE, \"\", MAX(A$4:A72)+1)","v":""},null,"ANTBARN14","Antal barn, 14 år","Antal barn 14 år",null,null,null,null,null,null,"","",null,null,null,null,null,null,false]
[{"$f":"IF($T74=FALSE, \"\", MAX(A$4:A73)+1)","v":""},null,"ANTBARN15","Antal barn, 15 år","Antal barn 15 år",null,null,null,null,null,null,"","",null,null,null,null,null,null,false]
[{"$f":"IF($T75=FALSE, \"\", MAX(A$4:A74)+1)","v":""},null,"ANTBARN1617","Antal barn 16-17 år","Antal barn 16-17 år (Antal sökande 3-7 i hushållet i ålder 16-17 år)",null,null,null,null,null,null,"","",null,null,null,null,null,null,false]
[{"$f":"IF($T76=FALSE, \"\", MAX(A$4:A75)+1)","v":""},null,"ANTMANAD","Antal biståndsmånader, inkl. månader med introduktionsersättning","Totalt antal bidragsmånader, inkl. månader med introduktionsersättning",null,null,null,null,null,null,"","",null,null,null,null,null,null,false]
[{"$f":"IF($T77=FALSE, \"\", MAX(A$4:A76)+1)","v":""},null,"ANTPERS","Antal personer i hushållet","Antal personer i hushållet",null,null,null,null,null,null,"","",null,null,null,null,null,null,false]
[{"$f":"IF($T78=FALSE, \"\", MAX(A$4:A77)+1)","v":""},null,"ARBLOSHH","Arbetslöst hushåll",null,null,null,null,null,null,null,"","",null,null,null,null,null,null,false]
[{"$f":"IF($T79=FALSE, \"\", MAX(A$4:A78)+1)","v":""},null,"EKBANTMANAD","Månader med ekonomiskt bistånd exkl.  månader med introduktionsersättning)","Månader med ekonomiskt bistånd exkl.  månader med introduktionsersättning)",null,null,null,null,null,null,"","",null,null,null,null,null,null,false]
[{"$f":"IF($T80=FALSE, \"\", MAX(A$4:A79)+1)","v":""},null,"EKBBELOPP01","Ekonomiskt bistånd, januari exkl. introduktionsersättning","Ekonomiskt bistånd, januari exkl. introduktionsersättning",null,null,null,null,null,null,"","",null,null,null,null,null,null,false]
[{"$f":"IF($T81=FALSE, \"\", MAX(A$4:A80)+1)","v":""},null,"EKBBELOPP02","Ekonomiskt bistånd, februari exkl. introduktionsersättning","Ekonomiskt bistånd, februari exkl. introduktionsersättning",null,null,null,null,null,null,"","",null,null,null,null,null,null,false]
[{"$f":"IF($T82=FALSE, \"\", MAX(A$4:A81)+1)","v":""},null,"EKBBELOPP03","Ekonomiskt bistånd, mars exkl. introduktionsersättning","Ekonomiskt bistånd, mars exkl. introduktionsersättning",null,null,null,null,null,null,"","",null,null,null,null,null,null,false]
[{"$f":"IF($T83=FALSE, \"\", MAX(A$4:A82)+1)","v":""},null,"EKBBELOPP04","Ekonomiskt bistånd, april exkl. introduktionsersättning","Ekonomiskt bistånd, april exkl. introduktionsersättning",null,null,null,null,null,null,"","",null,null,null,null,null,null,false]
[{"$f":"IF($T84=FALSE, \"\", MAX(A$4:A83)+1)","v":""},null,"EKBBELOPP05","Ekonomiskt bistånd, maj exkl. introduktionsersättning","Ekonomiskt bistånd, maj exkl. introduktionsersättning",null,null,null,null,null,null,"","",null,null,null,null,null,null,false]
[{"$f":"IF($T85=FALSE, \"\", MAX(A$4:A84)+1)","v":""},null,"EKBBELOPP06","Ekonomiskt bistånd, juni exkl. introduktionsersättning","Ekonomiskt bistånd, juni exkl. introduktionsersättning",null,null,null,null,null,null,"","",null,null,null,null,null,null,false]
[{"$f":"IF($T86=FALSE, \"\", MAX(A$4:A85)+1)","v":""},null,"EKBBELOPP07","Ekonomiskt bistånd, juli exkl. introduktionsersättning","Ekonomiskt bistånd, juli exkl. introduktionsersättning",null,null,null,null,null,null,"","",null,null,null,null,null,null,false]
[{"$f":"IF($T87=FALSE, \"\", MAX(A$4:A86)+1)","v":""},null,"EKBBELOPP08","Ekonomiskt bistånd, augusti exkl. introduktionsersättning","Ekonomiskt bistånd, augusti exkl. introduktionsersättning",null,null,null,null,null,null,"","",null,null,null,null,null,null,false]
[{"$f":"IF($T88=FALSE, \"\", MAX(A$4:A87)+1)","v":""},null,"EKBBELOPP09","Ekonomiskt bistånd, september, exkl. Introduktionsersättning","Ekonomiskt bistånd, september, exkl. Introduktionsersättning",null,null,null,null,null,null,"","",null,null,null,null,null,null,false]
[{"$f":"IF($T89=FALSE, \"\", MAX(A$4:A88)+1)","v":""},null,"EKBBELOPP10","Ekonomiskt bistånd, oktober exkl. introduktionsersättning","Ekonomiskt bistånd, oktober exkl. introduktionsersättning",null,null,null,null,null,null,"","",null,null,null,null,null,null,false]
[{"$f":"IF($T90=FALSE, \"\", MAX(A$4:A89)+1)","v":""},null,"EKBBELOPP11","Ekonomiskt bistånd, november exkl. introduktionsersättning","Ekonomiskt bistånd, november exkl. introduktionsersättning",null,null,null,null,null,null,"","",null,null,null,null,null,null,false]
[{"$f":"IF($T91=FALSE, \"\", MAX(A$4:A90)+1)","v":""},null,"EKBBELOPP12","Ekonomiskt bistånd, december exkl. introduktionsersättning","Ekonomiskt bistånd, december exkl. introduktionsersättning",null,null,null,null,null,null,"","",null,null,null,null,null,null,false]
[{"$f":"IF($T92=FALSE, \"\", MAX(A$4:A91)+1)","v":""},null,"EKBTOTALBELOPP","Ekonomiskt bistånd totalt under året, exkl. introduktionsersättning","Ekonomiskt bistånd totalt under året, exkl. introduktionsersättning",null,null,null,null,null,null,"","",null,null,null,null,null,null,false]
[{"$f":"IF($T93=FALSE, \"\", MAX(A$4:A92)+1)","v":""},null,"ELSKULDBELOPP01","Belopp för livsföring i övrigt, kategorin Elskuld, januari","Utbetalt belopp i ekonomiskt bistånd för livsföringen i övrigt avseende elskuld  i resp. månad",null,null,null,null,null,null,"","",null,null,null,null,null,null,false]
[{"$f":"IF($T94=FALSE, \"\", MAX(A$4:A93)+1)","v":""},null,"ELSKULDBELOPP02","Belopp för livsföring i övrigt, kategorin Elskuld, februari","Utbetalt belopp i ekonomiskt bistånd för livsföringen i övrigt avseende elskuld  i resp. månad",null,null,null,null,null,null,"","",null,null,null,null,null,null,false]
[{"$f":"IF($T95=FALSE, \"\", MAX(A$4:A94)+1)","v":""},null,"ELSKULDBELOPP03","Belopp för livsföring i övrigt, kategorin Elskuld, mars","Utbetalt belopp i ekonomiskt bistånd för livsföringen i övrigt avseende elskuld  i resp. månad",null,null,null,null,null,null,"","",null,null,null,null,null,null,false]
[{"$f":"IF($T96=FALSE, \"\", MAX(A$4:A95)+1)","v":""},null,"ELSKULDBELOPP04","Belopp för livsföring i övrigt, kategorin Elskuld, april","Utbetalt belopp i ekonomiskt bistånd för livsföringen i övrigt avseende elskuld  i resp. månad",null,null,null,null,null,null,"","",null,null,null,null,null,null,false]
[{"$f":"IF($T97=FALSE, \"\", MAX(A$4:A96)+1)","v":""},null,"ELSKULDBELOPP05","Belopp för livsföring i övrigt, kategorin Elskuld, maj","Utbetalt belopp i ekonomiskt bistånd för livsföringen i övrigt avseende elskuld  i resp. månad",null,null,null,null,null,null,"","",null,null,null,null,null,null,false]
[{"$f":"IF($T98=FALSE, \"\", MAX(A$4:A97)+1)","v":""},null,"ELSKULDBELOPP06","Belopp för livsföring i övrigt, kategorin Elskuld, juni","Utbetalt belopp i ekonomiskt bistånd för livsföringen i övrigt avseende elskuld  i resp. månad",null,null,null,null,null,null,"","",null,null,null,null,null,null,false]
[{"$f":"IF($T99=FALSE, \"\", MAX(A$4:A98)+1)","v":""},null,"ELSKULDBELOPP07","Belopp för livsföring i övrigt, kategorin Elskuld, juli","Utbetalt belopp i ekonomiskt bistånd för livsföringen i övrigt avseende elskuld  i resp. månad",null,null,null,null,null,null,"","",null,null,null,null,null,null,false]
[{"$f":"IF($T100=FALSE, \"\", MAX(A$4:A99)+1)","v":""},null,"ELSKULDBELOPP08","Belopp för livsföring i övrigt, kategorin Elskuld, augusti","Utbetalt belopp i ekonomiskt bistånd för livsföringen i övrigt avseende elskuld  i resp. månad",null,null,null,null,null,null,"","",null,null,null,null,null,null,false]
[{"$f":"IF($T101=FALSE, \"\", MAX(A$4:A100)+1)","v":""},null,"ELSKULDBELOPP09","Belopp för livsföring i övrigt, kategorin Elskuld, september","Utbetalt belopp i ekonomiskt bistånd för livsföringen i övrigt avseende elskuld  i resp. månad",null,null,null,null,null,null,"","",null,null,null,null,null,null,false]
[{"$f":"IF($T102=FALSE, \"\", MAX(A$4:A101)+1)","v":""},null,"ELSKULDBELOPP10","Belopp för livsföring i övrigt, kategorin Elskuld, oktober","Utbetalt belopp i ekonomiskt bistånd för livsföringen i övrigt avseende elskuld  i resp. månad",null,null,null,null,null,null,"","",null,null,null,null,null,null,false]
[{"$f":"IF($T103=FALSE, \"\", MAX(A$4:A102)+1)","v":""},null,"ELSKULDBELOPP11","Belopp för livsföring i övrigt, kategorin Elskuld, november","Utbetalt belopp i ekonomiskt bistånd för livsföringen i övrigt avseende elskuld  i resp. månad",null,null,null,null,null,null,"","",null,null,null,null,null,null,false]
[{"$f":"IF($T104=FALSE, \"\", MAX(A$4:A103)+1)","v":""},null,"ELSKULDBELOPP12","Belopp för livsföring i övrigt, kategorin Elskuld, december","Utbetalt belopp i ekonomiskt bistånd för livsföringen i övrigt avseende elskuld  i resp. månad",null,null,null,null,null,null,"","",null,null,null,null,null,null,false]
[{"$f":"IF($T105=FALSE, \"\", MAX(A$4:A104)+1)","v":""},null,"ELSKULDIND01","Utbetalning finns för livsföring i övrigt, kategorin elskuld, januari","Ekonomiskt bistånd för livsföringen i övrigt avseende elskuld resp. månad.",null,null,null,null,null,null,"","",null,null,null,null,null,null,false]
[{"$f":"IF($T106=FALSE, \"\", MAX(A$4:A105)+1)","v":""},null,"ELSKULDIND02","Utbetalning finns för livsföring i övrigt, kategorin elskuld, februari","Ekonomiskt bistånd för livsföringen i övrigt avseende elskuld resp. månad.",null,null,null,null,null,null,"","",null,null,null,null,null,null,false]
[{"$f":"IF($T107=FALSE, \"\", MAX(A$4:A106)+1)","v":""},null,"ELSKULDIND03","Utbetalning finns för livsföring i övrigt, kategorin elskuld, mars","Ekonomiskt bistånd för livsföringen i övrigt avseende elskuld resp. månad.",null,null,null,null,null,null,"","",null,null,null,null,null,null,false]
[{"$f":"IF($T108=FALSE, \"\", MAX(A$4:A107)+1)","v":""},null,"ELSKULDIND04","Utbetalning finns för livsföring i övrigt, kategorin elskuld, april","Ekonomiskt bistånd för livsföringen i övrigt avseende elskuld resp. månad.",null,null,null,null,null,null,"","",null,null,null,null,null,null,false]
[{"$f":"IF($T109=FALSE, \"\", MAX(A$4:A108)+1)","v":""},null,"ELSKULDIND05","Utbetalning finns för livsföring i övrigt, kategorin elskuld, maj","Ekonomiskt bistånd för livsföringen i övrigt avseende elskuld resp. månad.",null,null,null,null,null,null,"","",null,null,null,null,null,null,false]
[{"$f":"IF($T110=FALSE, \"\", MAX(A$4:A109)+1)","v":""},null,"ELSKULDIND06","Utbetalning finns för livsföring i övrigt, kategorin elskuld, juni","Ekonomiskt bistånd för livsföringen i övrigt avseende elskuld resp. månad.",null,null,null,null,null,null,"","",null,null,null,null,null,null,false]
[{"$f":"IF($T111=FALSE, \"\", MAX(A$4:A110)+1)","v":""},null,"ELSKULDIND07","Utbetalning finns för livsföring i övrigt, kategorin elskuld, juli","Ekonomiskt bistånd för livsföringen i övrigt avseende elskuld resp. månad.",null,null,null,null,null,null,"","",null,null,null,null,null,null,false]
[{"$f":"IF($T112=FALSE, \"\", MAX(A$4:A111)+1)","v":""},null,"ELSKULDIND08","Utbetalning finns för livsföring i övrigt, kategorin elskuld, augusti","Ekonomiskt bistånd för livsföringen i övrigt avseende elskuld resp. månad.",null,null,null,null,null,null,"","",null,null,null,null,null,null,false]
[{"$f":"IF($T113=FALSE, \"\", MAX(A$4:A112)+1)","v":""},null,"ELSKULDIND09","Utbetalning finns för livsföring i övrigt, kategorin elskuld, september","Ekonomiskt bistånd för livsföringen i övrigt avseende elskuld resp. månad.",null,null,null,null,null,null,"","",null,null,null,null,null,null,false]
[{"$f":"IF($T114=FALSE, \"\", MAX(A$4:A113)+1)","v":""},null,"ELSKULDIND10","Utbetalning finns för livsföring i övrigt, kategorin elskuld, oktober","Ekonomiskt bistånd för livsföringen i övrigt avseende elskuld resp. månad.",null,null,null,null,null,null,"","",null,null,null,null,null,null,false]
[{"$f":"IF($T115=FALSE, \"\", MAX(A$4:A114)+1)","v":""},null,"ELSKULDIND11","Utbetalning finns för livsföring i övrigt, kategorin elskuld, november","Ekonomiskt bistånd för livsföringen i övrigt avseende elskuld resp. månad.",null,null,null,null,null,null,"","",null,null,null,null,null,null,false]
[{"$f":"IF($T116=FALSE, \"\", MAX(A$4:A115)+1)","v":""},null,"ELSKULDIND12","Utbetalning finns för livsföring i övrigt, kategorin elskuld, december","Ekonomiskt bistånd för livsföringen i övrigt avseende elskuld resp. månad.",null,null,null,null,null,null,"","",null,null,null,null,null,null,false]
[{"$f":"IF($T117=FALSE, \"\", MAX(A$4:A116)+1)","v":""},null,"FLYKTHH","Flyktinghushåll","Anger om någon av sökande 1 och ev. sökande 2 är flykting",null,null,null,null,null,null,"","",null,null,null,null,null,null,false]
[{"$f":"IF($T118=FALSE, \"\", MAX(A$4:A117)+1)","v":""},null,"FSTODBELOPP01","Försörjningsstöd (Inkl. Tillfälligt boende), januari","Försörjningsstöd, januari",null,null,null,null,null,null,"","",null,null,null,null,null,null,false]
[{"$f":"IF($T119=FALSE, \"\", MAX(A$4:A118)+1)","v":""},null,"FSTODBELOPP02","Försörjningsstöd (Inkl. Tillfälligt boende), februari","Försörjningsstöd, februari",null,null,null,null,null,null,"","",null,null,null,null,null,null,false]
[{"$f":"IF($T120=FALSE, \"\", MAX(A$4:A119)+1)","v":""},null,"FSTODBELOPP03","Försörjningsstöd (Inkl. Tillfälligt boende), mars","Försörjningsstöd, mars",null,null,null,null,null,null,"","",null,null,null,null,null,null,false]
[{"$f":"IF($T121=FALSE, \"\", MAX(A$4:A120)+1)","v":""},null,"FSTODBELOPP04","Försörjningsstöd (Inkl. Tillfälligt boende), april","Försörjningsstöd, april",null,null,null,null,null,null,"","",null,null,null,null,null,null,false]
[{"$f":"IF($T122=FALSE, \"\", MAX(A$4:A121)+1)","v":""},null,"FSTODBELOPP05","Försörjningsstöd (Inkl. Tillfälligt boende), maj","Försörjningsstöd, maj",null,null,null,null,null,null,"","",null,null,null,null,null,null,false]
[{"$f":"IF($T123=FALSE, \"\", MAX(A$4:A122)+1)","v":""},null,"FSTODBELOPP06","Försörjningsstöd (Inkl. Tillfälligt boende), juni","Försörjningsstöd, juni",null,null,null,null,null,null,"","",null,null,null,null,null,null,false]
[{"$f":"IF($T124=FALSE, \"\", MAX(A$4:A123)+1)","v":""},null,"FSTODBELOPP07","Försörjningsstöd (Inkl. Tillfälligt boende), juli","Försörjningsstöd, juli",null,null,null,null,null,null,"","",null,null,null,null,null,null,false]
[{"$f":"IF($T125=FALSE, \"\", MAX(A$4:A124)+1)","v":""},null,"FSTODBELOPP08","Försörjningsstöd (Inkl. Tillfälligt boende), augusti","Försörjningsstöd, augusti",null,null,null,null,null,null,"","",null,null,null,null,null,null,false]
[{"$f":"IF($T126=FALSE, \"\", MAX(A$4:A125)+1)","v":""},null,"FSTODBELOPP09","Försörjningsstöd (Inkl. Tillfälligt boende), september","Försörjningsstöd, september",null,null,null,null,null,null,"","",null,null,null,null,null,null,false]
[{"$f":"IF($T127=FALSE, \"\", MAX(A$4:A126)+1)","v":""},null,"FSTODBELOPP10","Försörjningsstöd (Inkl. Tillfälligt boende), oktober","Försörjningsstöd, oktober",null,null,null,null,null,null,"","",null,null,null,null,null,null,false]
[{"$f":"IF($T128=FALSE, \"\", MAX(A$4:A127)+1)","v":""},null,"FSTODBELOPP11","Försörjningsstöd (Inkl. Tillfälligt boende), november","Försörjningsstöd, november",null,null,null,null,null,null,"","",null,null,null,null,null,null,false]
[{"$f":"IF($T129=FALSE, \"\", MAX(A$4:A128)+1)","v":""},null,"FSTODBELOPP12","Försörjningsstöd (Inkl. Tillfälligt boende), december","Försörjningsstöd, december",null,null,null,null,null,null,"","",null,null,null,null,null,null,false]
[{"$f":"IF($T130=FALSE, \"\", MAX(A$4:A129)+1)","v":""},null,"FSTODBOENDEBELOPP01","Försörjningstöd tillfälligt boende, januari. Delbelopp av försörjningstödet i månaden.","Försörjningstöd tillfälligt boende, januari",null,null,null,null,null,null,"","",null,null,null,null,null,null,false]
[{"$f":"IF($T131=FALSE, \"\", MAX(A$4:A130)+1)","v":""},null,"FSTODBOENDEBELOPP02","Försörjningstöd tillfälligt boende, februari\n\nDelbelopp av försörjningstödet i månaden.","Försörjningstöd tillfälligt boende, februari",null,null,null,null,null,null,"","",null,null,null,null,null,null,false]
[{"$f":"IF($T132=FALSE, \"\", MAX(A$4:A131)+1)","v":""},null,"FSTODBOENDEBELOPP03","Försörjningstöd tillfälligt boende, mars\n\nDelbelopp av försörjningstödet i månaden.","Försörjningstöd tillfälligt boende, mars",null,null,null,null,null,null,{"$f":"IFERROR(INDEX(C$3:C$291,MATCH(ROW()-ROW(L$3),$A$3:$A$291,0)),\"\")","v":""},{"$f":"IFERROR(INDEX(D$3:D$291,MATCH(ROW()-ROW(M$3),$A$3:$A$291,0)),\"\")","v":""},null,null,null,null,null,null,false]
[{"$f":"IF($T133=FALSE, \"\", MAX(A$4:A132)+1)","v":""},null,"FSTODBOENDEBELOPP04","Försörjningstöd tillfälligt boende, april\n\nDelbelopp av försörjningstödet i månaden.","Försörjningstöd tillfälligt boende, april",null,null,null,null,null,null,"","",null,null,null,null,null,null,false]
[{"$f":"IF($T134=FALSE, \"\", MAX(A$4:A133)+1)","v":""},null,"FSTODBOENDEBELOPP05","Försörjningstöd tillfälligt boende, maj\n\nDelbelopp av försörjningstödet i månaden.","Försörjningstöd tillfälligt boende, maj",null,null,null,null,null,null,"","",null,null,null,null,null,null,false]
[{"$f":"IF($T135=FALSE, \"\", MAX(A$4:A134)+1)","v":""},null,"FSTODBOENDEBELOPP06","Försörjningstöd tillfälligt boende, juni\n\nDelbelopp av försörjningstödet i månaden.","Försörjningstöd tillfälligt boende, juni",null,null,null,null,null,null,"","",null,null,null,null,null,null,false]
[{"$f":"IF($T136=FALSE, \"\", MAX(A$4:A135)+1)","v":""},null,"FSTODBOENDEBELOPP07","Försörjningstöd tillfälligt boende, juli\n\nDelbelopp av försörjningstödet i månaden.","Försörjningstöd tillfälligt boende, juli",null,null,null,null,null,null,"","",null,null,null,null,null,null,false]
[{"$f":"IF($T137=FALSE, \"\", MAX(A$4:A136)+1)","v":""},null,"FSTODBOENDEBELOPP08","Försörjningstöd tillfälligt boende, augusti\n\nDelbelopp av försörjningstödet i månaden.","Försörjningstöd tillfälligt boende, augusti",null,null,null,null,null,null,"","",null,null,null,null,null,null,false]
[{"$f":"IF($T138=FALSE, \"\", MAX(A$4:A137)+1)","v":""},null,"FSTODBOENDEBELOPP09","Försörjningstöd tillfälligt boende, september\n\nDelbelopp av försörjningstödet i månaden.","Försörjningstöd tillfälligt boende, september",null,null,null,null,null,null,"","",null,null,null,null,null,null,false]
[{"$f":"IF($T139=FALSE, \"\", MAX(A$4:A138)+1)","v":""},null,"FSTODBOENDEBELOPP10","Försörjningstöd tillfälligt boende, oktober\n\nDelbelopp av försörjningstödet i månaden.","Försörjningstöd tillfälligt boende, oktober",null,null,null,null,null,null,"","",null,null,null,null,null,null,false]
[{"$f":"IF($T140=FALSE, \"\", MAX(A$4:A139)+1)","v":""},null,"FSTODBOENDEBELOPP11","Försörjningstöd tillfälligt boende, november\n\nDelbelopp av försörjningstödet i månaden.","Försörjningstöd tillfälligt boende, november",null,null,null,null,null,null,"","",null,null,null,null,null,null,false]
[{"$f":"IF($T141=FALSE, \"\", MAX(A$4:A140)+1)","v":""},null,"FSTODBOENDEBELOPP12","Försörjningstöd tillfälligt boende, december\n\nDelbelopp av försörjningstödet i månaden.","Försörjningstöd tillfälligt boende, december",null,null,null,null,null,null,"","",null,null,null,null,null,null,false]
[{"$f":"IF($T142=FALSE, \"\", MAX(A$4:A141)+1)","v":""},null,"FSTODBOENDETOTALBELOPP","Totalt utbetalt belopp för tillfälligt boende. Delbelopp av försörjningstödet.","Totalt utbetalt belopp för tillfälligt boende.",null,null,null,null,null,null,"","",null,null,null,null,null,null,false]
[{"$f":"IF($T143=FALSE, \"\", MAX(A$4:A142)+1)","v":""},null,"FSTODTOTALBELOPP","Totalt utbetalt belopp för försörjningsstöd för året.","Försörjningsstöd (Inkl. Tillfälligt boende), totalt under året (exkl. totalbelopp som felregistrerats)",null,null,null,null,null,null,"","",null,null,null,null,null,null,false]
[{"$f":"IF($T144=FALSE, \"\", MAX(A$4:A143)+1)","v":""},null,"HID","HushållsID","HushållsID, används för matchning av hushåll",null,null,null,null,null,null,"","",null,null,null,null,null,null,false]
[{"$f":"IF($T145=FALSE, \"\", MAX(A$4:A144)+1)","v":""},null,"HSBELOPP01","Belopp för livsföring i övrigt, kategorin, hälso- och sjukvård, januari","Utbetalt belopp i ekonomiskt bistånd för livsföringen i övrigt avseende hälso och sjukvård  i resp. månad",null,null,null,null,null,null,"","",null,null,null,null,null,null,false]
[{"$f":"IF($T146=FALSE, \"\", MAX(A$4:A145)+1)","v":""},null,"HSBELOPP02","Belopp för livsföring i övrigt, kategorin, hälso- och sjukvård, februari","Utbetalt belopp i ekonomiskt bistånd för livsföringen i övrigt avseende hälso och sjukvård  i resp. månad",null,null,null,null,null,null,"","",null,null,null,null,null,null,false]
[{"$f":"IF($T147=FALSE, \"\", MAX(A$4:A146)+1)","v":""},null,"HSBELOPP03","Belopp för livsföring i övrigt, kategorin, hälso- och sjukvård, mars","Utbetalt belopp i ekonomiskt bistånd för livsföringen i övrigt avseende hälso och sjukvård  i resp. månad",null,null,null,null,null,null,"","",null,null,null,null,null,null,false]
[{"$f":"IF($T148=FALSE, \"\", MAX(A$4:A147)+1)","v":""},null,"HSBELOPP04","Belopp för livsföring i övrigt, kategorin, hälso- och sjukvård, april","Utbetalt belopp i ekonomiskt bistånd för livsföringen i övrigt avseende hälso och sjukvård  i resp. månad",null,null,null,null,null,null,"","",null,null,null,null,null,null,false]
[{"$f":"IF($T149=FALSE, \"\", MAX(A$4:A148)+1)","v":""},null,"HSBELOPP05","Belopp för livsföring i övrigt, kategorin, hälso- och sjukvård, maj","Utbetalt belopp i ekonomiskt bistånd för livsföringen i övrigt avseende hälso och sjukvård  i resp. månad",null,null,null,null,null,null,"","",null,null,null,null,null,null,false]
[{"$f":"IF($T150=FALSE, \"\", MAX(A$4:A149)+1)","v":""},null,"HSBELOPP06","Belopp för livsföring i övrigt, kategorin, hälso- och sjukvård, juni","Utbetalt belopp i ekonomiskt bistånd för livsföringen i övrigt avseende hälso och sjukvård  i resp. månad",null,null,null,null,null,null,"","",null,null,null,null,null,null,false]
[{"$f":"IF($T151=FALSE, \"\", MAX(A$4:A150)+1)","v":""},null,"HSBELOPP07","Belopp för livsföring i övrigt, kategorin, hälso- och sjukvård, juli","Utbetalt belopp i ekonomiskt bistånd för livsföringen i övrigt avseende hälso och sjukvård  i resp. månad",null,null,null,null,null,null,"","",null,null,null,null,null,null,false]
[{"$f":"IF($T152=FALSE, \"\", MAX(A$4:A151)+1)","v":""},null,"HSBELOPP08","Belopp för livsföring i övrigt, kategorin, hälso- och sjukvård, augusti","Utbetalt belopp i ekonomiskt bistånd för livsföringen i övrigt avseende hälso och sjukvård  i resp. månad",null,null,null,null,null,null,"","",null,null,null,null,null,null,false]
[{"$f":"IF($T153=FALSE, \"\", MAX(A$4:A152)+1)","v":""},null,"HSBELOPP09","Belopp för livsföring i övrigt, kategorin, hälso- och sjukvård, september","Utbetalt belopp i ekonomiskt bistånd för livsföringen i övrigt avseende hälso och sjukvård  i resp. månad",null,null,null,null,null,null,"","",null,null,null,null,null,null,false]
[{"$f":"IF($T154=FALSE, \"\", MAX(A$4:A153)+1)","v":""},null,"HSBELOPP10","Belopp för livsföring i övrigt, kategorin, hälso- och sjukvård, oktober","Utbetalt belopp i ekonomiskt bistånd för livsföringen i övrigt avseende hälso och sjukvård  i resp. månad",null,null,null,null,null,null,"","",null,null,null,null,null,null,false]
[{"$f":"IF($T155=FALSE, \"\", MAX(A$4:A154)+1)","v":""},null,"HSBELOPP11","Belopp för livsföring i övrigt, kategorin, hälso- och sjukvård, november","Utbetalt belopp i ekonomiskt bistånd för livsföringen i övrigt avseende hälso och sjukvård  i resp. månad",null,null,null,null,null,null,"","",null,null,null,null,null,null,false]
[{"$f":"IF($T156=FALSE, \"\", MAX(A$4:A155)+1)","v":""},null,"HSBELOPP12","Belopp för livsföring i övrigt, kategorin, hälso- och sjukvård, december","Utbetalt belopp i ekonomiskt bistånd för livsföringen i övrigt avseende hälso och sjukvård  i resp. månad",null,null,null,null,null,null,"","",null,null,null,null,null,null,false]
[{"$f":"IF($T157=FALSE, \"\", MAX(A$4:A156)+1)","v":""},null,"HSIND01","Utbetalning finns för livsföring i övrigt, kategorin hälso- och sjukvård, januari","Finns utbetalning för ekonomiskt bistånd för livsföringen i övrigt avseende hälso och sjukvård i resp. månad.",null,null,null,null,null,null,"","",null,null,null,null,null,null,false]
[{"$f":"IF($T158=FALSE, \"\", MAX(A$4:A157)+1)","v":""},null,"HSIND02","Utbetalning finns för livsföring i övrigt, kategorin hälso- och sjukvård, februari","Finns utbetalning för ekonomiskt bistånd för livsföringen i övrigt avseende hälso och sjukvård i resp. månad.",null,null,null,null,null,null,"","",null,null,null,null,null,null,false]
[{"$f":"IF($T159=FALSE, \"\", MAX(A$4:A158)+1)","v":""},null,"HSIND03","Utbetalning finns för livsföring i övrigt, kategorin hälso- och sjukvård, mars","Finns utbetalning för ekonomiskt bistånd för livsföringen i övrigt avseende hälso och sjukvård i resp. månad.",null,null,null,null,null,null,"","",null,null,null,null,null,null,false]
[{"$f":"IF($T160=FALSE, \"\", MAX(A$4:A159)+1)","v":""},null,"HSIND04","Utbetalning finns för livsföring i övrigt, kategorin hälso- och sjukvård, april","Finns utbetalning för ekonomiskt bistånd för livsföringen i övrigt avseende hälso och sjukvård i resp. månad.",null,null,null,null,null,null,"","",null,null,null,null,null,null,false]
[{"$f":"IF($T161=FALSE, \"\", MAX(A$4:A160)+1)","v":""},null,"HSIND05","Utbetalning finns för livsföring i övrigt, kategorin hälso- och sjukvård, maj","Finns utbetalning för ekonomiskt bistånd för livsföringen i övrigt avseende hälso och sjukvård i resp. månad.",null,null,null,null,null,null,"","",null,null,null,null,null,null,false]
[{"$f":"IF($T162=FALSE, \"\", MAX(A$4:A161)+1)","v":""},null,"HSIND06","Utbetalning finns för livsföring i övrigt, kategorin hälso- och sjukvård, juni","Finns utbetalning för ekonomiskt bistånd för livsföringen i övrigt avseende hälso och sjukvård i resp. månad.",null,null,null,null,null,null,"","",null,null,null,null,null,null,false]
[{"$f":"IF($T163=FALSE, \"\", MAX(A$4:A162)+1)","v":""},null,"HSIND07","Utbetalning finns för livsföring i övrigt, kategorin hälso- och sjukvård, juli","Finns utbetalning för ekonomiskt bistånd för livsföringen i övrigt avseende hälso och sjukvård i resp. månad.",null,null,null,null,null,null,"","",null,null,null,null,null,null,false]
[{"$f":"IF($T164=FALSE, \"\", MAX(A$4:A163)+1)","v":""},null,"HSIND08","Utbetalning finns för livsföring i övrigt, kategorin hälso- och sjukvård, augusti","Finns utbetalning för ekonomiskt bistånd för livsföringen i övrigt avseende hälso och sjukvård i resp. månad.",null,null,null,null,null,null,"","",null,null,null,null,null,null,false]
[{"$f":"IF($T165=FALSE, \"\", MAX(A$4:A164)+1)","v":""},null,"HSIND09","Utbetalning finns för livsföring i övrigt, kategorin hälso- och sjukvård, september","Finns utbetalning för ekonomiskt bistånd för livsföringen i övrigt avseende hälso och sjukvård i resp. månad.",null,null,null,null,null,null,"","",null,null,null,null,null,null,false]
[{"$f":"IF($T166=FALSE, \"\", MAX(A$4:A165)+1)","v":""},null,"HSIND10","Utbetalning finns för livsföring i övrigt, kategorin hälso- och sjukvård, oktober","Finns utbetalning för ekonomiskt bistånd för livsföringen i övrigt avseende hälso och sjukvård i resp. månad.",null,null,null,null,null,null,"","",null,null,null,null,null,null,false]
[{"$f":"IF($T167=FALSE, \"\", MAX(A$4:A166)+1)","v":""},null,"HSIND11","Utbetalning finns för livsföring i övrigt, kategorin hälso- och sjukvård, november","Finns utbetalning för ekonomiskt bistånd för livsföringen i övrigt avseende hälso och sjukvård i resp. månad.",null,null,null,null,null,null,"","",null,null,null,null,null,null,false]
[{"$f":"IF($T168=FALSE, \"\", MAX(A$4:A167)+1)","v":""},null,"HSIND12","Utbetalning finns för livsföring i övrigt, kategorin hälso- och sjukvård, december","Finns utbetalning för ekonomiskt bistånd för livsföringen i övrigt avseende hälso och sjukvård i resp. månad.",null,null,null,null,null,null,"","",null,null,null,null,null,null,false]
[{"$f":"IF($T169=FALSE, \"\", MAX(A$4:A168)+1)","v":""},null,"HTYP","Hushållstyp","Typ av hushåll: Ensamstående man eller kvinna med eller utan barn, gifta/sambos med eller utan barn, barnhushåll",null,null,null,null,null,null,"","",null,null,null,null,null,null,false]
[{"$f":"IF($T170=FALSE, \"\", MAX(A$4:A169)+1)","v":""},null,"HYRESSKULDBELOPP01","Belopp för livsföring i övrigt, kategorin, hyresskuld, januari","Utbetalt belopp i ekonomiskt bistånd för livsföringen i övrigt avseende hyresskulder  i resp. månad",null,null,null,null,null,null,"","",null,null,null,null,null,null,false]
[{"$f":"IF($T171=FALSE, \"\", MAX(A$4:A170)+1)","v":""},null,"HYRESSKULDBELOPP02","Belopp för livsföring i övrigt, kategorin, hyresskuld, februari","Utbetalt belopp i ekonomiskt bistånd för livsföringen i övrigt avseende hyresskulder  i resp. månad",null,null,null,null,null,null,"","",null,null,null,null,null,null,false]
[{"$f":"IF($T172=FALSE, \"\", MAX(A$4:A171)+1)","v":""},null,"HYRESSKULDBELOPP03","Belopp för livsföring i övrigt, kategorin, hyresskuld, mars","Utbetalt belopp i ekonomiskt bistånd för livsföringen i övrigt avseende hyresskulder  i resp. månad",null,null,null,null,null,null,"","",null,null,null,null,null,null,false]
[{"$f":"IF($T173=FALSE, \"\", MAX(A$4:A172)+1)","v":""},null,"HYRESSKULDBELOPP04","Belopp för livsföring i övrigt, kategorin, hyresskuld, april","Utbetalt belopp i ekonomiskt bistånd för livsföringen i övrigt avseende hyresskulder  i resp. månad",null,null,null,null,null,null,"","",null,null,null,null,null,null,false]
[{"$f":"IF($T174=FALSE, \"\", MAX(A$4:A173)+1)","v":""},null,"HYRESSKULDBELOPP05","Belopp för livsföring i övrigt, kategorin, hyresskuld, maj","Utbetalt belopp i ekonomiskt bistånd för livsföringen i övrigt avseende hyresskulder  i resp. månad",null,null,null,null,null,null,"","",null,null,null,null,null,null,false]
[{"$f":"IF($T175=FALSE, \"\", MAX(A$4:A174)+1)","v":""},null,"HYRESSKULDBELOPP06","Belopp för livsföring i övrigt, kategorin, hyresskuld, juni","Utbetalt belopp i ekonomiskt bistånd för livsföringen i övrigt avseende hyresskulder  i resp. månad",null,null,null,null,null,null,"","",null,null,null,null,null,null,false]
[{"$f":"IF($T176=FALSE, \"\", MAX(A$4:A175)+1)","v":""},null,"HYRESSKULDBELOPP07","Belopp för livsföring i övrigt, kategorin, hyresskuld, juli","Utbetalt belopp i ekonomiskt bistånd för livsföringen i övrigt avseende hyresskulder  i resp. månad",null,null,null,null,null,null,"","",null,null,null,null,null,null,false]
[{"$f":"IF($T177=FALSE, \"\", MAX(A$4:A176)+1)","v":""},null,"HYRESSKULDBELOPP08","Belopp för livsföring i övrigt, kategorin, hyresskuld, augusti","Utbetalt belopp i ekonomiskt bistånd för livsföringen i övrigt avseende hyresskulder  i resp. månad",null,null,null,null,null,null,"","",null,null,null,null,null,null,false]
[{"$f":"IF($T178=FALSE, \"\", MAX(A$4:A177)+1)","v":""},null,"HYRESSKULDBELOPP09","Belopp för livsföring i övrigt, kategorin, hyresskuld, september","Utbetalt belopp i ekonomiskt bistånd för livsföringen i övrigt avseende hyresskulder  i resp. månad",null,null,null,null,null,null,"","",null,null,null,null,null,null,false]
[{"$f":"IF($T179=FALSE, \"\", MAX(A$4:A178)+1)","v":""},null,"HYRESSKULDBELOPP10","Belopp för livsföring i övrigt, kategorin, hyresskuld, oktober","Utbetalt belopp i ekonomiskt bistånd för livsföringen i övrigt avseende hyresskulder  i resp. månad",null,null,null,null,null,null,"","",null,null,null,null,null,null,false]
[{"$f":"IF($T180=FALSE, \"\", MAX(A$4:A179)+1)","v":""},null,"HYRESSKULDBELOPP11","Belopp för livsföring i övrigt, kategorin, hyresskuld, november","Utbetalt belopp i ekonomiskt bistånd för livsföringen i övrigt avseende hyresskulder  i resp. månad",null,null,null,null,null,null,"","",null,null,null,null,null,null,false]
[{"$f":"IF($T181=FALSE, \"\", MAX(A$4:A180)+1)","v":""},null,"HYRESSKULDBELOPP12","Belopp för livsföring i övrigt, kategorin, hyresskuld, december","Utbetalt belopp i ekonomiskt bistånd för livsföringen i övrigt avseende hyresskulder  i resp. månad",null,null,null,null,null,null,"","",null,null,null,null,null,null,false]
[{"$f":"IF($T182=FALSE, \"\", MAX(A$4:A181)+1)","v":""},null,"HYRESSKULDIND01","Utbetalning finns för livsföring i övrigt, kategorin hyresskuld, januari","Finns utbetalning för ekonomiskt bistånd för livsföringen i övrigt aveende hyresskuld resp. månad.",null,null,null,null,null,null,"","",null,null,null,null,null,null,false]
[{"$f":"IF($T183=FALSE, \"\", MAX(A$4:A182)+1)","v":""},null,"HYRESSKULDIND02","Utbetalning finns för livsföring i övrigt, kategorin hyresskuld, februari","Finns utbetalning för ekonomiskt bistånd för livsföringen i övrigt aveende hyresskuld resp. månad.",null,null,null,null,null,null,"","",null,null,null,null,null,null,false]
[{"$f":"IF($T184=FALSE, \"\", MAX(A$4:A183)+1)","v":""},null,"HYRESSKULDIND03","Utbetalning finns för livsföring i övrigt, kategorin hyresskuld, mars","Finns utbetalning för ekonomiskt bistånd för livsföringen i övrigt aveende hyresskuld resp. månad.",null,null,null,null,null,null,"","",null,null,null,null,null,null,false]
[{"$f":"IF($T185=FALSE, \"\", MAX(A$4:A184)+1)","v":""},null,"HYRESSKULDIND04","Utbetalning finns för livsföring i övrigt, kategorin hyresskuld, april","Finns utbetalning för ekonomiskt bistånd för livsföringen i övrigt aveende hyresskuld resp. månad.",null,null,null,null,null,null,"","",null,null,null,null,null,null,false]
[{"$f":"IF($T186=FALSE, \"\", MAX(A$4:A185)+1)","v":""},null,"HYRESSKULDIND05","Utbetalning finns för livsföring i övrigt, kategorin hyresskuld, maj","Finns utbetalning för ekonomiskt bistånd för livsföringen i övrigt aveende hyresskuld resp. månad.",null,null,null,null,null,null,"","",null,null,null,null,null,null,false]
[{"$f":"IF($T187=FALSE, \"\", MAX(A$4:A186)+1)","v":""},null,"HYRESSKULDIND06","Utbetalning finns för livsföring i övrigt, kategorin hyresskuld, jun","Finns utbetalning för ekonomiskt bistånd för livsföringen i övrigt aveende hyresskuld resp. månad.",null,null,null,null,null,null,"","",null,null,null,null,null,null,false]
[{"$f":"IF($T188=FALSE, \"\", MAX(A$4:A187)+1)","v":""},null,"HYRESSKULDIND07","Utbetalning finns för livsföring i övrigt, kategorin hyresskuld, juli","Finns utbetalning för ekonomiskt bistånd för livsföringen i övrigt aveende hyresskuld resp. månad.",null,null,null,null,null,null,"","",null,null,null,null,null,null,false]
[{"$f":"IF($T189=FALSE, \"\", MAX(A$4:A188)+1)","v":""},null,"HYRESSKULDIND08","Utbetalning finns för livsföring i övrigt, kategorin hyresskuld, augusti","Finns utbetalning för ekonomiskt bistånd för livsföringen i övrigt aveende hyresskuld resp. månad.",null,null,null,null,null,null,"","",null,null,null,null,null,null,false]
[{"$f":"IF($T190=FALSE, \"\", MAX(A$4:A189)+1)","v":""},null,"HYRESSKULDIND09","Utbetalning finns för livsföring i övrigt, kategorin hyresskuld, september","Finns utbetalning för ekonomiskt bistånd för livsföringen i övrigt aveende hyresskuld resp. månad.",null,null,null,null,null,null,"","",null,null,null,null,null,null,false]
[{"$f":"IF($T191=FALSE, \"\", MAX(A$4:A190)+1)","v":""},null,"HYRESSKULDIND10","Utbetalning finns för livsföring i övrigt, kategorin hyresskuld, oktober","Finns utbetalning för ekonomiskt bistånd för livsföringen i övrigt aveende hyresskuld resp. månad.",null,null,null,null,null,null,"","",null,null,null,null,null,null,false]
[{"$f":"IF($T192=FALSE, \"\", MAX(A$4:A191)+1)","v":""},null,"HYRESSKULDIND11","Utbetalning finns för livsföring i övrigt, kategorin hyresskuld, november","Finns utbetalning för ekonomiskt bistånd för livsföringen i övrigt aveende hyresskuld resp. månad.",null,null,null,null,null,null,"","",null,null,null,null,null,null,false]
[{"$f":"IF($T193=FALSE, \"\", MAX(A$4:A192)+1)","v":""},null,"HYRESSKULDIND12","Utbetalning finns för livsföring i övrigt, kategorin hyresskuld, december","Finns utbetalning för ekonomiskt bistånd för livsföringen i övrigt aveende hyresskuld resp. månad.",null,null,null,null,null,null,"","",null,null,null,null,null,null,false]
[{"$f":"IF($T194=FALSE, \"\", MAX(A$4:A193)+1)","v":""},null,"ID","HushållsID (SoS)","Hushålls-id. Sammanslagna personnr för den/de vuxna i hushåll",null,null,null,null,null,null,"","",null,null,null,null,null,null,false]
[{"$f":"IF($T195=FALSE, \"\", MAX(A$4:A194)+1)","v":""},null,"IDDEL1Q","Kvalitetsvariabel för iddel1","Gemensam kvalitetsvariabel som kontrollerar personnummer i iddel1",null,null,null,null,null,null,"","",null,null,null,null,null,null,false]
[{"$f":"IF($T196=FALSE, \"\", MAX(A$4:A195)+1)","v":""},null,"IDDEL2","Personnr för den andra vuxne i hushållet (i de fall det finns)","Personnr för den andra (i de fall det finns)",null,null,null,null,null,null,{"$f":"IFERROR(INDEX(C$3:C$291,MATCH(ROW()-ROW(L$3),$A$3:$A$291,0)),\"\")","v":""},{"$f":"IFERROR(INDEX(D$3:D$291,MATCH(ROW()-ROW(M$3),$A$3:$A$291,0)),\"\")","v":""},null,null,null,null,null,null,false]
[{"$f":"IF($T197=FALSE, \"\", MAX(A$4:A196)+1)","v":""},null,"IDDEL2Q","Kvalitetsvariabel för iddel2","Gemensam kvalitetsvariabel som kontrollerar personnummer i iddel2",null,null,null,null,null,null,"","",null,null,null,null,null,null,false]
[{"$f":"IF($T198=FALSE, \"\", MAX(A$4:A197)+1)","v":""},null,"IEANTMANAD","Antal månader med introduktionsersättning","Antal månader under år med introduktionsersättning",null,null,null,null,null,null,"","",null,null,null,null,null,null,false]
[{"$f":"IF($T199=FALSE, \"\", MAX(A$4:A198)+1)","v":""},null,"IEBELOPP01","Introduktionsersättning, januari","Introduktionsersättning, april",null,null,null,null,null,null,"","",null,null,null,null,null,null,false]
[{"$f":"IF($T200=FALSE, \"\", MAX(A$4:A199)+1)","v":""},null,"IEBELOPP02","Introduktionsersättning, februari","Introduktionsersättning, augusti",null,null,null,null,null,null,"","",null,null,null,null,null,null,false]
[{"$f":"IF($T201=FALSE, \"\", MAX(A$4:A200)+1)","v":""},null,"IEBELOPP03","Introduktionsersättning, mars","Introduktionsersättning, december",null,null,null,null,null,null,"","",null,null,null,null,null,null,false]
[{"$f":"IF($T202=FALSE, \"\", MAX(A$4:A201)+1)","v":""},null,"IEBELOPP04","Introduktionsersättning, april","Introduktionsersättning, februari",null,null,null,null,null,null,"","",null,null,null,null,null,null,false]
[{"$f":"IF($T203=FALSE, \"\", MAX(A$4:A202)+1)","v":""},null,"IEBELOPP05","Introduktionsersättning, maj","Introduktionsersättning, januari",null,null,null,null,null,null,"","",null,null,null,null,null,null,false]
[{"$f":"IF($T204=FALSE, \"\", MAX(A$4:A203)+1)","v":""},null,"IEBELOPP06","Introduktionsersättning, juni","Introduktionsersättning, juli",null,null,null,null,null,null,"","",null,null,null,null,null,null,false]
[{"$f":"IF($T205=FALSE, \"\", MAX(A$4:A204)+1)","v":""},null,"IEBELOPP07","Introduktionsersättning, juli","Introduktionsersättning, juni",null,null,null,null,null,null,"","",null,null,null,null,null,null,false]
[{"$f":"IF($T206=FALSE, \"\", MAX(A$4:A205)+1)","v":""},null,"IEBELOPP08","Introduktionsersättning, augusti","Introduktionsersättning, maj",null,null,null,null,null,null,"","",null,null,null,null,null,null,false]
[{"$f":"IF($T207=FALSE, \"\", MAX(A$4:A206)+1)","v":""},null,"IEBELOPP09","Introduktionsersättning, september","Introduktionsersättning, mars",null,null,null,null,null,null,"","",null,null,null,null,null,null,false]
[{"$f":"IF($T208=FALSE, \"\", MAX(A$4:A207)+1)","v":""},null,"IEBELOPP10","Introduktionsersättning, oktober","Introduktionsersättning, november",null,null,null,null,null,null,"","",null,null,null,null,null,null,false]
[{"$f":"IF($T209=FALSE, \"\", MAX(A$4:A208)+1)","v":""},null,"IEBELOPP11","Introduktionsersättning, november","Introduktionsersättning, oktober",null,null,null,null,null,null,"","",null,null,null,null,null,null,false]
[{"$f":"IF($T210=FALSE, \"\", MAX(A$4:A209)+1)","v":""},null,"IEBELOPP12","Introduktionsersättning, december","Introduduktionsersättning.",null,null,null,null,null,null,"","",null,null,null,null,null,null,false]
[{"$f":"IF($T211=FALSE, \"\", MAX(A$4:A210)+1)","v":""},null,"IETOTALBELOPP","Årssumma för introduktionsersättning","Introduktionsersättning, september",null,null,null,null,null,null,"","",null,null,null,null,null,null,false]
[{"$f":"IF($T212=FALSE, \"\", MAX(A$4:A211)+1)","v":""},null,"INSKRVAFHH","Hushåll inskrivet på Arbetsförmedlingen","Samma som INSKRIHH. Anger om någon av Sökande 1 och ev Sökande 2 har varit inskriven vid Arbetsförmedlingen hela året",null,null,null,null,null,null,"","",null,null,null,null,null,null,false]
[{"$f":"IF($T213=FALSE, \"\", MAX(A$4:A212)+1)","v":""},null,"LIVSFTOTALBELOPP","Utbetalt belopp för livsföringen i övrigt","Totalt utbetalt belopp för livsföringen i övrigt för hela året.",null,null,null,null,null,null,"","",null,null,null,null,null,null,false]
[{"$f":"IF($T214=FALSE, \"\", MAX(A$4:A213)+1)","v":""},null,"LIVSFX","Utbetalningar finns för någon delkategori för livsföringen i övrigt utan specificerade belopp (någon månad).","Indikator=1 för någon delkategori av variablerna för livsföringen i övrigt utan att dess tillhörande belopp är större än 0 någon månad under året för hushållet. Detta kallas då att det är en kryssmarkering.",null,null,null,null,null,null,"","",null,null,null,null,null,null,false]
[{"$f":"IF($T215=FALSE, \"\", MAX(A$4:A214)+1)","v":""},null,"OVRIGSKULDBELOPP01","Belopp för livsföring i övrigt, kategorin, övrig skuld, januari","Utbetalt belopp i ekonomiskt bistånd för livsföringen i övrigt avseende övriga skulder  i resp. månad",null,null,null,null,null,null,"","",null,null,null,null,null,null,false]
[{"$f":"IF($T216=FALSE, \"\", MAX(A$4:A215)+1)","v":""},null,"OVRIGSKULDBELOPP02","Belopp för livsföring i övrigt, kategorin, övrig skuld, februari","Utbetalt belopp i ekonomiskt bistånd för livsföringen i övrigt avseende övriga skulder  i resp. månad",null,null,null,null,null,null,"","",null,null,null,null,null,null,false]
[{"$f":"IF($T217=FALSE, \"\", MAX(A$4:A216)+1)","v":""},null,"OVRIGSKULDBELOPP03","Belopp för livsföring i övrigt, kategorin, övrig skuld, mars","Utbetalt belopp i ekonomiskt bistånd för livsföringen i övrigt avseende övriga skulder  i resp. månad",null,null,null,null,null,null,"","",null,null,null,null,null,null,false]
[{"$f":"IF($T218=FALSE, \"\", MAX(A$4:A217)+1)","v":""},null,"OVRIGSKULDBELOPP04","Belopp för livsföring i övrigt, kategorin, övrig skuld, april","Utbetalt belopp i ekonomiskt bistånd för livsföringen i övrigt avseende övriga skulder  i resp. månad",null,null,null,null,null,null,"","",null,null,null,null,null,null,false]
[{"$f":"IF($T219=FALSE, \"\", MAX(A$4:A218)+1)","v":""},null,"OVRIGSKULDBELOPP05","Belopp för livsföring i övrigt, kategorin, övrig skuld, maj","Utbetalt belopp i ekonomiskt bistånd för livsföringen i övrigt avseende övriga skulder  i resp. månad",null,null,null,null,null,null,"","",null,null,null,null,null,null,false]
[{"$f":"IF($T220=FALSE, \"\", MAX(A$4:A219)+1)","v":""},null,"OVRIGSKULDBELOPP06","Belopp för livsföring i övrigt, kategorin, övrig skuld, jun","Utbetalt belopp i ekonomiskt bistånd för livsföringen i övrigt avseende övriga skulder  i resp. månad",null,null,null,null,null,null,"","",null,null,null,null,null,null,false]
[{"$f":"IF($T221=FALSE, \"\", MAX(A$4:A220)+1)","v":""},null,"OVRIGSKULDBELOPP07","Belopp för livsföring i övrigt, kategorin, övrig skuld, juli","Utbetalt belopp i ekonomiskt bistånd för livsföringen i övrigt avseende övriga skulder  i resp. månad",null,null,null,null,null,null,"","",null,null,null,null,null,null,false]
[{"$f":"IF($T222=FALSE, \"\", MAX(A$4:A221)+1)","v":""},null,"OVRIGSKULDBELOPP08","Belopp för livsföring i övrigt, kategorin, övrig skuld, augusti","Utbetalt belopp i ekonomiskt bistånd för livsföringen i övrigt avseende övriga skulder  i resp. månad",null,null,null,null,null,null,"","",null,null,null,null,null,null,false]
[{"$f":"IF($T223=FALSE, \"\", MAX(A$4:A222)+1)","v":""},null,"OVRIGSKULDBELOPP09","Belopp för livsföring i övrigt, kategorin, övrig skuld, september","Utbetalt belopp i ekonomiskt bistånd för livsföringen i övrigt avseende övriga skulder  i resp. månad",null,null,null,null,null,null,"","",null,null,null,null,null,null,false]
[{"$f":"IF($T224=FALSE, \"\", MAX(A$4:A223)+1)","v":""},null,"OVRIGSKULDBELOPP10","Belopp för livsföring i övrigt, kategorin, övrig skuld, oktober","Utbetalt belopp i ekonomiskt bistånd för livsföringen i övrigt avseende övriga skulder  i resp. månad",null,null,null,null,null,null,"","",null,null,null,null,null,null,false]
[{"$f":"IF($T225=FALSE, \"\", MAX(A$4:A224)+1)","v":""},null,"OVRIGSKULDBELOPP11","Belopp för livsföring i övrigt, kategorin, övrig skuld, november","Utbetalt belopp i ekonomiskt bistånd för livsföringen i övrigt avseende övriga skulder  i resp. månad",null,null,null,null,null,null,"","",null,null,null,null,null,null,false]
[{"$f":"IF($T226=FALSE, \"\", MAX(A$4:A225)+1)","v":""},null,"OVRIGSKULDBELOPP12","Belopp för livsföring i övrigt, kategorin, övrig skuld, december","Utbetalt belopp i ekonomiskt bistånd för livsföringen i övrigt avseende övriga skulder  i resp. månad",null,null,null,null,null,null,"","",null,null,null,null,null,null,false]
[{"$f":"IF($T227=FALSE, \"\", MAX(A$4:A226)+1)","v":""},null,"OVRIGSKULDIND01","Utbetalning finns för livsföring i övrigt, kategorin övrig skuld, januari","Finns utbetalning för Ekonomiskt bistånd för livsföringen i övrigt avseende övrig skuld i resp. månad.",null,null,null,null,null,null,"","",null,null,null,null,null,null,false]
[{"$f":"IF($T228=FALSE, \"\", MAX(A$4:A227)+1)","v":""},null,"OVRIGSKULDIND02","Utbetalning finns för livsföring i övrigt, kategorin övrig skuld, februari","Finns utbetalning för Ekonomiskt bistånd för livsföringen i övrigt avseende övrig skuld i resp. månad.",null,null,null,null,null,null,"","",null,null,null,null,null,null,false]
[{"$f":"IF($T229=FALSE, \"\", MAX(A$4:A228)+1)","v":""},null,"OVRIGSKULDIND03","Utbetalning finns för livsföring i övrigt, kategorin övrig skuld, mars","Finns utbetalning för Ekonomiskt bistånd för livsföringen i övrigt avseende övrig skuld i resp. månad.",null,null,null,null,null,null,"","",null,null,null,null,null,null,false]
[{"$f":"IF($T230=FALSE, \"\", MAX(A$4:A229)+1)","v":""},null,"OVRIGSKULDIND04","Utbetalning finns för livsföring i övrigt, kategorin övrig skuld, april","Finns utbetalning för Ekonomiskt bistånd för livsföringen i övrigt avseende övrig skuld i resp. månad.",null,null,null,null,null,null,"","",null,null,null,null,null,null,false]
[{"$f":"IF($T231=FALSE, \"\", MAX(A$4:A230)+1)","v":""},null,"OVRIGSKULDIND05","Utbetalning finns för livsföring i övrigt, kategorin övrig skuld, maj","Finns utbetalning för Ekonomiskt bistånd för livsföringen i övrigt avseende övrig skuld i resp. månad.",null,null,null,null,null,null,"","",null,null,null,null,null,null,false]
[{"$f":"IF($T232=FALSE, \"\", MAX(A$4:A231)+1)","v":""},null,"OVRIGSKULDIND06","Utbetalning finns för livsföring i övrigt, kategorin övrig skuld, juni","Finns utbetalning för Ekonomiskt bistånd för livsföringen i övrigt avseende övrig skuld i resp. månad.",null,null,null,null,null,null,"","",null,null,null,null,null,null,false]
[{"$f":"IF($T233=FALSE, \"\", MAX(A$4:A232)+1)","v":""},null,"OVRIGSKULDIND07","Utbetalning finns för livsföring i övrigt, kategorin övrig skuld, juli","Finns utbetalning för Ekonomiskt bistånd för livsföringen i övrigt avseende övrig skuld i resp. månad.",null,null,null,null,null,null,"","",null,null,null,null,null,null,false]
[{"$f":"IF($T234=FALSE, \"\", MAX(A$4:A233)+1)","v":""},null,"OVRIGSKULDIND08","Utbetalning finns för livsföring i övrigt, kategorin övrig skuld, augusti","Finns utbetalning för Ekonomiskt bistånd för livsföringen i övrigt avseende övrig skuld i resp. månad.",null,null,null,null,null,null,"","",null,null,null,null,null,null,false]
[{"$f":"IF($T235=FALSE, \"\", MAX(A$4:A234)+1)","v":""},null,"OVRIGSKULDIND09","Utbetalning finns för livsföring i övrigt, kategorin övrig skuld, september","Finns utbetalning för Ekonomiskt bistånd för livsföringen i övrigt avseende övrig skuld i resp. månad.",null,null,null,null,null,null,"","",null,null,null,null,null,null,false]
[{"$f":"IF($T236=FALSE, \"\", MAX(A$4:A235)+1)","v":""},null,"OVRIGSKULDIND10","Utbetalning finns för livsföring i övrigt, kategorin övrig skuld, oktober","Finns utbetalning för Ekonomiskt bistånd för livsföringen i övrigt avseende övrig skuld i resp. månad.",null,null,null,null,null,null,"","",null,null,null,null,null,null,false]
[{"$f":"IF($T237=FALSE, \"\", MAX(A$4:A236)+1)","v":""},null,"OVRIGSKULDIND11","Utbetalning finns för livsföring i övrigt, kategorin övrig skuld, november","Finns utbetalning för Ekonomiskt bistånd för livsföringen i övrigt avseende övrig skuld i resp. månad.",null,null,null,null,null,null,"","",null,null,null,null,null,null,false]
[{"$f":"IF($T238=FALSE, \"\", MAX(A$4:A237)+1)","v":""},null,"OVRIGSKULDIND12","Utbetalning finns för livsföring i övrigt, kategorin övrig skuld, december","Finns utbetalning för Ekonomiskt bistånd för livsföringen i övrigt avseende övrig skuld i resp. månad.",null,null,null,null,null,null,"","",null,null,null,null,null,null,false]
[{"$f":"IF($T239=FALSE, \"\", MAX(A$4:A238)+1)","v":""},null,"SOK1ALDER","Sökande 1:s ålder","sökande 1:s ålder",null,null,null,null,null,null,"","",null,null,null,null,null,null,false]
[{"$f":"IF($T240=FALSE, \"\", MAX(A$4:A239)+1)","v":""},null,"SOK1HINDER","Vanligaste hinder för Sökande 1 under året.","Vanligaste hinder för den först registrerade sökande i hushållet under året. Om två eller fler hinder är lika frekventa väljs det senaste mest frekventa.",null,null,null,null,null,null,"","",null,null,null,null,null,null,false]
[{"$f":"IF($T241=FALSE, \"\", MAX(A$4:A240)+1)","v":""},null,"SOK1HINDER01","Sökande 1 hinder, januari","Sökande 1 först registrerade försörjningshinder resp månad",null,null,null,null,null,null,"","",null,null,null,null,null,null,false]
[{"$f":"IF($T242=FALSE, \"\", MAX(A$4:A241)+1)","v":""},null,"SOK1HINDER02","Sökande 1 hinder, februari","Sökande 1 först registrerade försörjningshinder resp månad",null,null,null,null,null,null,"","",null,null,null,null,null,null,false]
[{"$f":"IF($T243=FALSE, \"\", MAX(A$4:A242)+1)","v":""},null,"SOK1HINDER03","Sökande 1 hinder, mars","Sökande 1 först registrerade försörjningshinder resp månad",null,null,null,null,null,null,"","",null,null,null,null,null,null,false]
[{"$f":"IF($T244=FALSE, \"\", MAX(A$4:A243)+1)","v":""},null,"SOK1HINDER04","Sökande 1 hinder, april","Sökande 1 först registrerade försörjningshinder resp månad",null,null,null,null,null,null,"","",null,null,null,null,null,null,false]
[{"$f":"IF($T245=FALSE, \"\", MAX(A$4:A244)+1)","v":""},null,"SOK1HINDER05","Sökande 1 hinder, maj","Sökande 1 först registrerade försörjningshinder resp månad",null,null,null,null,null,null,"","",null,null,null,null,null,null,false]
[{"$f":"IF($T246=FALSE, \"\", MAX(A$4:A245)+1)","v":""},null,"SOK1HINDER06","Sökande 1 hinder, juni","Sökande 1 först registrerade försörjningshinder resp månad",null,null,null,null,null,null,"","",null,null,null,null,null,null,false]
[{"$f":"IF($T247=FALSE, \"\", MAX(A$4:A246)+1)","v":""},null,"SOK1HINDER07","Sökande 1 hinder, juli","Sökande 1 först registrerade försörjningshinder resp månad",null,null,null,null,null,null,"","",null,null,null,null,null,null,false]
[{"$f":"IF($T248=FALSE, \"\", MAX(A$4:A247)+1)","v":""},null,"SOK1HINDER08","Sökande 1 hinder, augusti","Sökande 1 först registrerade försörjningshinder resp månad",null,null,null,null,null,null,"","",null,null,null,null,null,null,false]
[{"$f":"IF($T249=FALSE, \"\", MAX(A$4:A248)+1)","v":""},null,"SOK1HINDER09","Sökande 1 hinder, september","Sökande 1 först registrerade försörjningshinder resp månad",null,null,null,null,null,null,"","",null,null,null,null,null,null,false]
[{"$f":"IF($T250=FALSE, \"\", MAX(A$4:A249)+1)","v":""},null,"SOK1HINDER10","Sökande 1 hinder, oktober","Sökande 1 först registrerade försörjningshinder resp månad",null,null,null,null,null,null,"","",null,null,null,null,null,null,false]
[{"$f":"IF($T251=FALSE, \"\", MAX(A$4:A250)+1)","v":""},null,"SOK1HINDER11","Sökande 1 hinder, november","Sökande 1 först registrerade försörjningshinder resp månad",null,null,null,null,null,null,"","",null,null,null,null,null,null,false]
[{"$f":"IF($T252=FALSE, \"\", MAX(A$4:A251)+1)","v":""},null,"SOK1HINDER12","Sökande 1 hinder, december","Sökande 1 först registrerade försörjningshinder resp månad",null,null,null,null,null,null,"","",null,null,null,null,null,null,false]
[{"$f":"IF($T253=FALSE, \"\", MAX(A$4:A252)+1)","v":""},null,"SOK2HINDER","Vanligaste hinder för sökande 2 under året.","Vanligaste hinder för den ev. andre registrerade sökande i hushållet under året. Om två eller fler hinder är lika frekventa väljs det senaste mest frekventa.",null,null,null,null,null,null,"","",null,null,null,null,null,null,false]
[{"$f":"IF($T254=FALSE, \"\", MAX(A$4:A253)+1)","v":""},null,"SOK2HINDER01","Sökande 2 hinder, januari","Sökande 2 först registrerade försörjningshinder resp. månad,",null,null,null,null,null,null,"","",null,null,null,null,null,null,false]
[{"$f":"IF($T255=FALSE, \"\", MAX(A$4:A254)+1)","v":""},null,"SOK2HINDER02","Sökande 2 hinder, februari","Sökande 2 först registrerade försörjningshinder resp. månad,",null,null,null,null,null,null,"","",null,null,null,null,null,null,false]
[{"$f":"IF($T256=FALSE, \"\", MAX(A$4:A255)+1)","v":""},null,"SOK2HINDER03","Sökande 2 hinder, mars","Sökande 2 först registrerade försörjningshinder resp. månad,",null,null,null,null,null,null,"","",null,null,null,null,null,null,false]
[{"$f":"IF($T257=FALSE, \"\", MAX(A$4:A256)+1)","v":""},null,"SOK2HINDER04","Sökande 2 hinder, april","Sökande 2 först registrerade försörjningshinder resp. månad,",null,null,null,null,null,null,"","",null,null,null,null,null,null,false]
[{"$f":"IF($T258=FALSE, \"\", MAX(A$4:A257)+1)","v":""},null,"SOK2HINDER05","Sökande 2 hinder, maj","Sökande 2 först registrerade försörjningshinder resp. månad,",null,null,null,null,null,null,"","",null,null,null,null,null,null,false]
[{"$f":"IF($T259=FALSE, \"\", MAX(A$4:A258)+1)","v":""},null,"SOK2HINDER06","Sökande 2 hinder, jun","Sökande 2 först registrerade försörjningshinder resp. månad,",null,null,null,null,null,null,"","",null,null,null,null,null,null,false]
[{"$f":"IF($T260=FALSE, \"\", MAX(A$4:A259)+1)","v":""},null,"SOK2HINDER07","Sökande 2 hinder, juli","Sökande 2 först registrerade försörjningshinder resp. månad,",null,null,null,null,null,null,{"$f":"IFERROR(INDEX(C$3:C$291,MATCH(ROW()-ROW(L$3),$A$3:$A$291,0)),\"\")","v":""},{"$f":"IFERROR(INDEX(D$3:D$291,MATCH(ROW()-ROW(M$3),$A$3:$A$291,0)),\"\")","v":""},null,null,null,null,null,null,false]
[{"$f":"IF($T261=FALSE, \"\", MAX(A$4:A260)+1)","v":""},null,"SOK2HINDER08","Sökande 2 hinder, augusti","Sökande 2 först registrerade försörjningshinder resp. månad,",null,null,null,null,null,null,"","",null,null,null,null,null,null,false]
[{"$f":"IF($T262=FALSE, \"\", MAX(A$4:A261)+1)","v":""},null,"SOK2HINDER09","Sökande 2 hinder, september","Sökande 2 först registrerade försörjningshinder resp. månad,",null,null,null,null,null,null,"","",null,null,null,null,null,null,false]
[{"$f":"IF($T263=FALSE, \"\", MAX(A$4:A262)+1)","v":""},null,"SOK2HINDER10","Sökande 2 hinder, oktober","Sökande 2 först registrerade försörjningshinder resp. månad,",null,null,null,null,null,null,"","",null,null,null,null,null,null,false]
[{"$f":"IF($T264=FALSE, \"\", MAX(A$4:A263)+1)","v":""},null,"SOK2HINDER11","Sökande 2 hinder, november","Sökande 2 först registrerade försörjningshinder resp. månad,",null,null,null,null,null,null,"","",null,null,null,null,null,null,false]
[{"$f":"IF($T265=FALSE, \"\", MAX(A$4:A264)+1)","v":""},null,"SOK2HINDER12","Sökande 2 hinder, december","Sökande 2 först registrerade försörjningshinder resp. månad,",null,null,null,null,null,null,"","",null,null,null,null,null,null,false]
[{"$f":"IF($T266=FALSE, \"\", MAX(A$4:A265)+1)","v":""},null,"TANDVBELOPP01","Belopp för livsföring i övrigt, kategorin, tandvård, januari","Utbetalt belopp i ekonomiskt bistånd för livsföringen i övrigt avseende tandvård i resp. månad",null,null,null,null,null,null,"","",null,null,null,null,null,null,false]
[{"$f":"IF($T267=FALSE, \"\", MAX(A$4:A266)+1)","v":""},null,"TANDVBELOPP02","Belopp för livsföring i övrigt, kategorin, tandvård, februari","Utbetalt belopp i ekonomiskt bistånd för livsföringen i övrigt avseende tandvård i resp. månad",null,null,null,null,null,null,"","",null,null,null,null,null,null,false]
[{"$f":"IF($T268=FALSE, \"\", MAX(A$4:A267)+1)","v":""},null,"TANDVBELOPP03","Belopp för livsföring i övrigt, kategorin, tandvård, mars","Utbetalt belopp i ekonomiskt bistånd för livsföringen i övrigt avseende tandvård i resp. månad",null,null,null,null,null,null,"","",null,null,null,null,null,null,false]
[{"$f":"IF($T269=FALSE, \"\", MAX(A$4:A268)+1)","v":""},null,"TANDVBELOPP04","Belopp för livsföring i övrigt, kategorin, tandvård, april","Utbetalt belopp i ekonomiskt bistånd för livsföringen i övrigt avseende tandvård i resp. månad",null,null,null,null,null,null,"","",null,null,null,null,null,null,false]
[{"$f":"IF($T270=FALSE, \"\", MAX(A$4:A269)+1)","v":""},null,"TANDVBELOPP05","Belopp för livsföring i övrigt, kategorin, tandvård, maj","Utbetalt belopp i ekonomiskt bistånd för livsföringen i övrigt avseende tandvård i resp. månad",null,null,null,null,null,null,"","",null,null,null,null,null,null,false]
[{"$f":"IF($T271=FALSE, \"\", MAX(A$4:A270)+1)","v":""},null,"TANDVBELOPP06","Belopp för livsföring i övrigt, kategorin, tandvård, juni","Utbetalt belopp i ekonomiskt bistånd för livsföringen i övrigt avseende tandvård i resp. månad",null,null,null,null,null,null,"","",null,null,null,null,null,null,false]
[{"$f":"IF($T272=FALSE, \"\", MAX(A$4:A271)+1)","v":""},null,"TANDVBELOPP07","Belopp för livsföring i övrigt, kategorin, tandvård, juli","Utbetalt belopp i ekonomiskt bistånd för livsföringen i övrigt avseende tandvård i resp. månad",null,null,null,null,null,null,"","",null,null,null,null,null,null,false]
[{"$f":"IF($T273=FALSE, \"\", MAX(A$4:A272)+1)","v":""},null,"TANDVBELOPP08","Belopp för livsföring i övrigt, kategorin, tandvård, augusti","Utbetalt belopp i ekonomiskt bistånd för livsföringen i övrigt avseende tandvård i resp. månad",null,null,null,null,null,null,"","",null,null,null,null,null,null,false]
[{"$f":"IF($T274=FALSE, \"\", MAX(A$4:A273)+1)","v":""},null,"TANDVBELOPP09","Belopp för livsföring i övrigt, kategorin, tandvård, september","Utbetalt belopp i ekonomiskt bistånd för livsföringen i övrigt avseende tandvård i resp. månad",null,null,null,null,null,null,"","",null,null,null,null,null,null,false]
[{"$f":"IF($T275=FALSE, \"\", MAX(A$4:A274)+1)","v":""},null,"TANDVBELOPP10","Belopp för livsföring i övrigt, kategorin, tandvård, oktober","Utbetalt belopp i ekonomiskt bistånd för livsföringen i övrigt avseende tandvård i resp. månad",null,null,null,null,null,null,"","",null,null,null,null,null,null,false]
[{"$f":"IF($T276=FALSE, \"\", MAX(A$4:A275)+1)","v":""},null,"TANDVBELOPP11","Belopp för livsföring i övrigt, kategorin, tandvård, november","Utbetalt belopp i ekonomiskt bistånd för livsföringen i övrigt avseende tandvård i resp. månad",null,null,null,null,null,null,"","",null,null,null,null,null,null,false]
[{"$f":"IF($T277=FALSE, \"\", MAX(A$4:A276)+1)","v":""},null,"TANDVBELOPP12","Belopp för livsföring i övrigt, kategorin, tandvård, december","Utbetalt belopp i ekonomiskt bistånd för livsföringen i övrigt avseende tandvård i resp. månad",null,null,null,null,null,null,"","",null,null,null,null,null,null,false]
[{"$f":"IF($T278=FALSE, \"\", MAX(A$4:A277)+1)","v":""},null,"TANDVIND01","Utbetalning finns för livsföring i övrigt, kategorin tandvård, januari","Finns utbetalning för ekonomiskt bistånd för livsföringen i övrigt avseende tandvård i resp. månad.",null,null,null,null,null,null,"","",null,null,null,null,null,null,false]
[{"$f":"IF($T279=FALSE, \"\", MAX(A$4:A278)+1)","v":""},null,"TANDVIND02","Utbetalning finns för livsföring i övrigt, kategorin tandvård, februari","Finns utbetalning för ekonomiskt bistånd för livsföringen i övrigt avseende tandvård i resp. månad.",null,null,null,null,null,null,"","",null,null,null,null,null,null,false]
[{"$f":"IF($T280=FALSE, \"\", MAX(A$4:A279)+1)","v":""},null,"TANDVIND03","Utbetalning finns för livsföring i övrigt, kategorin tandvård, mars","Finns utbetalning för ekonomiskt bistånd för livsföringen i övrigt avseende tandvård i resp. månad.",null,null,null,null,null,null,"","",null,null,null,null,null,null,false]
[{"$f":"IF($T281=FALSE, \"\", MAX(A$4:A280)+1)","v":""},null,"TANDVIND04","Utbetalning finns för livsföring i övrigt, kategorin tandvård, april","Finns utbetalning för ekonomiskt bistånd för livsföringen i övrigt avseende tandvård i resp. månad.",null,null,null,null,null,null,"","",null,null,null,null,null,null,false]
[{"$f":"IF($T282=FALSE, \"\", MAX(A$4:A281)+1)","v":""},null,"TANDVIND05","Utbetalning finns för livsföring i övrigt, kategorin tandvård, maj","Finns utbetalning för ekonomiskt bistånd för livsföringen i övrigt avseende tandvård i resp. månad.",null,null,null,null,null,null,"","",null,null,null,null,null,null,false]
[{"$f":"IF($T283=FALSE, \"\", MAX(A$4:A282)+1)","v":""},null,"TANDVIND06","Utbetalning finns för livsföring i övrigt, kategorin tandvård, juni","Finns utbetalning för ekonomiskt bistånd för livsföringen i övrigt avseende tandvård i resp. månad.",null,null,null,null,null,null,"","",null,null,null,null,null,null,false]
[{"$f":"IF($T284=FALSE, \"\", MAX(A$4:A283)+1)","v":""},null,"TANDVIND07","Utbetalning finns för livsföring i övrigt, kategorin tandvård, juli","Finns utbetalning för ekonomiskt bistånd för livsföringen i övrigt avseende tandvård i resp. månad.",null,null,null,null,null,null,"","",null,null,null,null,null,null,false]
[{"$f":"IF($T285=FALSE, \"\", MAX(A$4:A284)+1)","v":""},null,"TANDVIND08","Utbetalning finns för livsföring i övrigt, kategorin tandvård, augusti","Finns utbetalning för ekonomiskt bistånd för livsföringen i övrigt avseende tandvård i resp. månad.",null,null,null,null,null,null,"","",null,null,null,null,null,null,false]
[{"$f":"IF($T286=FALSE, \"\", MAX(A$4:A285)+1)","v":""},null,"TANDVIND09","Utbetalning finns för livsföring i övrigt, kategorin tandvård, september","Finns utbetalning för ekonomiskt bistånd för livsföringen i övrigt avseende tandvård i resp. månad.",null,null,null,null,null,null,"","",null,null,null,null,null,null,false]
[{"$f":"IF($T287=FALSE, \"\", MAX(A$4:A286)+1)","v":""},null,"TANDVIND10","Utbetalning finns för livsföring i övrigt, kategorin tandvård, oktober","Finns utbetalning för ekonomiskt bistånd för livsföringen i övrigt avseende tandvård i resp. månad.",null,null,null,null,null,null,"","",null,null,null,null,null,null,false]
[{"$f":"IF($T288=FALSE, \"\", MAX(A$4:A287)+1)","v":""},null,"TANDVIND11","Utbetalning finns för livsföring i övrigt, kategorin tandvård, november","Finns utbetalning för ekonomiskt bistånd för livsföringen i övrigt avseende tandvård i resp. månad.",null,null,null,null,null,null,"","",null,null,null,null,null,null,false]
[{"$f":"IF($T289=FALSE, \"\", MAX(A$4:A288)+1)","v":""},null,"TANDVIND12","Utbetalning finns för livsföring i övrigt, kategorin tandvård, december","Finns utbetalning för ekonomiskt bistånd för livsföringen i övrigt avseende tandvård i resp. månad.",null,null,null,null,null,null,"","",null,null,null,null,null,null,false]
[{"$f":"IF($T290=FALSE, \"\", MAX(A$4:A289)+1)","v":""},null,"TOTALBELOPP","Belopp totalt under året: ekonomiskt bistånd inkl. introduktionsersättning.",null,null,null,null,null,null,null,"","",null,null,null,null,null,null,false]
[{"$f":"IF($T291=FALSE, \"\", MAX(A$4:A290)+1)","v":""},null,"UTRFODHH","Utrikesfött hushåll","Anger om någon av Sökande 1 och ev. Sökande 2 är född utrikes.",null,null,null,null,null,null,"","",null,null,null,null,null,null,false]
[null,null,null,null,null,null,null,null,null,null,null,{"$f":"IFERROR(INDEX(C$4:C$295,MATCH(ROW()-ROW(#REF!),$A$4:$A$296,0)),\"\")","v":""},{"$f":"IFERROR(INDEX(D$4:D$295,MATCH(ROW()-ROW(#REF!),$A$4:$A$296,0)),\"\")","v":""},null,null,null,null,null,null,false]
[null,null,null,null,null,null,null,null,null,null,null,{"$f":"IFERROR(INDEX(C$4:C$295,MATCH(ROW()-ROW(#REF!),$A$4:$A$296,0)),\"\")","v":""},{"$f":"IFERROR(INDEX(D$4:D$295,MATCH(ROW()-ROW(#REF!),$A$4:$A$296,0)),\"\")","v":""},null,null,null,null,null,null,false]
[null,null,null,null,null,null,null,null,null,null,null,{"$f":"IFERROR(INDEX(C$4:C$295,MATCH(ROW()-ROW(#REF!),$A$4:$A$296,0)),\"\")","v":""},{"$f":"IFERROR(INDEX(D$4:D$295,MATCH(ROW()-ROW(#REF!),$A$4:$A$296,0)),\"\")","v":""},null,null,null,null,null,null,false]
[null,null,null,null,null,null,null,null,null,null,null,{"$f":"IFERROR(INDEX(C$4:C$295,MATCH(ROW()-ROW(#REF!),$A$4:$A$296,0)),\"\")","v":""},{"$f":"IFERROR(INDEX(D$4:D$295,MATCH(ROW()-ROW(#REF!),$A$4:$A$296,0)),\"\")","v":""},null,null,null,null,null,null,false]
[{"$f":"IF($T296=FALSE, \"\", MAX(A$4:A295)+1)","v":""},null,null,null,null,null,null,null,null,null,null,{"$f":"IFERROR(INDEX(C$4:C$295,MATCH(ROW()-ROW(#REF!),$A$4:$A$296,0)),\"\")","v":""},{"$f":"IFERROR(INDEX(D$4:D$295,MATCH(ROW()-ROW(#REF!),$A$4:$A$296,0)),\"\")","v":""}]

{"sheet":"EKB_MAN","index":23,"n_rows":86,"n_cols":20,"rows_kept":86,"cut":false,"hidden":true,"merged":[]}
[null,null,null,null,"Ekonomiskt bistånd EKB, Månad"]
[]
["#","Val","Variabel","Klartext","Definition","Kommentar",null,null,null,null,null,"Variabel","Klartext",null,null,null,null,null,null,false]
[{"$f":"IF($T4=FALSE, \"\", MAX(A$3:A3)+1)","v":""},null,"ALDER","Ålder","Biståndsmottagarens ålder",null,null,null,null,null,null,{"$f":"IFERROR(INDEX(C$4:C$84,MATCH(ROW()-ROW(L$3),$A$4:$A$84,0)),\"\")","v":""},{"$f":"IFERROR(INDEX(D$4:D$84,MATCH(ROW()-ROW(M$3),$A$4:$A$84,0)),\"\")","v":""},null,null,null,null,null,null,false]
[{"$f":"IF($T5=FALSE, \"\", MAX(A$4:A4)+1)","v":""},null,"AR","Statistikår","Statistikår",null,null,null,null,null,null,"","",null,null,null,null,null,null,false]
[{"$f":"IF($T6=FALSE, \"\", MAX(A$4:A5)+1)","v":""},null,"FLYKTING","Flykting","Anger om biståndsmottagare är flytking eller inte",null,null,null,null,null,null,"","",null,null,null,null,null,null,false]
[{"$f":"IF($T7=FALSE, \"\", MAX(A$4:A6)+1)","v":""},null,"HHSTATUS","Hushållsstatus","Biståndsmottagarens status i hushållet",null,null,null,null,null,null,"","",null,null,null,null,null,null,false]
[{"$f":"IF($T8=FALSE, \"\", MAX(A$4:A7)+1)","v":""},null,"HINDER","Försörjningshinder","Försörjningshinderskod för ekonomiskt bistånd",null,null,null,null,null,null,"","",null,null,null,null,null,null,false]
[{"$f":"IF($T9=FALSE, \"\", MAX(A$4:A8)+1)","v":""},null,"INVANDRA","Invandringsår","Senaste invandringsår",null,null,null,null,null,null,"","",null,null,null,null,null,null,false]
[{"$f":"IF($T10=FALSE, \"\", MAX(A$4:A9)+1)","v":""},null,"KON","Kön","Biståndsmottagarens kön",null,null,null,null,null,null,"","",null,null,null,null,null,null,false]
[{"$f":"IF($T11=FALSE, \"\", MAX(A$4:A10)+1)","v":""},null,"LK","Kommunkod","4--ställig kommunkod enligt rikets indelningar.",null,null,null,null,null,null,"","",null,null,null,null,null,null,false]
[{"$f":"IF($T12=FALSE, \"\", MAX(A$4:A11)+1)","v":""},null,"LOPNR","Löpnummer","Löpande numrering av posterna, unik inom varje månad för alla hushåll",null,null,null,null,null,null,"","",null,null,null,null,null,null,false]
[{"$f":"IF($T13=FALSE, \"\", MAX(A$4:A12)+1)","v":""},null,"MANAD","Statistikmånad","Statistikmånad",null,null,null,null,null,null,"","",null,null,null,null,null,null,false]
[{"$f":"IF($T14=FALSE, \"\", MAX(A$4:A13)+1)","v":""},null,"PERSORDN","Ordningsnummer i hushållet","Numrering för personerna i hushållet. Används i identiteten.",null,null,null,null,null,null,"","",null,null,null,null,null,null,false]
[{"$f":"IF($T15=FALSE, \"\", MAX(A$4:A14)+1)","v":""},null,"SOKINS01","Arbetsförberedande insatser","Insats som biståndstagaren deltagit i under månaden",null,null,null,null,null,null,"","",null,null,null,null,null,null,false]
[{"$f":"IF($T16=FALSE, \"\", MAX(A$4:A15)+1)","v":""},null,"SOKINS02","Arbetspraktik","Insats som biståndstagaren deltagit i under månaden",null,null,null,null,null,null,"","",null,null,null,null,null,null,false]
[{"$f":"IF($T17=FALSE, \"\", MAX(A$4:A16)+1)","v":""},null,"SOKINS03","Jobbsökaraktivitet","Insats som biståndstagaren deltagit i under månaden",null,null,null,null,null,null,"","",null,null,null,null,null,null,false]
[{"$f":"IF($T18=FALSE, \"\", MAX(A$4:A17)+1)","v":""},null,"SOKINS04","Kurs","Insats som biståndstagaren deltagit i under månaden",null,null,null,null,null,null,"","",null,null,null,null,null,null,false]
[{"$f":"IF($T19=FALSE, \"\", MAX(A$4:A18)+1)","v":""},null,"SOKINS05","Studie- och yrkesvägledning","Insats som biståndstagaren deltagit i under månaden",null,null,null,null,null,null,"","",null,null,null,null,null,null,false]
[{"$f":"IF($T20=FALSE, \"\", MAX(A$4:A19)+1)","v":""},null,"SOKINS06","Övriga kommunala arbetsmarknadsinsatser","Insats som biståndstagaren deltagit i under månaden",null,null,null,null,null,null,"","",null,null,null,null,null,null,false]
[{"$f":"IF($T21=FALSE, \"\", MAX(A$4:A20)+1)","v":""},null,"SOKINS07","Ej aktuellt med kommunala arbetsmarknadsinsatser","Insats som biståndstagaren deltagit i under månaden",null,null,null,null,null,null,"","",null,null,null,null,null,null,false]
[{"$f":"IF($T22=FALSE, \"\", MAX(A$4:A21)+1)","v":""},null,"STADSDEL","Stadsdel","Stadsdel/Kommundel el. dylik. Obligatorisk för Stockholm, Göteborg och Malmö",null,null,null,null,null,null,"","",null,null,null,null,null,null,false]
[{"$f":"IF($T23=FALSE, \"\", MAX(A$4:A22)+1)","v":""},null,"UTRIKESFODD","Kod för födelselandsgruppering","Anger om biståndsmottagare är utrikes född eller inte, eller om matchning saknas",null,null,null,null,null,null,"","",null,null,null,null,null,null,false]
[{"$f":"IF($T24=FALSE, \"\", MAX(A$4:A23)+1)","v":""},null,"ANNATBELOPP","Belopp för livsföring i övrigt, kategorin Annat för månaden.","Utbetalt belopp i ekonomiskt bistånd för livsföringen i övrigt avseende annat.",null,null,null,null,null,null,"","",null,null,null,null,null,null,false]
[{"$f":"IF($T25=FALSE, \"\", MAX(A$4:A24)+1)","v":""},null,"ANNATIND","Utbetalning finns för livsföring i övrigt, kategorin annat, för månaden","Utbetalt belopp i ekonomiskt bistånd för livsföringen i övrigt avseende annat resp. månad.",null,null,null,null,null,null,"","",null,null,null,null,null,null,false]
[{"$f":"IF($T26=FALSE, \"\", MAX(A$4:A25)+1)","v":""},null,"ANTBARN00","Antal barn, 0 år","Antal barn 0 år",null,null,null,null,null,null,"","",null,null,null,null,null,null,false]
[{"$f":"IF($T27=FALSE, \"\", MAX(A$4:A26)+1)","v":""},null,"ANTBARN0017","Antal barn < 18 år","Antal barn <18 år",null,null,null,null,null,null,"","",null,null,null,null,null,null,false]
[{"$f":"IF($T28=FALSE, \"\", MAX(A$4:A27)+1)","v":""},null,"ANTBARN01","Antal barn, 1 år","Antal barn 1 år",null,null,null,null,null,null,"","",null,null,null,null,null,null,false]
[{"$f":"IF($T29=FALSE, \"\", MAX(A$4:A28)+1)","v":""},null,"ANTBARN02","Antal barn, 2 år","Antal barn 2 år",null,null,null,null,null,null,"","",null,null,null,null,null,null,false]
[{"$f":"IF($T30=FALSE, \"\", MAX(A$4:A29)+1)","v":""},null,"ANTBARN03","Antal barn, 3 år","Antal barn 3 år",null,null,null,null,null,null,"","",null,null,null,null,null,null,false]
[{"$f":"IF($T31=FALSE, \"\", MAX(A$4:A30)+1)","v":""},null,"ANTBARN04","Antal barn, 4 år","Antal barn 4 år",null,null,null,null,null,null,"","",null,null,null,null,null,null,false]
[{"$f":"IF($T32=FALSE, \"\", MAX(A$4:A31)+1)","v":""},null,"ANTBARN05","Antal barn, 5 år","Antal barn 5 år",null,null,null,null,null,null,"","",null,null,null,null,null,null,false]
[{"$f":"IF($T33=FALSE, \"\", MAX(A$4:A32)+1)","v":""},null,"ANTBARN06","Antal barn, 6 år","Antal barn 6 år",null,null,null,null,null,null,"","",null,null,null,null,null,null,false]
[{"$f":"IF($T34=FALSE, \"\", MAX(A$4:A33)+1)","v":""},null,"ANTBARN07","Antal barn, 7 år","Antal barn 7 år",null,null,null,null,null,null,"","",null,null,null,null,null,null,false]
[{"$f":"IF($T35=FALSE, \"\", MAX(A$4:A34)+1)","v":""},null,"ANTBARN08","Antal barn, 8 år","Antal barn 8 år",null,null,null,null,null,null,"","",null,null,null,null,null,null,false]
[{"$f":"IF($T36=FALSE, \"\", MAX(A$4:A35)+1)","v":""},null,"ANTBARN09","Antal barn, 9 år","Antal barn 9 år",null,null,null,null,null,null,{"$f":"IFERROR(INDEX(C$4:C$84,MATCH(ROW()-ROW(L$3),$A$4:$A$84,0)),\"\")","v":""},{"$f":"IFERROR(INDEX(D$4:D$84,MATCH(ROW()-ROW(M$3),$A$4:$A$84,0)),\"\")","v":""},null,null,null,null,null,null,false]
[{"$f":"IF($T37=FALSE, \"\", MAX(A$4:A36)+1)","v":""},null,"ANTBARN10","Antal barn, 10 år","Antal barn 10 år",null,null,null,null,null,null,"","",null,null,null,null,null,null,false]
[{"$f":"IF($T38=FALSE, \"\", MAX(A$4:A37)+1)","v":""},null,"ANTBARN11","Antal barn, 11 år","Antal barn 11 år",null,null,null,null,null,null,"","",null,null,null,null,null,null,false]
[{"$f":"IF($T39=FALSE, \"\", MAX(A$4:A38)+1)","v":""},null,"ANTBARN12","Antal barn, 12 år","Antal barn 12 år",null,null,null,null,null,null,"","",null,null,null,null,null,null,false]
[{"$f":"IF($T40=FALSE, \"\", MAX(A$4:A39)+1)","v":""},null,"ANTBARN13","Antal barn, 13 år","Antal barn 13 år",null,null,null,null,null,null,"","",null,null,null,null,null,null,false]
[{"$f":"IF($T41=FALSE, \"\", MAX(A$4:A40)+1)","v":""},null,"ANTBARN14","Antal barn, 14 år","Antal barn 14 år",null,null,null,null,null,null,"","",null,null,null,null,null,null,false]
[{"$f":"IF($T42=FALSE, \"\", MAX(A$4:A41)+1)","v":""},null,"ANTBARN15","Antal barn, 15 år","Antal barn 15 år",null,null,null,null,null,null,"","",null,null,null,null,null,null,false]
[{"$f":"IF($T43=FALSE, \"\", MAX(A$4:A42)+1)","v":""},null,"ANTBARN16","Antal barn, 16 år","Antal barn 16 år",null,null,null,null,null,null,"","",null,null,null,null,null,null,false]
[{"$f":"IF($T44=FALSE, \"\", MAX(A$4:A43)+1)","v":""},null,"ANTBARN17","Antal barn, 17 år","Antal barn 17 år",null,null,null,null,null,null,"","",null,null,null,null,null,null,false]
[{"$f":"IF($T45=FALSE, \"\", MAX(A$4:A44)+1)","v":""},null,"ANTPERS","Antal personer i hushållet","Antal personer i hushållet",null,null,null,null,null,null,"","",null,null,null,null,null,null,false]
[{"$f":"IF($T46=FALSE, \"\", MAX(A$4:A45)+1)","v":""},null,"ANTPERS1821","Antal personer i hushållet som är mellan 18-21 år","Antal personer 18-21 år (Antal sökande 3-7 i hushållet i ålder 18-21 år)",null,null,null,null,null,null,"","",null,null,null,null,null,null,false]
[{"$f":"IF($T47=FALSE, \"\", MAX(A$4:A46)+1)","v":""},null,"ANTSOKBARN","Antal sökande/medsökande inkl. barn 0-17 år","Antal sökande/medsökande inkl. barn 0-17",null,null,null,null,null,null,"","",null,null,null,null,null,null,false]
[{"$f":"IF($T48=FALSE, \"\", MAX(A$4:A47)+1)","v":""},null,"EKBBELOPP","Ekonomiskt bistånd","Ekonomiskt bistånd",null,null,null,null,null,null,"","",null,null,null,null,null,null,false]
[{"$f":"IF($T49=FALSE, \"\", MAX(A$4:A48)+1)","v":""},null,"ELSKULDBELOPP","Belopp för livsföring i övrigt, kategorin Elskuld","Utbetalt belopp i ekonomiskt bistånd för livsföringen i övrigt avseende elskuld.",null,null,null,null,null,null,"","",null,null,null,null,null,null,false]
[{"$f":"IF($T50=FALSE, \"\", MAX(A$4:A49)+1)","v":""},null,"ELSKULDIND","Utbetalning finns för livsföring i övrigt, kategorin elskuld, för månader","Ekonomiskt bistånd för livsföringen i övrigt avseende elskuld.",null,null,null,null,null,null,"","",null,null,null,null,null,null,false]
[{"$f":"IF($T51=FALSE, \"\", MAX(A$4:A50)+1)","v":""},null,"FLYKTHH","Flyktinghushåll","Anger om någon av Sökande 1 och Sökande 2 är flykting",null,null,null,null,null,null,"","",null,null,null,null,null,null,false]
[{"$f":"IF($T52=FALSE, \"\", MAX(A$4:A51)+1)","v":""},null,"FSTODBELOPP","Försörjningsstöd (Inkl. Tillfälligt boende), belopp för månaden.","Totalt utbetalt belopp för försörjningsstöd för månaden.",null,null,null,null,null,null,"","",null,null,null,null,null,null,false]
[{"$f":"IF($T53=FALSE, \"\", MAX(A$4:A52)+1)","v":""},null,"FSTODBOENDEBELOPP","Försörjningstödsbelopp för tillfälligt boende för månaden. Därav belopp av försörjningsstöd.","Utbetalt belopp för tillfälligt boende för månaden.Därav belopp av försörjningsstöd för månaden.",null,null,null,null,null,null,"","",null,null,null,null,null,null,false]
[{"$f":"IF($T54=FALSE, \"\", MAX(A$4:A53)+1)","v":""},null,"HID","HushållsID","HushållsID, används för matchning av hushåll",null,null,null,null,null,null,"","",null,null,null,null,null,null,false]
[{"$f":"IF($T55=FALSE, \"\", MAX(A$4:A54)+1)","v":""},null,"HSBELOPP","Belopp för livsföring i övrigt, kategorin, hälso- och sjukvård för månaden.","Utbetalt belopp i ekonomiskt bistånd för livsföringen i övrigt avseende hälso och sjukvård för månaden.",null,null,null,null,null,null,"","",null,null,null,null,null,null,false]
[{"$f":"IF($T56=FALSE, \"\", MAX(A$4:A55)+1)","v":""},null,"HSIND","Utbetalning finns för livsföring i övrigt, kategorin hälso- och sjukvård, för månaden","Finns utbetalning för ekonomiskt bistånd för livsföringen i övrigt avseende hälso och sjukvård i resp. månad.",null,null,null,null,null,null,"","",null,null,null,null,null,null,false]
[{"$f":"IF($T57=FALSE, \"\", MAX(A$4:A56)+1)","v":""},null,"HTYP","Hushållstyp","Typ av hushåll: Ensamstående man eller kvinna med eller utan barn, gifta/sambos med eller utan barn, barnhushåll",null,null,null,null,null,null,"","",null,null,null,null,null,null,false]
[{"$f":"IF($T58=FALSE, \"\", MAX(A$4:A57)+1)","v":""},null,"HYRESSKULDBELOPP","Belopp för livsföring i övrigt, kategorin, hyresskuld för månaden","Utbetalt belopp i ekonomiskt bistånd för livsföringen i övrigt avseende hyresskulder för månaden.",null,null,null,null,null,null,"","",null,null,null,null,null,null,false]
[{"$f":"IF($T59=FALSE, \"\", MAX(A$4:A58)+1)","v":""},null,"HYRESSKULDIND","Utbetalning finns för livsföring i övrigt, kategorin hyresskuld, för månaden","Finns utbetalning för ekonomiskt bistånd för livsföringen i övrigt aveende hyresskuld resp. månad.",null,null,null,null,null,null,"","",null,null,null,null,null,null,false]
[{"$f":"IF($T60=FALSE, \"\", MAX(A$4:A59)+1)","v":""},null,"INSALDST01","Den äldste sökande/medsökandes insats, Arbetsförberedande insatser","Den äldste sökande/medsökandes insats, Arbetsförberedande insatser",null,null,null,null,null,null,"","",null,null,null,null,null,null,false]
[{"$f":"IF($T61=FALSE, \"\", MAX(A$4:A60)+1)","v":""},null,"INSALDST02","Den äldste sökande/medsökandes insats, Arbetspraktik","Den äldste sökande/medsökandes insats, Arbetspraktik",null,null,null,null,null,null,"","",null,null,null,null,null,null,false]
[{"$f":"IF($T62=FALSE, \"\", MAX(A$4:A61)+1)","v":""},null,"INSALDST03","Den äldste sökande/medsökandes insats, Jobbsökaraktivitet","Den äldste sökande/medsökandes insats, Jobbsökaraktivitet",null,null,null,null,null,null,"","",null,null,null,null,null,null,false]
[{"$f":"IF($T63=FALSE, \"\", MAX(A$4:A62)+1)","v":""},null,"INSALDST04","Den äldste sökande/medsökandes insats, Kurs","Den äldste sökande/medsökandes insats, Kurs",null,null,null,null,null,null,"","",null,null,null,null,null,null,false]
[{"$f":"IF($T64=FALSE, \"\", MAX(A$4:A63)+1)","v":""},null,"INSALDST05","Den äldste sökande/medsökandes insats, Studie- och yrkesvägledning","Den äldste sökande/medsökandes insats, Studie- och yrkesvägledning",null,null,null,null,null,null,"","",null,null,null,null,null,null,false]
[{"$f":"IF($T65=FALSE, \"\", MAX(A$4:A64)+1)","v":""},null,"INSALDST06","Den äldste sökande/medsökandes insats, Övriga kommunala arbetsmarknadsinsatser","Den äldste sökande/medsökandes insats, Övriga kommunala arbetsmarknadsinsatser",null,null,null,null,null,null,"","",null,null,null,null,null,null,false]
[{"$f":"IF($T66=FALSE, \"\", MAX(A$4:A65)+1)","v":""},null,"INSALDST07","Den äldste sökande/medsökandes insats, Ej aktuellt med kommunala arbetsmarknadsinsatser","Den äldste sökande/medsökandes insats, Ej aktuellt med kommunala arbetsmarknadsinsatser",null,null,null,null,null,null,"","",null,null,null,null,null,null,false]
[{"$f":"IF($T67=FALSE, \"\", MAX(A$4:A66)+1)","v":""},null,"INSYNGST01","Den yngste sökande/medsökandes insats, Arbetsförberedande insatser","Den yngste sökande/medsökandes insats, Arbetsförberedande insatser",null,null,null,null,null,null,"","",null,null,null,null,null,null,false]
[{"$f":"IF($T68=FALSE, \"\", MAX(A$4:A67)+1)","v":""},null,"INSYNGST02","Den yngste sökande/medsökandes insats, Arbetspraktik","Den yngste sökande/medsökandes insats, Arbetspraktik",null,null,null,null,null,null,{"$f":"IFERROR(INDEX(C$4:C$84,MATCH(ROW()-ROW(L$3),$A$4:$A$84,0)),\"\")","v":""},{"$f":"IFERROR(INDEX(D$4:D$84,MATCH(ROW()-ROW(M$3),$A$4:$A$84,0)),\"\")","v":""},null,null,null,null,null,null,false]
[{"$f":"IF($T69=FALSE, \"\", MAX(A$4:A68)+1)","v":""},null,"INSYNGST03","Den yngste sökande/medsökandes insats, Jobbsökaraktivitet","Den yngste sökande/medsökandes insats, Jobbsökaraktivitet",null,null,null,null,null,null,"","",null,null,null,null,null,null,false]
[{"$f":"IF($T70=FALSE, \"\", MAX(A$4:A69)+1)","v":""},null,"INSYNGST04","Den yngste sökande/medsökandes insats, Kurs","Den yngste sökande/medsökandes insats, Kurs",null,null,null,null,null,null,"","",null,null,null,null,null,null,false]
[{"$f":"IF($T71=FALSE, \"\", MAX(A$4:A70)+1)","v":""},null,"INSYNGST05","Den yngste sökande/medsökandes insats, Studie- och yrkesvägledning","Den yngste sökande/medsökandes insats, Studie- och yrkesvägledning",null,null,null,null,null,null,"","",null,null,null,null,null,null,false]
[{"$f":"IF($T72=FALSE, \"\", MAX(A$4:A71)+1)","v":""},null,"INSYNGST06","Den yngste sökande/medsökandes insats, Övriga kommunala arbetsmarknadsinsatser","Den yngste sökande/medsökandes insats, Övriga kommunala arbetsmarknadsinsatser",null,null,null,null,null,null,"","",null,null,null,null,null,null,false]
[{"$f":"IF($T73=FALSE, \"\", MAX(A$4:A72)+1)","v":""},null,"INSYNGST07","Den yngste sökande/medsökandes insats, Ej aktuellt med kommunala arbetsmarknadsinsatser","Den yngste sökande/medsökandes insats, Ej aktuellt med kommunala arbetsmarknadsinsatser",null,null,null,null,null,null,"","",null,null,null,null,null,null,false]
[{"$f":"IF($T74=FALSE, \"\", MAX(A$4:A73)+1)","v":""},null,"LIVSFBELOPP","Utbet. Belopp för livsföringen i övrigt för månaden.","Totalt utbetalt belopp för livsföringen i övrigt för månaden. Summering av delkategorierna.",null,null,null,null,null,null,"","",null,null,null,null,null,null,false]
[{"$f":"IF($T75=FALSE, \"\", MAX(A$4:A74)+1)","v":""},null,"LIVSFX","Utbetalningar finns för någon delkategori av livsföringen i övrigt utan specificerade belopp för månaden.\n","Indikator=1 för någon delkategori av variablerna för livsföringen i övrigt utan att dess tillhörande belopp är större än 0 någon månad. Detta kallas då att det är en kryssmarkering.",null,null,null,null,null,null,"","",null,null,null,null,null,null,false]
[{"$f":"IF($T76=FALSE, \"\", MAX(A$4:A75)+1)","v":""},null,"OVRIGSKULDBELOPP","Belopp för livsföring i övrigt, kategorin, övrig skuld för månaden.","Utbetalt belopp i ekonomiskt bistånd för livsföringen i övrigt avseende övriga skulder i månaden.",null,null,null,null,null,null,"","",null,null,null,null,null,null,false]
[{"$f":"IF($T77=FALSE, \"\", MAX(A$4:A76)+1)","v":""},null,"OVRIGSKULDIND","Utbetalning finns för livsföring i övrigt, kategorin övrig skuld, för månaden","Finns utbetalning för Ekonomiskt bistånd för livsföringen i övrigt avseende övrig skuld i resp. månad.",null,null,null,null,null,null,"","",null,null,null,null,null,null,false]
[{"$f":"IF($T78=FALSE, \"\", MAX(A$4:A77)+1)","v":""},null,"SOKALDSTALDER","Ålder äldste sökande/medsökande","Ålder äldste sökande/medsökande",null,null,null,null,null,null,"","",null,null,null,null,null,null,false]
[{"$f":"IF($T79=FALSE, \"\", MAX(A$4:A78)+1)","v":""},null,"SOKALDSTHINDER","Den äldste sökandes hinder för månaden.","Den äldste sökandes först registrerade försörjningshinder i månaden",null,null,null,null,null,null,"","",null,null,null,null,null,null,false]
[{"$f":"IF($T80=FALSE, \"\", MAX(A$4:A79)+1)","v":""},null,"SOKYNGSTALDER","Ålder yngste sökande/medsökande","Ålder yngste sökande/medsökande",null,null,null,null,null,null,"","",null,null,null,null,null,null,false]
[{"$f":"IF($T81=FALSE, \"\", MAX(A$4:A80)+1)","v":""},null,"SOKYNGSTHINDER","Den yngste sökandes hinder för månaden.","Den yngste sökandes först registrerade försörjningshinder i månaden.",null,null,null,null,null,null,"","",null,null,null,null,null,null,false]
[{"$f":"IF($T82=FALSE, \"\", MAX(A$4:A81)+1)","v":""},null,"TANDVBELOPP","Belopp för livsföring i övrigt, kategorin, tandvård i månaden.","Utbetalt belopp i ekonomiskt bistånd för livsföringen i övrigt avseende tandvård i månaden. ",null,null,null,null,null,null,"","",null,null,null,null,null,null,false]
[{"$f":"IF($T83=FALSE, \"\", MAX(A$4:A82)+1)","v":""},null,"TANDVIND","Utbetalning finns för livsföring i övrigt, kategorin tandvård, för månaden","Finns utbetalning för Finns utbetalning för ekonomiskt bistånd för livsföringen i övrigt avseende tandvård.",null,null,null,null,null,null,"","",null,null,null,null,null,null,false]
[{"$f":"IF($T84=FALSE, \"\", MAX(A$4:A83)+1)","v":""},null,"UTRFODHH","Utrikesfött hushåll","Anger om någon av Sökande 1 och ev. Sökande 2 är född utrikes.",null,null,null,null,null,null,"","",null,null,null,null,null,null,false]
[null,null,null,null,null,null,null,null,null,null,null,{"$f":"IFERROR(INDEX(C$4:C$86,MATCH(ROW()-ROW(#REF!),$A$4:$A$86,0)),\"\")","v":""},{"$f":"IFERROR(INDEX(D$4:D$296,MATCH(ROW()-ROW(#REF!),$A$4:$A$296,0)),\"\")","v":""},null,null,null,null,null,null,false]
[null,null,null,null,null,null,null,null,null,null,null,{"$f":"IFERROR(INDEX(C$4:C$86,MATCH(ROW()-ROW(#REF!),$A$4:$A$86,0)),\"\")","v":""},{"$f":"IFERROR(INDEX(D$4:D$296,MATCH(ROW()-ROW(#REF!),$A$4:$A$296,0)),\"\")","v":""},null,null,null,null,null,null,false]